Workbook
Name fhdata_Query: #REF!
Name PARKS_Query: #REF!
Name sum_data: #REF!
Name sum_data: #REF!

Sheet Annual Report
A1: 2013 Aerial Overview Summary for British Columbia
B2: Forest Regions | J2: Provincial
B3: South Coast | C3: West Coast | D3: Cariboo | E3: Thompson/ Okanagan | F3: Kootenay/ Boundary | G3: Skeena | H3: Omineca | I3: Northeast | J3: Total
A5: Bark Beetles
A6: IBM=Mountain Pine Beetle | B6: =Master!Y6 -> 4793.6548 | C6: =Master!BK6 -> 0.75 | D6: =Master!CK6 -> 2622.0327 | E6: =Master!DT6 -> 19250.797 | F6: =Master!FP6 -> 41997.131 | G6: =Master!HR6 -> 224696.43 | H6: =Master!IP6 -> 1275432.6 | I6: =Master!JN6 -> 1405142.6 | J6: =SUM(B6:I6) -> 2973936
A7: IBS=Spruce Beetle | B7: =Master!Y7 -> 896.88666 | C7: =Master!BK7 -> 91.446364 | D7: =Master!CK7 -> 4686.1716 | E7: =Master!DT7 -> 3010.5562 | F7: =Master!FP7 -> 2194.0576 | G7: =Master!HR7 -> 89.931931 | H7: =Master!IP7 -> 7653.434 | I7: =Master!JN7 -> 71.354637 | J7: =SUM(B7:I7) -> 18693.839
A8: IBB=Western Balsam Bark Beetle | B8: =Master!Y8 -> 13998.316 | C8: =Master!BK8 -> 8710.0818 | D8: =Master!CK8 -> 25898.178 | E8: =Master!DT8 -> 135532.73 | F8: =Master!FP8 -> 11293.641 | G8: =Master!HR8 -> 833002.7 | H8: =Master!IP8 -> 250613.62 | I8: =Master!JN8 -> 41524.353 | J8: =SUM(B8:I8) -> 1320573.6
A9: IBD=Douglas-fir Beetle | B9: =Master!Y9 -> 1360.45 | C9: =Master!BK9 -> 1550.5331 | D9: =Master!CK9 -> 2658.795 | E9: =Master!DT9 -> 1938.0913 | F9: =Master!FP9 -> 1713.6058 | G9: =Master!HR9 -> 527.45352 | H9: =Master!IP9 -> 610.60191 | I9: =Master!JN9 -> 0 | J9: =SUM(B9:I9) -> 10359.531
A10: IBF=Fir engraver beetle | B10: =Master!Y10 -> 0 | C10: =Master!BK10 -> 0 | D10: =Master!CK10 -> 0 | E10: =Master!DT10 -> 0 | F10: =Master!FP10 -> 0 | G10: =Master!HR10 -> 0 | H10: =Master!IP10 -> 0 | I10: =Master!JN10 -> 0 | J10: =SUM(B10:I10) -> 0
A11: IBP=Twig beetle | B11: =Master!Y11 -> 0 | C11: =Master!BK11 -> 0 | D11: =Master!CK11 -> 0 | E11: =Master!DT11 -> 0 | F11: =Master!FP11 -> 0 | G11: =Master!HR11 -> 0 | H11: =Master!IP11 -> 0 | I11: =Master!JN11 -> 0 | J11: =SUM(B11:I11) -> 0
A12: IBI=Engraver Beetle (Ips species) | B12: =Master!Y12 -> 0 | C12: =Master!BK12 -> 0 | D12: =Master!CK12 -> 23.52006 | E12: =Master!DT12 -> 4.4361969 | F12: =Master!FP12 -> 0 | G12: =Master!HR12 -> 0 | H12: =Master!IP12 -> 0 | I12: =Master!JN12 -> 0 | J12: =SUM(B12:I12) -> 27.956257
A13: IBW=Western Pine Beetle | B13: =Master!Y13 -> 0 | C13: =Master!BK13 -> 0 | D13: =Master!CK13 -> 0 | E13: =Master!DT13 -> 0 | F13: =Master!FP13 -> 0 | G13: =Master!HR13 -> 0 | H13: =Master!IP13 -> 0 | I13: =Master!JN13 -> 0 | J13: =SUM(B13:I13) -> 0
A14: IBL=Lodgepole Pine Beetle | B14: =Master!Y14 -> 0 | C14: =Master!BK14 -> 0 | D14: =Master!CK14 -> 0 | E14: =Master!DT14 -> 0 | F14: =Master!FP14 -> 0 | G14: =Master!HR14 -> 1.25 | H14: =Master!IP14 -> 0 | I14: =Master!JN14 -> 2.75 | J14: =SUM(B14:I14) -> 4
A15: IBT=Red Turpentine Beetle | B15: =Master!Y15 -> 0 | C15: =Master!BK15 -> 0 | D15: =Master!CK15 -> 0 | E15: =Master!DT15 -> 0 | F15: =Master!FP15 -> 0 | G15: =Master!HR15 -> 0 | H15: =Master!IP15 -> 0 | I15: =Master!JN15 -> 0 | J15: =SUM(B15:I15) -> 0
A16: I?B=Young pine mortality | B16: =Master!Y16 -> 0 | C16: =Master!BK16 -> 0 | D16: =Master!CK16 -> 0 | E16: =Master!DT16 -> 0 | F16: =Master!FP16 -> 0 | G16: =Master!HR16 -> 231.29071 | H16: =Master!IP16 -> 772.42405 | I16: =Master!JN16 -> 380.17601 | J16: =SUM(B16:I16) -> 1383.8908
A17: IWW=Warrens Root Collar Weevil | B17: =Master!Y17 -> 0 | C17: =Master!BK17 -> 0 | D17: =Master!CK17 -> 0 | E17: =Master!DT17 -> 0 | F17: =Master!FP17 -> 0 | G17: =Master!HR17 -> 0 | H17: =Master!IP17 -> 0 | I17: =Master!JN17 -> 0 | J17: =SUM(B17:I17) -> 0
A18: Total All BB= | B18: =Master!Y18 -> 21049.308 | C18: =Master!BK18 -> 10352.811 | D18: =Master!CK18 -> 35888.697 | E18: =Master!DT18 -> 159736.61 | F18: =Master!FP18 -> 57198.435 | G18: =Master!HR18 -> 1058549.1 | H18: =Master!IP18 -> 1535082.7 | I18: =Master!JN18 -> 1447121.2 | J18: =SUM(B18:I18) -> 4324978.8
A20: Defoliators
A21: ID=Defoliators | B21: =Master!Y21 -> 0 | C21: =Master!BK21 -> 0 | D21: =Master!CK21 -> 0 | E21: =Master!DT21 -> 0 | F21: =Master!FP21 -> 0 | G21: =Master!HR21 -> 8590.2016 | H21: =Master!IP21 -> 0 | I21: =Master!JN21 -> 0 | J21: =SUM(B21:I21) -> 8590.2016
A22: IAB=Balsam Woolly Adelgid | B22: =Master!Y22 -> 63.384451 | C22: =Master!BK22 -> 21.825857 | D22: =Master!CK22 -> 0 | E22: =Master!DT22 -> 0 | F22: =Master!FP22 -> 0 | G22: =Master!HR22 -> 0 | H22: =Master!IP22 -> 0 | I22: =Master!JN22 -> 0 | J22: =SUM(B22:I22) -> 85.210308
A23: IAS=Green Spruce Aphid | B23: =Master!Y23 -> 0 | C23: =Master!BK23 -> 0 | D23: =Master!CK23 -> 0 | E23: =Master!DT23 -> 0 | F23: =Master!FP23 -> 0 | G23: =Master!HR23 -> 0 | H23: =Master!IP23 -> 0 | I23: =Master!JN23 -> 0 | J23: =SUM(B23:I23) -> 0
A24: ID1=Leaf Beetles | B24: =Master!Y24 -> 0 | C24: =Master!BK24 -> 0 | D24: =Master!CK24 -> 0 | E24: =Master!DT24 -> 0 | F24: =Master!FP24 -> 49.9735 | G24: =Master!HR24 -> 0 | H24: =Master!IP24 -> 0 | I24: =Master!JN24 -> 0 | J24: =SUM(B24:I24) -> 49.9735
A25: ID2=Bruce spanworm | B25: =Master!Y25 -> 0 | C25: =Master!BK25 -> 0 | D25: =Master!CK25 -> 0 | E25: =Master!DT25 -> 0 | F25: =Master!FP25 -> 0 | G25: =Master!HR25 -> 0 | H25: =Master!IP25 -> 0 | I25: =Master!JN25 -> 0 | J25: =SUM(B25:I25) -> 0
A26: ID6=Aspen Leaf Miner | B26: =Master!Y26 -> 441.1115 | C26: =Master!BK26 -> 2028.5045 | D26: =Master!CK26 -> 49407.559 | E26: =Master!DT26 -> 54787.082 | F26: =Master!FP26 -> 10271.057 | G26: =Master!HR26 -> 1572645 | H26: =Master!IP26 -> 467574.63 | I26: =Master!JN26 -> 420547.76 | J26: =SUM(B26:I26) -> 2577702.7
A27: IDA=Black Army Cutworm | B27: =Master!Y27 -> 0 | C27: =Master!BK27 -> 0 | D27: =Master!CK27 -> 0 | E27: =Master!DT27 -> 0 | F27: =Master!FP27 -> 0 | G27: =Master!HR27 -> 0 | H27: =Master!IP27 -> 0 | I27: =Master!JN27 -> 0 | J27: =SUM(B27:I27) -> 0
A28: IDB=2-Year Budworm | B28: =Master!Y28 -> 0 | C28: =Master!BK28 -> 0 | D28: =Master!CK28 -> 71823.02 | E28: =Master!DT28 -> 1134.4598 | F28: =Master!FP28 -> 0 | G28: =Master!HR28 -> 0 | H28: =Master!IP28 -> 15802.986 | I28: =Master!JN28 -> 0 | J28: =SUM(B28:I28) -> 88760.466
A29: IDC=Larch casebearer | B29: =Master!Y29 -> 0 | C29: =Master!BK29 -> 0 | D29: =Master!CK29 -> 0 | E29: =Master!DT29 -> 0 | F29: =Master!FP29 -> 0 | G29: =Master!HR29 -> 0 | H29: =Master!IP29 -> 0 | I29: =Master!JN29 -> 0 | J29: =SUM(B29:I29) -> 0
A30: IDE=Spruce Budworm | B30: =Master!Y30 -> 0 | C30: =Master!BK30 -> 0 | D30: =Master!CK30 -> 0 | E30: =Master!DT30 -> 0 | F30: =Master!FP30 -> 0 | G30: =Master!HR30 -> 0 | H30: =Master!IP30 -> 0 | I30: =Master!JN30 -> 0 | J30: =SUM(B30:I30) -> 0
A31: IDF=Forest Tent Caterpillar | B31: =Master!Y31 -> 0 | C31: =Master!BK31 -> 6.9180696 | D31: =Master!CK31 -> 17569.39 | E31: =Master!DT31 -> 4723.725 | F31: =Master!FP31 -> 0 | G31: =Master!HR31 -> 0 | H31: =Master!IP31 -> 507863.18 | I31: =Master!JN31 -> 51746.905 | J31: =SUM(B31:I31) -> 581910.12
A32: IDH=Western Blackheaded Budworm | B32: =Master!Y32 -> 0 | C32: =Master!BK32 -> 30700.284 | D32: =Master!CK32 -> 0 | E32: =Master!DT32 -> 0 | F32: =Master!FP32 -> 0 | G32: =Master!HR32 -> 0 | H32: =Master!IP32 -> 0 | I32: =Master!JN32 -> 0 | J32: =SUM(B32:I32) -> 30700.284
... A47: Total Defoliators= | B47: =Master!Y47 -> 563.44066 | C47: =Master!BK47 -> 33791.99 | D47: =Master!CK47 -> 229866.22 | E47: =Master!DT47 -> 98133.233 | F47: =Master!FP47 -> 13696.147 | G47: =Master!HR47 -> 1581235.2 | H47: =Master!IP47 -> 991240.8 | I47: =Master!JN47 -> 474478.75 | J47: =SUM(B47:I47) -> 3423005.8
A49: Other
A50: N | B50: =Master!Y50 -> 0 | C50: =Master!BK50 -> 0 | D50: =Master!CK50 -> 0 | E50: =Master!DT50 -> 0 | F50: =Master!FP50 -> 48.162663 | G50: =Master!HR50 -> 0 | H50: =Master!IP50 -> 0 | I50: =Master!JN50 -> 0 | J50: =SUM(B50:I50) -> 48.162663
A51: NAV=Avalanche or snow slide | B51: =Master!Y51 -> 0.25 | C51: =Master!BK51 -> 112.13443 | D51: =Master!CK51 -> 4.3581057 | E51: =Master!DT51 -> 0 | F51: =Master!FP51 -> 0 | G51: =Master!HR51 -> 21.141283 | H51: =Master!IP51 -> 82.213801 | I51: =Master!JN51 -> 0 | J51: =SUM(B51:I51) -> 220.09762
A52: NB=Fire | B52: =Master!Y52 -> 239.82448 | C52: =Master!BK52 -> 565.88188 | D52: =Master!CK52 -> 2801.3621 | E52: =Master!DT52 -> 3372.0154 | F52: =Master!FP52 -> 883.79237 | G52: =Master!HR52 -> 7118.1384 | H52: =Master!IP52 -> 2101.6184 | I52: =Master!JN52 -> 10207.932 | J52: =SUM(B52:I52) -> 27290.565
A53: NBP=Post Fire | B53: =Master!Y53 -> 0 | C53: =Master!BK53 -> 131.98681 | D53: =Master!CK53 -> 5928.7268 | E53: =Master!DT53 -> 163.8422 | F53: =Master!FP53 -> 0 | G53: =Master!HR53 -> 5379.155 | H53: =Master!IP53 -> 1585.234 | I53: =Master!JN53 -> 1507.4472 | J53: =SUM(B53:I53) -> 14696.392
A54: NCA=Aspen decline | B54: =Master!Y54 -> 0 | C54: =Master!BK54 -> 0 | D54: =Master!CK54 -> 82.487306 | E54: =Master!DT54 -> 1867.3162 | F54: =Master!FP54 -> 0 | G54: =Master!HR54 -> 0 | H54: =Master!IP54 -> 0 | I54: =Master!JN54 -> 1329.4128 | J54: =SUM(B54:I54) -> 3279.2164
A55: NCB=Birch decline | B55: =Master!Y55 -> 0 | C55: =Master!BK55 -> 0 | D55: =Master!CK55 -> 0 | E55: =Master!DT55 -> 0 | F55: =Master!FP55 -> 0 | G55: =Master!HR55 -> 0 | H55: =Master!IP55 -> 0 | I55: =Master!JN55 -> 0 | J55: =SUM(B55:I55) -> 0
A56: NCF=Douglas-fir decline | B56: =Master!Y56 -> 0 | C56: =Master!BK56 -> 0 | D56: =Master!CK56 -> 0 | E56: =Master!DT56 -> 129.54536 | F56: =Master!FP56 -> 0 | G56: =Master!HR56 -> 0 | H56: =Master!IP56 -> 0 | I56: =Master!JN56 -> 0 | J56: =SUM(B56:I56) -> 129.54536
A57: NCY=Yellow cedar decline | B57: =Master!Y57 -> 0 | C57: =Master!BK57 -> 8059.2529 | D57: =Master!CK57 -> 0 | E57: =Master!DT57 -> 0 | F57: =Master!FP57 -> 0 | G57: =Master!HR57 -> 10607.587 | H57: =Master!IP57 -> 0 | I57: =Master!JN57 -> 0 | J57: =SUM(B57:I57) -> 18666.84
A58: ND=Drought | B58: =Master!Y58 -> 0 | C58: =Master!BK58 -> 0 | D58: =Master!CK58 -> 0 | E58: =Master!DT58 -> 0 | F58: =Master!FP58 -> 0 | G58: =Master!HR58 -> 0 | H58: =Master!IP58 -> 0 | I58: =Master!JN58 -> 181.81056 | J58: =SUM(B58:I58) -> 181.81056
A59: NF=Flooding | B59: =Master!Y59 -> 79.178742 | C59: =Master!BK59 -> 1403.2904 | D59: =Master!CK59 -> 2764.3082 | E59: =Master!DT59 -> 60.973283 | F59: =Master!FP59 -> 713.32424 | G59: =Master!HR59 -> 677.49865 | H59: =Master!IP59 -> 191.25616 | I59: =Master!JN59 -> 3253.4908 | J59: =SUM(B59:I59) -> 9143.3205
A60: NGK=Shoot/Bud Frost Kill | B60: =Master!Y60 -> 0 | C60: =Master!BK60 -> 0 | D60: =Master!CK60 -> 0 | E60: =Master!DT60 -> 0 | F60: =Master!FP60 -> 0 | G60: =Master!HR60 -> 0 | H60: =Master!IP60 -> 0 | I60: =Master!JN60 -> 0 | J60: =SUM(B60:I60) -> 0
A61: NH=Hail | B61: =Master!Y61 -> 0 | C61: =Master!BK61 -> 0 | D61: =Master!CK61 -> 0 | E61: =Master!DT61 -> 0 | F61: =Master!FP61 -> 0 | G61: =Master!HR61 -> 0 | H61: =Master!IP61 -> 0 | I61: =Master!JN61 -> 0 | J61: =SUM(B61:I61) -> 0
... A70: Total Abiotics= | B70: =Master!Y70 -> 346.93942 | C70: =Master!BK70 -> 13805.12 | D70: =Master!CK70 -> 11621.543 | E70: =Master!DT70 -> 5712.3939 | F70: =Master!FP70 -> 2249.5554 | G70: =Master!HR70 -> 24495.805 | H70: =Master!IP70 -> 4361.5667 | I70: =Master!JN70 -> 16969.448 | J70: =SUM(B70:I70) -> 79562.372
A72: Diseases
A73: DF=Diseases | B73: =Master!Y73 -> 0 | C73: =Master!BK73 -> 0 | D73: =Master!CK73 -> 0 | E73: =Master!DT73 -> 0 | F73: =Master!FP73 -> 0 | G73: =Master!HR73 -> 0 | H73: =Master!IP73 -> 0 | I73: =Master!JN73 -> 0 | J73: =SUM(B73:I73) -> 0
A74: DFB=Delphinella needle cast | B74: =Master!Y74 -> 0 | C74: =Master!BK74 -> 0 | D74: =Master!CK74 -> 0 | E74: =Master!DT74 -> 0 | F74: =Master!FP74 -> 0 | G74: =Master!HR74 -> 0 | H74: =Master!IP74 -> 0 | I74: =Master!JN74 -> 0 | J74: =SUM(B74:I74) -> 0
A75: DFC=Large-spored Spruce-labrador Tea Rust | B75: =Master!Y75 -> 0 | C75: =Master!BK75 -> 0 | D75: =Master!CK75 -> 0 | E75: =Master!DT75 -> 0 | F75: =Master!FP75 -> 0 | G75: =Master!HR75 -> 0 | H75: =Master!IP75 -> 0 | I75: =Master!JN75 -> 0 | J75: =SUM(B75:I75) -> 0
A76: DFH=Larch Needle Blight | B76: =Master!Y76 -> 0 | C76: =Master!BK76 -> 0 | D76: =Master!CK76 -> 0 | E76: =Master!DT76 -> 261.23901 | F76: =Master!FP76 -> 6042.869 | G76: =Master!HR76 -> 0 | H76: =Master!IP76 -> 0 | I76: =Master!JN76 -> 0 | J76: =SUM(B76:I76) -> 6304.108
A77: DFL=Lophodermella Needle Cast | B77: =Master!Y77 -> 0 | C77: =Master!BK77 -> 0 | D77: =Master!CK77 -> 0 | E77: =Master!DT77 -> 180.95781 | F77: =Master!FP77 -> 0 | G77: =Master!HR77 -> 0 | H77: =Master!IP77 -> 0 | I77: =Master!JN77 -> 0 | J77: =SUM(B77:I77) -> 180.95781
A78: DFG=Cottonwood Leaf Rust | B78: =Master!Y78 -> 0 | C78: =Master!BK78 -> 0 | D78: =Master!CK78 -> 0 | E78: =Master!DT78 -> 708.30498 | F78: =Master!FP78 -> 0 | G78: =Master!HR78 -> 0 | H78: =Master!IP78 -> 0 | I78: =Master!JN78 -> 0 | J78: =SUM(B78:I78) -> 708.30498
A79: DFM=Larch Needle Cast | B79: =Master!Y79 -> 0 | C79: =Master!BK79 -> 0 | D79: =Master!CK79 -> 0 | E79: =Master!DT79 -> 0 | F79: =Master!FP79 -> 0 | G79: =Master!HR79 -> 0 | H79: =Master!IP79 -> 0 | I79: =Master!JN79 -> 0 | J79: =SUM(B79:I79) -> 0
A80: DFO=Lophodermium Needle Cast | B80: =Master!Y80 -> 0 | C80: =Master!BK80 -> 0 | D80: =Master!CK80 -> 0 | E80: =Master!DT80 -> 62.0988 | F80: =Master!FP80 -> 0 | G80: =Master!HR80 -> 0 | H80: =Master!IP80 -> 0 | I80: =Master!JN80 -> 0 | J80: =SUM(B80:I80) -> 62.0988
A81: DFR-Douglas-fir Needle Cast | B81: =Master!Y81 -> 0 | C81: =Master!BK81 -> 0 | D81: =Master!CK81 -> 0 | E81: =Master!DT81 -> 0 | F81: =Master!FP81 -> 0 | G81: =Master!HR81 -> 0 | H81: =Master!IP81 -> 0 | I81: =Master!JN81 -> 0 | J81: =SUM(B81:I81) -> 0
A82: DFS=Dothistroma Needle Blight | B82: =Master!Y82 -> 0 | C82: =Master!BK82 -> 0 | D82: =Master!CK82 -> 0 | E82: =Master!DT82 -> 313.48063 | F82: =Master!FP82 -> 0 | G82: =Master!HR82 -> 67.513869 | H82: =Master!IP82 -> 0 | I82: =Master!JN82 -> 0 | J82: =SUM(B82:I82) -> 380.9945
A83: DFZ=Rhizosphaera Needle Cast | B83: =Master!Y83 -> 0 | C83: =Master!BK83 -> 0 | D83: =Master!CK83 -> 0 | E83: =Master!DT83 -> 0 | F83: =Master!FP83 -> 0 | G83: =Master!HR83 -> 0 | H83: =Master!IP83 -> 0 | I83: =Master!JN83 -> 0 | J83: =SUM(B83:I83) -> 0
A84: DL=Unknown Dieback | B84: =Master!Y84 -> 0 | C84: =Master!BK84 -> 0 | D84: =Master!CK84 -> 0 | E84: =Master!DT84 -> 0 | F84: =Master!FP84 -> 0 | G84: =Master!HR84 -> 0 | H84: =Master!IP84 -> 0 | I84: =Master!JN84 -> 0 | J84: =SUM(B84:I84) -> 0
... A94: Total Diseases= | B94: =Master!Y94 -> 644.71142 | C94: =Master!BK94 -> 3151.7492 | D94: =Master!CK94 -> 68.236995 | E94: =Master!DT94 -> 1560.0158 | F94: =Master!FP94 -> 6042.869 | G94: =Master!HR94 -> 389194.68 | H94: =Master!IP94 -> 8442.7 | I94: =Master!JN94 -> 439875.02 | J94: =SUM(B94:I94) -> 848979.98
A96: Animals
A97: A=Animals | B97: =Master!Y97 -> 0 | C97: =Master!BK97 -> 0 | D97: =Master!CK97 -> 0 | E97: =Master!DT97 -> 0 | F97: =Master!FP97 -> 0 | G97: =Master!HR97 -> 0 | H97: =Master!IP97 -> 0 | I97: =Master!JN97 -> 0 | J97: =SUM(B97:I97) -> 0
A98: AB=Bear | B98: =Master!Y98 -> 0.25 | C98: =Master!BK98 -> 14.790979 | D98: =Master!CK98 -> 3235.7467 | E98: =Master!DT98 -> 218.22527 | F98: =Master!FP98 -> 1514.4847 | G98: =Master!HR98 -> 0 | H98: =Master!IP98 -> 0 | I98: =Master!JN98 -> 0 | J98: =SUM(B98:I98) -> 4983.4977
A99: AD=Deer | B99: =Master!Y99 -> 0 | C99: =Master!BK99 -> 0 | D99: =Master!CK99 -> 0 | E99: =Master!DT99 -> 0 | F99: =Master!FP99 -> 0 | G99: =Master!HR99 -> 0 | H99: =Master!IP99 -> 0 | I99: =Master!JN99 -> 0 | J99: =SUM(B99:I99) -> 0
A100: AH=Hare | B100: =Master!Y100 -> 0 | C100: =Master!BK100 -> 0 | D100: =Master!CK100 -> 0 | E100: =Master!DT100 -> 0 | F100: =Master!FP100 -> 0 | G100: =Master!HR100 -> 210.57811 | H100: =Master!IP100 -> 0 | I100: =Master!JN100 -> 0 | J100: =SUM(B100:I100) -> 210.57811
A101: AP=Porcupine | B101: =Master!Y101 -> 0 | C101: =Master!BK101 -> 0 | D101: =Master!CK101 -> 0 | E101: =Master!DT101 -> 0 | F101: =Master!FP101 -> 0 | G101: =Master!HR101 -> 0 | H101: =Master!IP101 -> 0 | I101: =Master!JN101 -> 0 | J101: =SUM(B101:I101) -> 0
A102: Total Animals= | B102: =Master!Y102 -> 0.25 | C102: =Master!BK102 -> 14.790979 | D102: =Master!CK102 -> 3235.7467 | E102: =Master!DT102 -> 218.22527 | F102: =Master!FP102 -> 1514.4847 | G102: =Master!HR102 -> 210.57811 | H102: =Master!IP102 -> 0 | I102: =Master!JN102 -> 0 | J102: =SUM(B102:I102) -> 5194.0758
A104: Total Other= | B104: =Master!Y104 -> 991.90084 | C104: =Master!BK104 -> 16971.66 | D104: =Master!CK104 -> 14925.527 | E104: =Master!DT104 -> 7490.635 | F104: =Master!FP104 -> 9806.9091 | G104: =Master!HR104 -> 413901.06 | H104: =Master!IP104 -> 12804.267 | I104: =Master!JN104 -> 456844.47 | J104: =SUM(B104:I104) -> 933736.43
A106: Total = | B106: =Master!Y106 -> 22604.649 | C106: =Master!BK106 -> 61116.461 | D106: =Master!CK106 -> 280680.44 | E106: =Master!DT106 -> 265360.47 | F106: =Master!FP106 -> 80701.491 | G106: =Master!HR106 -> 3053685.3 | H106: =Master!IP106 -> 2539127.7 | I106: =Master!JN106 -> 2378444.4 | J106: =Master!$JV$106 -> 8682578.8

Sheet Master
A1: 2013Aerial Overview Summary for British Columbia by TSA's
A2: Regions | B2: South Coast Forest Region | Z2: West Coast Forest Region | BL2: Cariboo Forest Region | CL2: Thompson Okanagan Forest Region | DU2: Kootenay/Boundary Forest Region | FQ2: Skeena Forest Region | HS2: Omineca Forest Region | IQ2: Northeast Forest Region
A3: TSA's | B3: Fraser | C3: (TFR) | H3: Soo | I3: (TSO) | N3: Sunshine Coast | P3: (TSC) | T3: SOUTH COAST FOREST REGION TOTAL | Z3: Arrowsmith | AB3: (TAS) | AF3: Kingcome | AG3: (TKC) | AL3: Mid Coast | AM3: (TMC) | AR3: Haida Gwaii | AT3: (THG) | AY3: Strathcona | AZ3: (TST) | BE3: WEST COAST FOREST REGION TOTAL | BL3: 100 Mile House | BN3: (TMH) | BR3: Quesnel | BS3: (TQU) | BX3: Williams Lake | BY3: (TWL) | CE3: CARIBOO FOREST REGION TOTAL | CL3: Kamloops | CM3: (TKA) | CS3: Lillooet | CT3: (TLI) | CZ3: Merritt | DA3: (TME) | DG3: Okanagan | DH3: (TOK) | DN3: THOMPSON/OKANAGAN FOREST REGION TOTAL | DU3: Arrow | DV3: (TAR) | EA3: Boundary | EB3: (TBO) | EG3: Cranbrook | EH3: (TCB) | EM3: Golden | EN3: (TGO) | ES3: Invermere | ET3: (TIN) | EY3: Kootenay Lake | EZ3: (TKL) | FE3: Revelstoke | FF3: (TRE) | FK3: KOOTENAY/BOUNDRY FOREST REGION | FQ3: Bulkley | FR3: (TBU) | FW3: Cassiar | FX3: (TCA) | GC3: Kalum | GD3: (TKM) | GI3: Kispiox | GJ3: (TKI) | GO3: Lakes | GP3: (TLA) | GU3: Morice | GV3: (TMO) | HA3: Nass | HB3: (TNA) | HG3: North Coast | HH3: (TNC) | HM3: SKEENA FOREST REGION | HS3: MacKenzie | HT3: (TMK) | HY3: Robson Valley | IA3: (TRV) | IE3: Prince George | IG3: (TPG) | IK3: OMINECA FOREST REGION | IQ3: Dawson Creek | IS3: (TDC) | IW3: Fort Nelson | IX3: (TFN) | JC3: Fort St. John | JE3: (TJO) | JI3: NORTHEAST FOREST REGION | JP3: GRAND TOTAL
B4: Trace | C4: Light | D4: Moderate | E4: Severe | F4: Very Sev | G4: Total | H4: Trace | I4: Light | J4: Moderate | K4: Severe | L4: Very Sev | M4: Total | N4: Trace | O4: Light | P4: Moderate | Q4: Severe | R4: Very Sev | S4: Total | T4: Trace | U4: Light | V4: Moderate | W4: Severe | X4: Ver Sev | Y4: Total | Z4: Trace | AA4: Light | AB4: Moderate | AC4: Severe | AD4: Very Sev | AE4: Total | AF4: Trace | AG4: Light | AH4: Moderate | AI4: Severe | AJ4: Very Sev | AK4: Total | AL4: Trace | AM4: Light | AN4: Moderate | AO4: Severe | AP4: Very Sev | AQ4: Total | AR4: Trace | AS4: Light | AT4: Moderate | AU4: Severe | AV4: Very Sev | AW4: Grey | AX4: Total | AY4: Trace | AZ4: Light | BA4: Moderate | BB4: Severe | BC4: Very Sev | BD4: Total | BE4: Trace | BF4: Light | BG4: Moderate | BH4: Severe | BI4: Ver Sev | BJ4: Grey | BK4: Total | BL4: Trace | BM4: Light | BN4: Moderate | BO4: Severe | BP4: Very Sev | BQ4: Total | BR4: Trace | BS4: Light | BT4: Moderate | BU4: Severe | BV4: Very Sev | BW4: Total | BX4: Trace | BY4: Light | BZ4: Moderate | CA4: Severe | CB4: Very Sev | CC4: Grey | CD4: Total | CE4: Trace | CF4: Light | CG4: Moderate | CH4: Severe | CI4: Ver Sev | CJ4: Grey | CK4: Total | CL4: Trace | CM4: Light | CN4: Moderate | CO4: Severe | CP4: Very Sev | CQ4: Grey | CR4: Total | CS4: Trace | CT4: Light | CU4: Moderate | CV4: Severe | CW4: Very Sev | CX4: Grey | CY4: Total | CZ4: Trace | DA4: Light | DB4: Moderate | DC4: Severe | DD4: Very Sev | DE4: Grey | DF4: Total | DG4: Trace | DH4: Light | DI4: Moderate | DJ4: Severe | DK4: Very Sev | DL4: Grey | DM4: Total | DN4: Trace | DO4: Light | DP4: Moderate | DQ4: Severe | DR4: Ver Sev | DS4: Grey | DT4: Total | DU4: Trace | DV4: Light | DW4: Moderate | DX4: Severe | DY4: Very Sev | DZ4: Total | EA4: Trace | EB4: Light | EC4: Moderate | ED4: Severe | EE4: Very Sev | EF4: Total | EG4: Trace | EH4: Light | EI4: Moderate | EJ4: Severe | EK4: Very Sev | EL4: Total | EM4: Trace | EN4: Light | EO4: Moderate | EP4: Severe | EQ4: Very Sev | ER4: Total | ES4: Trace | ET4: Light | EU4: Moderate | EV4: Severe | EW4: Very Sev | EX4: Total | EY4: Trace | EZ4: Light | FA4: Moderate | FB4: Severe | FC4: Very Sev | FD4: Total | FE4: Trace | FF4: Light | FG4: Moderate | FH4: Severe | FI4: Very Sev | FJ4: Total | FK4: Trace | FL4: Light | FM4: Moderate | FN4: Severe | FO4: Very Sev | FP4: TOTAL | FQ4: Trace | FR4: Light | FS4: Moderate | FT4: Severe | FU4: Very Sev | FV4: Total | FW4: Trace | FX4: Light | FY4: Moderate | FZ4: Severe | GA4: Very Sev | GB4: Total | GC4: Trace | GD4: Light | GE4: Moderate | GF4: Severe | GG4: Very Sev | GH4: Total | GI4: Trace | GJ4: Light | GK4: Moderate | GL4: Severe | GM4: Very Sev | GN4: Total | GO4: Trace | GP4: Light | GQ4: Moderate | GR4: Severe | GS4: Very Sev | GT4: Total | GU4: Trace | GV4: Light | GW4: Moderate | GX4: Severe | GY4: Very Sev | GZ4: Total | HA4: Trace | HB4: Light | HC4: Moderate | HD4: Severe | HE4: Very Sev | HF4: Total | HG4: Trace | HH4: Light | HI4: Moderate | HJ4: Severe | HK4: Very Sev | HL4: Total | HM4: Trace | HN4: Light | HO4: Moderate | HP4: Severe | HQ4: Very Sev | HR4: TOTAL | HS4: Trace | HT4: Light | HU4: Moderate | HV4: Severe | HW4: Very Sev | HX4: Total | HY4: Trace | HZ4: Light | IA4: Moderate | IB4: Severe | IC4: Very Sev | ID4: Total | IE4: Trace | IF4: Light | IG4: Moderate | IH4: Severe | II4: Very Sev | IJ4: Total | IK4: Trace | IL4: Light | IM4: Moderate | IN4: Severe | IO4: Very Sev | IP4: TOTAL | IQ4: Trace | IR4: Light | IS4: Moderate | IT4: Severe | IU4: Very Sev | IV4: Total | IW4: Trace | IX4: Light | IY4: Moderate | IZ4: Severe | JA4: Very Sev | JB4: Total | JC4: Trace | JD4: Light | JE4: Moderate | JF4: Severe | JG4: Very Sev | JH4: Total | JI4: Trace | JJ4: Light | JK4: Moderate | JL4: Severe | JM4: Very Sev | JN4: TOTAL | JP4: Trace | JQ4: Light | JR4: Moderate | JS4: Severe | JT4: Very Sev | JU4: Grey | JV4: TOTAL
A5: Bark Beetles
A6: IBM=Mountain Pine Beetle | B6: 4028.9799 | C6: 32.699686 | D6: 17.7975 | E6: 11.561401 | G6: =SUM(B6:F6) -> 4091.0385 | H6: 382.04131 | I6: 273.29792 | J6: 21.777092 | K6: 25 | M6: =SUM(H6:L6) -> 702.11631 | Q6: 0.5 | S6: =SUM(N6:R6) -> 0.5 | T6: =SUM(B6,H6,N6) -> 4411.0212 | U6: =SUM(C6,I6,O6) -> 305.9976 | V6: =SUM(D6,J6,P6) -> 39.574593 | W6: =SUM(E6,K6,Q6) -> 37.061401 | X6: =SUM(F6,L6,R6) -> 0 | Y6: =SUM(T6:X6) -> 4793.6548 | AC6: 0.5 | AE6: =SUM(Z6:AD6) -> 0.5 | AK6: =SUM(AF6:AJ6) -> 0 | AQ6: =SUM(AL6:AP6) -> 0 | AX6: =SUM(AR6:AW6) -> 0 | BB6: 0.25 | BD6: =SUM(AY6:BC6) -> 0.25 | BE6: =SUM(Z6,AF6,AL6,AR6,AY6) -> 0 | BF6: =SUM(AA6,AG6,AM6,AS6,AZ6) -> 0 | BG6: =SUM(AB6,AH6,AN6,AT6,BA6) -> 0 | BH6: =SUM(AC6,AI6,AO6,AU6,BB6) -> 0.75 | BI6: =SUM(AD6,AJ6,AP6,AV6,BC6) -> 0 | BJ6: =SUM(AW6) -> 0 | BK6: =SUM(BE6:BJ6) -> 0.75 | BO6: 0.5 | BQ6: =SUM(BL6:BP6) -> 0.5 | BU6: 1 | BW6: =SUM(BR6:BV6) -> 1 | BX6: 1898.1217 | BY6: 621.39995 | BZ6: 46.011044 | CA6: 55 | CD6: =SUM(BX6:CC6) -> 2620.5327 | CE6: =SUM(BL6,BR6,BX6) -> 1898.1217 | CF6: =SUM(BM6,BS6,BY6) -> 621.39995 | CG6: =SUM(BN6,BT6,BZ6) -> 46.011044 | CH6: =SUM(BO6,BU6,CA6) -> 56.5 | CI6: =SUM(BP6,BV6,CB6) -> 0 | CJ6: =SUM(CC6) -> 0 | CK6: =SUM(CE6:CJ6) -> 2622.0327 | CL6: 58.221661 | CM6: 8.4372176 | CO6: 3.75 | CR6: =SUM(CL6:CQ6) -> 70.408879 | CS6: 1494.1222 | CT6: 2936.119 | CU6: 421.09531 | CV6: 61 | CY6: =SUM(CS6:CX6) -> 4912.3365 | CZ6: 2133.1315 | DA6: 1344.9917 | DB6: 38.342467 | DC6: 30.25 | DF6: =SUM(CZ6:DE6) -> 3546.7157 | DG6: 1200.2457 | DH6: 8810.0074 | DI6: 571.56548 | DJ6: 139.51782 | DM6: =SUM(DG6:DL6) -> 10721.336 | DN6: =SUM(CL6,CS6,CZ6,DG6) -> 4885.721 | DO6: =SUM(CM6,CT6,DA6,DH6) -> 13099.555 | DP6: =SUM(CN6,CU6,DB6,DI6) -> 1031.0033 | DQ6: =SUM(CO6,CV6,DC6,DJ6) -> 234.51782 | DR6: =SUM(CP6,CW6,DD6,DK6) -> 0 | DS6: =SUM(CQ6,CX6,DE6,DL6) -> 0 | DT6: =SUM(DN6:DS6) -> 19250.797 | DU6: 438.43087 | DV6: 293.90637 | DW6: 96.206834 | DX6: 81.797223 | DZ6: =SUM(DU6:DY6) -> 910.3413 | EA6: 7981.8711 | EB6: 9627.506 | EC6: 3165.5771 | ED6: 673.602 | EF6: =SUM(EA6:EE6) -> 21448.556 | EG6: 1456.4366 | EH6: 814.78704 | EI6: 166.2978 | EJ6: 145.16892 | EL6: =SUM(EG6:EK6) -> 2582.6904 | EM6: 1572.857 | EN6: 1120.8595 | EO6: 366.92838 | EP6: 22.904378 | ER6: =SUM(EM6:EQ6) -> 3083.5493 | ES6: 4668.7931 | ET6: 3643.0017 | EU6: 1375.7794 | EV6: 316.32171 | EX6: =SUM(ES6:EW6) -> 10003.896 | EY6: 1424.2767 | EZ6: 1593.3938 | FA6: 605.90566 | FB6: 190.59635 | FD6: =SUM(EY6:FC6) -> 3814.1725 | FE6: 18.791918 | FG6: 132.13307 | FH6: 3 | FJ6: =SUM(FE6:FI6) -> 153.92499 | FK6: =SUM(DU6,EA6,EG6,EM6,ES6,EY6,FE6) -> 17561.457 | FL6: =SUM(DV6,EB6,EH6,EN6,ET6,EZ6,FF6) -> 17093.454 | FM6: =SUM(DW6,EC6,EI6,EO6,EU6,FA6,FG6) -> 5908.8282 | FN6: =SUM(DX6,ED6,EJ6,EP6,EV6,FB6,FH6) -> 1433.3906 | FO6: =SUM(DY6,EE6,EK6,EQ6,EW6,FC6,FI6) -> 0 | FP6: =SUM(FK6:FO6) -> 41997.131 | FQ6: 71468.186 | FR6: 17599.281 | FS6: 7520.1959 | FT6: 1745.6992 | FV6: =SUM(FQ6:FU6) -> 98333.362 | FW6: 1339.9643 | FX6: 117.77878 | FZ6: 62.698079 | GB6: =SUM(FW6:GA6) -> 1520.4411 | GC6: 150.39487 | GD6: 3882.2629 | GF6: 1.25 | GH6: =SUM(GC6:GG6) -> 4033.9078 | GI6: 11151.627 | GJ6: 3745.3833 | GK6: 151.07872 | GL6: 31.310604 | GN6: =SUM(GI6:GM6) -> 15079.4 | GO6: 3742.5401 | GR6: 1 | GT6: =SUM(GO6:GS6) -> 3743.5401 | GU6: 87456.909 | GV6: 14315.067 | GW6: 106.3767 | GX6: 14.25 | GZ6: =SUM(GU6:GY6) -> 101892.6 | HA6: 93.175533 | HF6: =SUM(HA6:HE6) -> 93.175533 | HL6: =SUM(HG6:HK6) -> 0 | HM6: =SUM(FQ6,FW6,GC6,GI6,GO6,GU6,HA6,HG6) -> 175402.8 | HN6: =SUM(FR6,FX6,GD6,GJ6,GP6,GV6,HB6,HH6) -> 39659.773 | HO6: =SUM(HI6,HC6,GW6,GQ6,GK6,GE6,FY6,FS6) -> 7777.6513 | HP6: =SUM(HJ6,HD6,GX6,GR6,GL6,GF6,FZ6,FT6) -> 1856.2079 | HQ6: =SUM(HK6,HE6,GY6,GS6,GM6,GG6,GA6,FU6) -> 0 | HR6: =SUM(HM6:HQ6) -> 224696.43 | HS6: 634188.44 | HT6: 188415.53 | HU6: 129425.95 | HV6: 8071.6086 | HX6: =SUM(HS6:HW6) -> 960101.52 | HY6: 9378.6439 | HZ6: 8177.2082 | IA6: 2788.7391 | IB6: 861.6895 | ID6: =SUM(HY6:IC6) -> 21206.281 | IE6: 233795.13 | IF6: 47309.406 | IG6: 12148.173 | IH6: 872.07176 | IJ6: =SUM(IE6:II6) -> 294124.78 | IK6: =SUM(HS6,HY6,IE6) -> 877362.2 | IL6: =SUM(HT6,HZ6,IF6) -> 243902.14 | IM6: =SUM(HU6,IA6,IG6) -> 144362.86 | IN6: =SUM(HV6,IB6,IH6) -> 9805.3699 | IO6: =SUM(HW6,IC6,II6) -> 0 | IP6: =SUM(IK6:IO6) -> 1275432.6 | IQ6: 156302.45 | IR6: 36461.878 | IS6: 3513.1857 | IT6: 421.08086 | IV6: =SUM(IQ6:IU6) -> 196698.6 | IW6: 111579.96 | IX6: 75614.7 | IY6: 32791.408 | IZ6: 2647.1524 | JA6: 19.55202 | JB6: =SUM(IW6:JA6) -> 222652.78 | JC6: 324846.47 | JD6: 440774.03 | JE6: 187659.35 | JF6: 31872.896 | JG6: 638.47154 | JH6: =SUM(JC6:JG6) -> 985791.21 | JI6: =SUM(IQ6,IW6,JC6) -> 592728.88 | JJ6: =SUM(IR6,IX6,JD6) -> 552850.61 | JK6: =SUM(IS6,IY6,JE6) -> 223963.94 | JL6: =SUM(IT6,IZ6,JF6) -> 34941.129 | JM6: =SUM(IU6,JA6,JG6) -> 658.02356 | JN6: =SUM(JI6:JM6) -> 1405142.6 | JP6: =SUM(T6,BE6,CE6,DN6,FK6,HM6,IK6,JI6) -> 1674250.2 | JQ6: =SUM(U6,BF6,CF6,DO6,FL6,HN6,IL6,JJ6) -> 867532.93 | JR6: =SUM(V6,BG6,CG6,DP6,FM6,HO6,IM6,JK6) -> 383129.87 | JS6: =SUM(W6,BH6,CH6,DQ6,FN6,HP6,IN6,JL6) -> 48364.926 | JT6: =SUM(X6,BI6,CI6,DR6,FO6,HQ6,IO6,JM6) -> 658.02356 | JU6: =SUM(DS6,BJ6,CJ6) -> 0 | JV6: =SUM(JP6:JU6) -> 2973936
A7: IBS=Spruce Beetle | B7: 164.37453 | C7: 712.14626 | E7: 2.5 | G7: =SUM(B7:F7) -> 879.02078 | I7: 17.115875 | K7: 0.75 | M7: =SUM(H7:L7) -> 17.865875 | S7: =SUM(N7:R7) -> 0 | T7: =SUM(B7,H7,N7) -> 164.37453 | U7: =SUM(C7,I7,O7) -> 729.26213 | V7: =SUM(D7,J7,P7) -> 0 | W7: =SUM(E7,K7,Q7) -> 3.25 | X7: =SUM(F7,L7,R7) -> 0 | Y7: =SUM(T7:X7) -> 896.88666 | AA7: 46.022318 | AC7: 0.75 | AE7: =SUM(Z7:AD7) -> 46.772318 | AI7: 1.25 | AK7: =SUM(AF7:AJ7) -> 1.25 | AL7: 36.127733 | AM7: 6.046314 | AO7: 1.25 | AQ7: =SUM(AL7:AP7) -> 43.424047 | AX7: =SUM(AR7:AW7) -> 0 | BD7: =SUM(AY7:BC7) -> 0 | BE7: =SUM(Z7,AF7,AL7,AR7,AY7) -> 36.127733 | BF7: =SUM(AA7,AG7,AM7,AS7,AZ7) -> 52.068632 | BG7: =SUM(AB7,AH7,AN7,AT7,BA7) -> 0 | BH7: =SUM(AC7,AI7,AO7,AU7,BB7) -> 3.25 | BI7: =SUM(AD7,AJ7,AP7,AV7,BC7) -> 0 | BJ7: =SUM(AW7) -> 0 | BK7: =SUM(BE7:BJ7) -> 91.446364 | BL7: 139.61861 | BM7: 147.13674 | BN7: 129.46898 | BO7: 0.5 | BQ7: =SUM(BL7:BP7) -> 416.72434 | BR7: 132.41178 | BS7: 37.754919 | BU7: 0.25 | BW7: =SUM(BR7:BV7) -> 170.4167 | BX7: 380.41787 | BY7: 2303.8193 | BZ7: 991.52525 | CA7: 423.26819 | CD7: =SUM(BX7:CC7) -> 4099.0306 | CE7: =SUM(BL7,BR7,BX7) -> 652.44826 | CF7: =SUM(BM7,BS7,BY7) -> 2488.7109 | CG7: =SUM(BN7,BT7,BZ7) -> 1120.9942 | CH7: =SUM(BO7,BU7,CA7) -> 424.01819 | CI7: =SUM(BP7,BV7,CB7) -> 0 | CJ7: =SUM(CC7) -> 0 | CK7: =SUM(CE7:CJ7) -> 4686.1716 | CM7: 1124.73 | CN7: 370.2868 | CO7: 7.193857 | CR7: =SUM(CL7:CQ7) -> 1502.2106 | CT7: 83.95143 | CU7: 205.98243 | CV7: 0.25 | CY7: =SUM(CS7:CX7) -> 290.18386 | DA7: 346.56527 | DB7: 501.20197 | DC7: 20.734041 | DF7: =SUM(CZ7:DE7) -> 868.50128 | DH7: 118.58618 | DI7: 230.82428 | DJ7: 0.25 | DM7: =SUM(DG7:DL7) -> 349.66046 | DN7: =SUM(CL7,CS7,CZ7,DG7) -> 0 | DO7: =SUM(CM7,CT7,DA7,DH7) -> 1673.8328 | DP7: =SUM(CN7,CU7,DB7,DI7) -> 1308.2955 | DQ7: =SUM(CO7,CV7,DC7,DJ7) -> 28.427898 | DR7: =SUM(CP7,CW7,DD7,DK7) -> 0 | DS7: =SUM(CQ7,CX7,DE7,DL7) -> 0 | DT7: =SUM(DN7:DS7) -> 3010.5562 | DZ7: =SUM(DU7:DY7) -> 0 | EF7: =SUM(EA7:EE7) -> 0 | EJ7: 0.25 | EL7: =SUM(EG7:EK7) -> 0.25 | EM7: 11.69806 | EO7: 51.640589 | EP7: 0.25 | ER7: =SUM(EM7:EQ7) -> 63.588649 | ES7: 37.537573 | ET7: 124.16862 | EU7: 1762.1586 | EV7: 206.35415 | EX7: =SUM(ES7:EW7) -> 2130.2189 | FD7: =SUM(EY7:FC7) -> 0 | FJ7: =SUM(FE7:FI7) -> 0 | FK7: =SUM(DU7,EA7,EG7,EM7,ES7,EY7,FE7) -> 49.235633 | FL7: =SUM(DV7,EB7,EH7,EN7,ET7,EZ7,FF7) -> 124.16862 | FM7: =SUM(DW7,EC7,EI7,EO7,EU7,FA7,FG7) -> 1813.7992 | FN7: =SUM(DX7,ED7,EJ7,EP7,EV7,FB7,FH7) -> 206.85415 | FO7: =SUM(DY7,EE7,EK7,EQ7,EW7,FC7,FI7) -> 0 | FP7: =SUM(FK7:FO7) -> 2194.0576 | FV7: =SUM(FQ7:FU7) -> 0 | FZ7: 2.75 | GB7: =SUM(FW7:GA7) -> 2.75 | GF7: 0.5 | GH7: =SUM(GC7:GG7) -> 0.5 | GJ7: 19.573077 | GN7: =SUM(GI7:GM7) -> 19.573077 | GO7: 44.210366 | GR7: 21.398488 | GT7: =SUM(GO7:GS7) -> 65.608854 | GX7: 1 | GZ7: =SUM(GU7:GY7) -> 1 | HD7: 0.5 | HF7: =SUM(HA7:HE7) -> 0.5 | HL7: =SUM(HG7:HK7) -> 0 | HM7: =SUM(FQ7,FW7,GC7,GI7,GO7,GU7,HA7,HG7) -> 44.210366 | HN7: =SUM(FR7,FX7,GD7,GJ7,GP7,GV7,HB7,HH7) -> 19.573077 | HO7: =SUM(HI7,HC7,GW7,GQ7,GK7,GE7,FY7,FS7) -> 0 | HP7: =SUM(HJ7,HD7,GX7,GR7,GL7,GF7,FZ7,FT7) -> 26.148488 | HQ7: =SUM(HK7,HE7,GY7,GS7,GM7,GG7,GA7,FU7) -> 0 | HR7: =SUM(HM7:HQ7) -> 89.931931 | HX7: =SUM(HS7:HW7) -> 0 | HY7: 103.82535 | HZ7: 76.184179 | IA7: 264.64575 | IB7: 0.75 | ID7: =SUM(HY7:IC7) -> 445.40528 | IE7: 7182.8488 | IF7: 22.929989 | IH7: 2.25 | IJ7: =SUM(IE7:II7) -> 7208.0288 | IK7: =SUM(HS7,HY7,IE7) -> 7286.6741 | IL7: =SUM(HT7,HZ7,IF7) -> 99.114168 | IM7: =SUM(HU7,IA7,IG7) -> 264.64575 | IN7: =SUM(HV7,IB7,IH7) -> 3 | IO7: =SUM(HW7,IC7,II7) -> 0 | IP7: =SUM(IK7:IO7) -> 7653.434 | IQ7: 68.854637 | IT7: 2.25 | IV7: =SUM(IQ7:IU7) -> 71.104637 | IZ7: 0.25 | JB7: =SUM(IW7:JA7) -> 0.25 | JH7: =SUM(JC7:JG7) -> 0 | JI7: =SUM(IQ7,IW7,JC7) -> 68.854637 | JJ7: =SUM(IR7,IX7,JD7) -> 0 | JK7: =SUM(IS7,IY7,JE7) -> 0 | JL7: =SUM(IT7,IZ7,JF7) -> 2.5 | JM7: =SUM(IU7,JA7,JG7) -> 0 | JN7: =SUM(JI7:JM7) -> 71.354637 | JP7: =SUM(T7,BE7,CE7,DN7,FK7,HM7,IK7,JI7) -> 8301.9253 | JQ7: =SUM(U7,BF7,CF7,DO7,FL7,HN7,IL7,JJ7) -> 5186.7304 | JR7: =SUM(V7,BG7,CG7,DP7,FM7,HO7,IM7,JK7) -> 4507.7346 | JS7: =SUM(W7,BH7,CH7,DQ7,FN7,HP7,IN7,JL7) -> 697.44873 | JT7: =SUM(X7,BI7,CI7,DR7,FO7,HQ7,IO7,JM7) -> 0 | JU7: =SUM(DS7,BJ7,CJ7) -> 0 | JV7: =SUM(JP7:JU7) -> 18693.839
A8: IBB=Western Balsam Bark Beetle | B8: 12955.269 | C8: 522.04408 | E8: 29.5 | G8: =SUM(B8:F8) -> 13506.813 | H8: 309.40724 | I8: 95.09143 | K8: 29.5 | M8: =SUM(H8:L8) -> 433.99867 | O8: 50.754576 | Q8: 6.75 | S8: =SUM(N8:R8) -> 57.504576 | T8: =SUM(B8,H8,N8) -> 13264.676 | U8: =SUM(C8,I8,O8) -> 667.89008 | V8: =SUM(D8,J8,P8) -> 0 | W8: =SUM(E8,K8,Q8) -> 65.75 | X8: =SUM(F8,L8,R8) -> 0 | Y8: =SUM(T8:X8) -> 13998.316 | AE8: =SUM(Z8:AD8) -> 0 | AF8: 219.98771 | AI8: 4.25 | AK8: =SUM(AF8:AJ8) -> 224.23771 | AL8: 8350.2404 | AM8: 131.1037 | AO8: 1.75 | AQ8: =SUM(AL8:AP8) -> 8483.0941 | AX8: =SUM(AR8:AW8) -> 0 | BB8: 2.75 | BD8: =SUM(AY8:BC8) -> 2.75 | BE8: =SUM(Z8,AF8,AL8,AR8,AY8) -> 8570.2281 | BF8: =SUM(AA8,AG8,AM8,AS8,AZ8) -> 131.1037 | BG8: =SUM(AB8,AH8,AN8,AT8,BA8) -> 0 | BH8: =SUM(AC8,AI8,AO8,AU8,BB8) -> 8.75 | BI8: =SUM(AD8,AJ8,AP8,AV8,BC8) -> 0 | BJ8: =SUM(AW8) -> 0 | BK8: =SUM(BE8:BJ8) -> 8710.0818 | BL8: 1802.3544 | BM8: 112.4849 | BO8: 3.25 | BQ8: =SUM(BL8:BP8) -> 1918.0893 | BR8: 4005.3572 | BS8: 937.43093 | BU8: 1 | BW8: =SUM(BR8:BV8) -> 4943.7882 | BX8: 13813.276 | BY8: 5218.2744 | CA8: 4.75 | CD8: =SUM(BX8:CC8) -> 19036.3 | CE8: =SUM(BL8,BR8,BX8) -> 19620.988 | CF8: =SUM(BM8,BS8,BY8) -> 6268.1903 | CG8: =SUM(BN8,BT8,BZ8) -> 0 | CH8: =SUM(BO8,BU8,CA8) -> 9 | CI8: =SUM(BP8,BV8,CB8) -> 0 | CJ8: =SUM(CC8) -> 0 | CK8: =SUM(CE8:CJ8) -> 25898.178 | CL8: 71417.302 | CM8: 365.63074 | CR8: =SUM(CL8:CQ8) -> 71782.933 | CS8: 2538.6445 | CT8: 86.77233 | CY8: =SUM(CS8:CX8) -> 2625.4169 | CZ8: 10309.565 | DA8: 42.223168 | DC8: 1.25 | DF8: =SUM(CZ8:DE8) -> 10353.038 | DG8: 50771.338 | DM8: =SUM(DG8:DL8) -> 50771.338 | DN8: =SUM(CL8,CS8,CZ8,DG8) -> 135036.85 | DO8: =SUM(CM8,CT8,DA8,DH8) -> 494.62624 | DP8: =SUM(CN8,CU8,DB8,DI8) -> 0 | DQ8: =SUM(CO8,CV8,DC8,DJ8) -> 1.25 | DR8: =SUM(CP8,CW8,DD8,DK8) -> 0 | DS8: =SUM(CQ8,CX8,DE8,DL8) -> 0 | DT8: =SUM(DN8:DS8) -> 135532.73 | DU8: 1398.6562 | DV8: 103.83575 | DW8: 12.516958 | DX8: 4.5 | DZ8: =SUM(DU8:DY8) -> 1519.5089 | EA8: 1032.8649 | EF8: =SUM(EA8:EE8) -> 1032.8649 | EG8: 965.93288 | EH8: 403.29591 | EJ8: 4.25 | EL8: =SUM(EG8:EK8) -> 1373.4788 | EM8: 2072.5433 | EN8: 505.30388 | EO8: 52.886945 | EP8: 3.25 | ER8: =SUM(EM8:EQ8) -> 2633.9841 | ES8: 3577.054 | ET8: 438.4511 | EU8: 5.0210369 | EV8: 4.25 | EX8: =SUM(ES8:EW8) -> 4024.7761 | EY8: 444.23667 | EZ8: 21.90351 | FB8: 7.25 | FD8: =SUM(EY8:FC8) -> 473.39018 | FE8: 233.13793 | FH8: 2.5 | FJ8: =SUM(FE8:FI8) -> 235.63793 | FK8: =SUM(DU8,EA8,EG8,EM8,ES8,EY8,FE8) -> 9724.4258 | FL8: =SUM(DV8,EB8,EH8,EN8,ET8,EZ8,FF8) -> 1472.7902 | FM8: =SUM(DW8,EC8,EI8,EO8,EU8,FA8,FG8) -> 70.42494 | FN8: =SUM(DX8,ED8,EJ8,EP8,EV8,FB8,FH8) -> 26 | FO8: =SUM(DY8,EE8,EK8,EQ8,EW8,FC8,FI8) -> 0 | FP8: =SUM(FK8:FO8) -> 11293.641 | FQ8: 196534.69 | FR8: 169.21939 | FS8: 196.83311 | FT8: 3 | FV8: =SUM(FQ8:FU8) -> 196903.74 | FW8: 132152.46 | FX8: 3510.8566 | FY8: 193.51573 | FZ8: 53.136871 | GB8: =SUM(FW8:GA8) -> 135909.97 | GC8: 7750.093 | GF8: 0.5 | GH8: =SUM(GC8:GG8) -> 7750.593 | GI8: 172580.48 | GJ8: 133.33588 | GL8: 9.75 | GN8: =SUM(GI8:GM8) -> 172723.56 | GO8: 72418.902 | GP8: 2706.9455 | GR8: 28.706523 | GT8: =SUM(GO8:GS8) -> 75154.554 | GU8: 183584.32 | GV8: 1535.1854 | GW8: 90.106675 | GX8: 15.5 | GZ8: =SUM(GU8:GY8) -> 185225.11 | HA8: 59087.516 | HB8: 208.28144 | HC8: 28.373545 | HD8: 11 | HF8: =SUM(HA8:HE8) -> 59335.171 | HL8: =SUM(HG8:HK8) -> 0 | HM8: =SUM(FQ8,FW8,GC8,GI8,GO8,GU8,HA8,HG8) -> 824108.46 | HN8: =SUM(FR8,FX8,GD8,GJ8,GP8,GV8,HB8,HH8) -> 8263.8242 | HO8: =SUM(HI8,HC8,GW8,GQ8,GK8,GE8,FY8,FS8) -> 508.82905 | HP8: =SUM(HJ8,HD8,GX8,GR8,GL8,GF8,FZ8,FT8) -> 121.59339 | HQ8: =SUM(HK8,HE8,GY8,GS8,GM8,GG8,GA8,FU8) -> 0 | HR8: =SUM(HM8:HQ8) -> 833002.7 | HS8: 108746.75 | HT8: 1858.625 | HU8: 449.62008 | HV8: 81.25 | HX8: =SUM(HS8:HW8) -> 111136.24 | HY8: 7134.4573 | HZ8: 438.75844 | IA8: 11.653441 | IB8: 6 | ID8: =SUM(HY8:IC8) -> 7590.8692 | IE8: 129820.87 | IF8: 1928.6437 | IH8: 137 | IJ8: =SUM(IE8:II8) -> 131886.51 | IK8: =SUM(HS8,HY8,IE8) -> 245702.07 | IL8: =SUM(HT8,HZ8,IF8) -> 4226.0271 | IM8: =SUM(HU8,IA8,IG8) -> 461.27352 | IN8: =SUM(HV8,IB8,IH8) -> 224.25 | IO8: =SUM(HW8,IC8,II8) -> 0 | IP8: =SUM(IK8:IO8) -> 250613.62 | IQ8: 13194.053 | IT8: 32.5 | IV8: =SUM(IQ8:IU8) -> 13226.553 | IW8: 24541.459 | IX8: 56.686328 | IZ8: 88.5 | JB8: =SUM(IW8:JA8) -> 24686.645 | JC8: 3607.4047 | JF8: 3.75 | JH8: =SUM(JC8:JG8) -> 3611.1547 | JI8: =SUM(IQ8,IW8,JC8) -> 41342.917 | JJ8: =SUM(IR8,IX8,JD8) -> 56.686328 | JK8: =SUM(IS8,IY8,JE8) -> 0 | JL8: =SUM(IT8,IZ8,JF8) -> 124.75 | JM8: =SUM(IU8,JA8,JG8) -> 0 | JN8: =SUM(JI8:JM8) -> 41524.353 | JP8: =SUM(T8,BE8,CE8,DN8,FK8,HM8,IK8,JI8) -> 1297370.6 | JQ8: =SUM(U8,BF8,CF8,DO8,FL8,HN8,IL8,JJ8) -> 21581.138 | JR8: =SUM(V8,BG8,CG8,DP8,FM8,HO8,IM8,JK8) -> 1040.5275 | JS8: =SUM(W8,BH8,CH8,DQ8,FN8,HP8,IN8,JL8) -> 581.34339 | JT8: =SUM(X8,BI8,CI8,DR8,FO8,HQ8,IO8,JM8) -> 0 | JU8: =SUM(DS8,BJ8,CJ8) -> 0 | JV8: =SUM(JP8:JU8) -> 1320573.6
A9: IBD=Douglas-fir Beetle | B9: 144.18363 | C9: 152.8419 | D9: 64.874829 | E9: 69.25 | G9: =SUM(B9:F9) -> 431.15035 | H9: 17.964337 | I9: 14.231243 | J9: 26.739631 | K9: 17.75 | M9: =SUM(H9:L9) -> 76.685212 | N9: 334.41344 | O9: 453.79524 | P9: 18.405781 | Q9: 46 | S9: =SUM(N9:R9) -> 852.61446 | T9: =SUM(B9,H9,N9) -> 496.56141 | U9: =SUM(C9,I9,O9) -> 620.86838 | V9: =SUM(D9,J9,P9) -> 110.02024 | W9: =SUM(E9,K9,Q9) -> 133 | X9: =SUM(F9,L9,R9) -> 0 | Y9: =SUM(T9:X9) -> 1360.45 | Z9: 77.85074 | AA9: 319.81553 | AB9: 351.22965 | AC9: 37 | AE9: =SUM(Z9:AD9) -> 785.89592 | AF9: 379.19356 | AG9: 68.56245 | AH9: 68.252431 | AI9: 63.673219 | AK9: =SUM(AF9:AJ9) -> 579.68166 | AM9: 29.290089 | AO9: 9.75 | AQ9: =SUM(AL9:AP9) -> 39.040089 | AX9: =SUM(AR9:AW9) -> 0 | AY9: 35.348861 | AZ9: 24.609314 | BA9: 60.20722 | BB9: 25.75 | BD9: =SUM(AY9:BC9) -> 145.91539 | BE9: =SUM(Z9,AF9,AL9,AR9,AY9) -> 492.39316 | BF9: =SUM(AA9,AG9,AM9,AS9,AZ9) -> 442.27738 | BG9: =SUM(AB9,AH9,AN9,AT9,BA9) -> 479.6893 | BH9: =SUM(AC9,AI9,AO9,AU9,BB9) -> 136.17322 | BI9: =SUM(AD9,AJ9,AP9,AV9,BC9) -> 0 | BJ9: =SUM(AW9) -> 0 | BK9: =SUM(BE9:BJ9) -> 1550.5331 | BL9: 157.19669 | BM9: 122.2315 | BN9: 7.0300746 | BO9: 25.209542 | BQ9: =SUM(BL9:BP9) -> 311.6678 | BR9: 43.246844 | BS9: 109.02024 | BT9: 7.2238596 | BU9: 5.75 | BW9: =SUM(BR9:BV9) -> 165.24094 | BX9: 876.19639 | BY9: 939.09697 | BZ9: 209.42774 | CA9: 157.16518 | CD9: =SUM(BX9:CC9) -> 2181.8863 | CE9: =SUM(BL9,BR9,BX9) -> 1076.6399 | CF9: =SUM(BM9,BS9,BY9) -> 1170.3487 | CG9: =SUM(BN9,BT9,BZ9) -> 223.68167 | CH9: =SUM(BO9,BU9,CA9) -> 188.12472 | CI9: =SUM(BP9,BV9,CB9) -> 0 | CJ9: =SUM(CC9) -> 0 | CK9: =SUM(CE9:CJ9) -> 2658.795 | CM9: 78.576553 | CN9: 82.184551 | CO9: 137.89685 | CR9: =SUM(CL9:CQ9) -> 298.65796 | CT9: 233.6837 | CU9: 185.71801 | CV9: 109.0214 | CY9: =SUM(CS9:CX9) -> 528.42311 | DA9: 45.879495 | DB9: 5.3347053 | DC9: 41.103893 | DF9: =SUM(CZ9:DE9) -> 92.318094 | DH9: 590.0126 | DI9: 285.52115 | DJ9: 143.15839 | DM9: =SUM(DG9:DL9) -> 1018.6921 | DN9: =SUM(CL9,CS9,CZ9,DG9) -> 0 | DO9: =SUM(CM9,CT9,DA9,DH9) -> 948.15235 | DP9: =SUM(CN9,CU9,DB9,DI9) -> 558.75841 | DQ9: =SUM(CO9,CV9,DC9,DJ9) -> 431.18053 | DR9: =SUM(CP9,CW9,DD9,DK9) -> 0 | DS9: =SUM(CQ9,CX9,DE9,DL9) -> 0 | DT9: =SUM(DN9:DS9) -> 1938.0913 | DU9: 128.08741 | DV9: 158.48857 | DW9: 89.712779 | DX9: 114.36706 | DZ9: =SUM(DU9:DY9) -> 490.65582 | EB9: 12.504373 | ED9: 8.5 | EF9: =SUM(EA9:EE9) -> 21.004373 | EG9: 56.401834 | EH9: 89.731599 | EJ9: 31.735793 | EL9: =SUM(EG9:EK9) -> 177.86923 | EM9: 164.2905 | EO9: 26.833781 | EP9: 4.5 | ER9: =SUM(EM9:EQ9) -> 195.62428 | ES9: 6.1967571 | ET9: 308.77271 | EU9: 174.46919 | EV9: 17.25 | EX9: =SUM(ES9:EW9) -> 506.68865 | EZ9: 213.63491 | FA9: 6.4800448 | FB9: 18.5 | FD9: =SUM(EY9:FC9) -> 238.61496 | FE9: 7.5958679 | FF9: 41.815549 | FG9: 27.737075 | FH9: 6 | FJ9: =SUM(FE9:FI9) -> 83.148492 | FK9: =SUM(DU9,EA9,EG9,EM9,ES9,EY9,FE9) -> 362.57236 | FL9: =SUM(DV9,EB9,EH9,EN9,ET9,EZ9,FF9) -> 824.94771 | FM9: =SUM(DW9,EC9,EI9,EO9,EU9,FA9,FG9) -> 325.23287 | FN9: =SUM(DX9,ED9,EJ9,EP9,EV9,FB9,FH9) -> 200.85285 | FO9: =SUM(DY9,EE9,EK9,EQ9,EW9,FC9,FI9) -> 0 | FP9: =SUM(FK9:FO9) -> 1713.6058 | FV9: =SUM(FQ9:FU9) -> 0 | GB9: =SUM(FW9:GA9) -> 0 | GH9: =SUM(GC9:GG9) -> 0 | GN9: =SUM(GI9:GM9) -> 0 | GP9: 527.45352 | GT9: =SUM(GO9:GS9) -> 527.45352 | GZ9: =SUM(GU9:GY9) -> 0 | HF9: =SUM(HA9:HE9) -> 0 | HL9: =SUM(HG9:HK9) -> 0 | HM9: =SUM(FQ9,FW9,GC9,GI9,GO9,GU9,HA9,HG9) -> 0 | HN9: =SUM(FR9,FX9,GD9,GJ9,GP9,GV9,HB9,HH9) -> 527.45352 | HO9: =SUM(HI9,HC9,GW9,GQ9,GK9,GE9,FY9,FS9) -> 0 | HP9: =SUM(HJ9,HD9,GX9,GR9,GL9,GF9,FZ9,FT9) -> 0 | HQ9: =SUM(HK9,HE9,GY9,GS9,GM9,GG9,GA9,FU9) -> 0 | HR9: =SUM(HM9:HQ9) -> 527.45352 | HX9: =SUM(HS9:HW9) -> 0 | ID9: =SUM(HY9:IC9) -> 0 | IE9: 163.04366 | IF9: 248.33919 | IG9: 14.380338 | IH9: 184.83872 | IJ9: =SUM(IE9:II9) -> 610.60191 | IK9: =SUM(HS9,HY9,IE9) -> 163.04366 | IL9: =SUM(HT9,HZ9,IF9) -> 248.33919 | IM9: =SUM(HU9,IA9,IG9) -> 14.380338 | IN9: =SUM(HV9,IB9,IH9) -> 184.83872 | IO9: =SUM(HW9,IC9,II9) -> 0 | IP9: =SUM(IK9:IO9) -> 610.60191 | IV9: =SUM(IQ9:IU9) -> 0 | JB9: =SUM(IW9:JA9) -> 0 | JH9: =SUM(JC9:JG9) -> 0 | JI9: =SUM(IQ9,IW9,JC9) -> 0 | JJ9: =SUM(IR9,IX9,JD9) -> 0 | JK9: =SUM(IS9,IY9,JE9) -> 0 | JL9: =SUM(IT9,IZ9,JF9) -> 0 | JM9: =SUM(IU9,JA9,JG9) -> 0 | JN9: =SUM(JI9:JM9) -> 0 | JP9: =SUM(T9,BE9,CE9,DN9,FK9,HM9,IK9,JI9) -> 2591.2105 | JQ9: =SUM(U9,BF9,CF9,DO9,FL9,HN9,IL9,JJ9) -> 4782.3872 | JR9: =SUM(V9,BG9,CG9,DP9,FM9,HO9,IM9,JK9) -> 1711.7628 | JS9: =SUM(W9,BH9,CH9,DQ9,FN9,HP9,IN9,JL9) -> 1274.17 | JT9: =SUM(X9,BI9,CI9,DR9,FO9,HQ9,IO9,JM9) -> 0 | JU9: =SUM(DS9,BJ9,CJ9) -> 0 | JV9: =SUM(JP9:JU9) -> 10359.531
A10: IBF = Fir engraver Beetle | G10: =SUM(B10:F10) -> 0 | M10: =SUM(H10:L10) -> 0 | S10: =SUM(N10:R10) -> 0 | T10: =SUM(B10,H10,N10) -> 0 | U10: =SUM(C10,I10,O10) -> 0 | V10: =SUM(D10,J10,P10) -> 0 | W10: =SUM(E10,K10,Q10) -> 0 | X10: =SUM(F10,L10,R10) -> 0 | Y10: =SUM(T10:X10) -> 0 | AE10: =SUM(Z10:AD10) -> 0 | AK10: =SUM(AF10:AJ10) -> 0 | AQ10: =SUM(AL10:AP10) -> 0 | AX10: =SUM(AR10:AW10) -> 0 | BD10: =SUM(AY10:BC10) -> 0 | BE10: =SUM(Z10,AF10,AL10,AR10,AY10) -> 0 | BF10: =SUM(AA10,AG10,AM10,AS10,AZ10) -> 0 | BG10: =SUM(AB10,AH10,AN10,AT10,BA10) -> 0 | BH10: =SUM(AC10,AI10,AO10,AU10,BB10) -> 0 | BI10: =SUM(AD10,AJ10,AP10,AV10,BC10) -> 0 | BJ10: =SUM(AW10) -> 0 | BK10: =SUM(BE10:BJ10) -> 0 | BQ10: =SUM(BL10:BP10) -> 0 | BW10: =SUM(BR10:BV10) -> 0 | CD10: =SUM(BX10:CC10) -> 0 | CE10: =SUM(BL10,BR10,BX10) -> 0 | CF10: =SUM(BM10,BS10,BY10) -> 0 | CG10: =SUM(BN10,BT10,BZ10) -> 0 | CH10: =SUM(BO10,BU10,CA10) -> 0 | CI10: =SUM(BP10,BV10,CB10) -> 0 | CJ10: =SUM(CC10) -> 0 | CK10: =SUM(CE10:CJ10) -> 0 | CR10: =SUM(CL10:CQ10) -> 0 | CY10: =SUM(CS10:CX10) -> 0 | DF10: =SUM(CZ10:DE10) -> 0 | DM10: =SUM(DG10:DL10) -> 0 | DN10: =SUM(CL10,CS10,CZ10,DG10) -> 0 | DO10: =SUM(CM10,CT10,DA10,DH10) -> 0 | DP10: =SUM(CN10,CU10,DB10,DI10) -> 0 | DQ10: =SUM(CO10,CV10,DC10,DJ10) -> 0 | DR10: =SUM(CP10,CW10,DD10,DK10) -> 0 | DS10: =SUM(CQ10,CX10,DE10,DL10) -> 0 | DT10: =SUM(DN10:DS10) -> 0 | DZ10: =SUM(DU10:DY10) -> 0 | EF10: =SUM(EA10:EE10) -> 0 | EL10: =SUM(EG10:EK10) -> 0 | ER10: =SUM(EM10:EQ10) -> 0 | EX10: =SUM(ES10:EW10) -> 0 | FD10: =SUM(EY10:FC10) -> 0 | FJ10: =SUM(FE10:FI10) -> 0 | FK10: =SUM(DU10,EA10,EG10,EM10,ES10,EY10,FE10) -> 0 | FL10: =SUM(DV10,EB10,EH10,EN10,ET10,EZ10,FF10) -> 0 | FM10: =SUM(DW10,EC10,EI10,EO10,EU10,FA10,FG10) -> 0 | FN10: =SUM(DX10,ED10,EJ10,EP10,EV10,FB10,FH10) -> 0 | FO10: =SUM(DY10,EE10,EK10,EQ10,EW10,FC10,FI10) -> 0 | FP10: =SUM(FK10:FO10) -> 0 | FV10: =SUM(FQ10:FU10) -> 0 | GB10: =SUM(FW10:GA10) -> 0 | GH10: =SUM(GC10:GG10) -> 0 | GN10: =SUM(GI10:GM10) -> 0 | GT10: =SUM(GO10:GS10) -> 0 | GZ10: =SUM(GU10:GY10) -> 0 | HF10: =SUM(HA10:HE10) -> 0 | HL10: =SUM(HG10:HK10) -> 0 | HM10: =SUM(FQ10,FW10,GC10,GI10,GO10,GU10,HA10,HG10) -> 0 | HN10: =SUM(FR10,FX10,GD10,GJ10,GP10,GV10,HB10,HH10) -> 0 | HO10: =SUM(HI10,HC10,GW10,GQ10,GK10,GE10,FY10,FS10) -> 0 | HP10: =SUM(HJ10,HD10,GX10,GR10,GL10,GF10,FZ10,FT10) -> 0 | HQ10: =SUM(HK10,HE10,GY10,GS10,GM10,GG10,GA10,FU10) -> 0 | HR10: =SUM(HM10:HQ10) -> 0 | HX10: =SUM(HS10:HW10) -> 0 | ID10: =SUM(HY10:IC10) -> 0 | IJ10: =SUM(IE10:II10) -> 0 | IK10: =SUM(HS10,HY10,IE10) -> 0 | IL10: =SUM(HT10,HZ10,IF10) -> 0 | IM10: =SUM(HU10,IA10,IG10) -> 0 | IN10: =SUM(HV10,IB10,IH10) -> 0 | IO10: =SUM(HW10,IC10,II10) -> 0 | IP10: =SUM(IK10:IO10) -> 0 | IV10: =SUM(IQ10:IU10) -> 0 | JB10: =SUM(IW10:JA10) -> 0 | JH10: =SUM(JC10:JG10) -> 0 | JI10: =SUM(IQ10,IW10,JC10) -> 0 | JJ10: =SUM(IR10,IX10,JD10) -> 0 | JK10: =SUM(IS10,IY10,JE10) -> 0 | JL10: =SUM(IT10,IZ10,JF10) -> 0 | JM10: =SUM(IU10,JA10,JG10) -> 0 | JN10: =SUM(JI10:JM10) -> 0 | JP10: =SUM(T10,BE10,CE10,DN10,FK10,HM10,IK10,JI10) -> 0 | JQ10: =SUM(U10,BF10,CF10,DO10,FL10,HN10,IL10,JJ10) -> 0 | JR10: =SUM(V10,BG10,CG10,DP10,FM10,HO10,IM10,JK10) -> 0 | JS10: =SUM(W10,BH10,CH10,DQ10,FN10,HP10,IN10,JL10) -> 0 | JT10: =SUM(X10,BI10,CI10,DR10,FO10,HQ10,IO10,JM10) -> 0 | JU10: =SUM(DS10,BJ10,CJ10) -> 0 | JV10: =SUM(JP10:JU10) -> 0
A11: IBP = Twig Beetle | G11: =SUM(B11:F11) -> 0 | M11: =SUM(H11:L11) -> 0 | S11: =SUM(N11:R11) -> 0 | T11: =SUM(B11,H11,N11) -> 0 | U11: =SUM(C11,I11,O11) -> 0 | V11: =SUM(D11,J11,P11) -> 0 | W11: =SUM(E11,K11,Q11) -> 0 | X11: =SUM(F11,L11,R11) -> 0 | Y11: =SUM(T11:X11) -> 0 | AE11: =SUM(Z11:AD11) -> 0 | AK11: =SUM(AF11:AJ11) -> 0 | AQ11: =SUM(AL11:AP11) -> 0 | AX11: =SUM(AR11:AW11) -> 0 | BD11: =SUM(AY11:BC11) -> 0 | BE11: =SUM(Z11,AF11,AL11,AR11,AY11) -> 0 | BF11: =SUM(AA11,AG11,AM11,AS11,AZ11) -> 0 | BG11: =SUM(AB11,AH11,AN11,AT11,BA11) -> 0 | BH11: =SUM(AC11,AI11,AO11,AU11,BB11) -> 0 | BI11: =SUM(AD11,AJ11,AP11,AV11,BC11) -> 0 | BJ11: =SUM(AW11) -> 0 | BK11: =SUM(BE11:BJ11) -> 0 | BQ11: =SUM(BL11:BP11) -> 0 | BW11: =SUM(BR11:BV11) -> 0 | CD11: =SUM(BX11:CC11) -> 0 | CE11: =SUM(BL11,BR11,BX11) -> 0 | CF11: =SUM(BM11,BS11,BY11) -> 0 | CG11: =SUM(BN11,BT11,BZ11) -> 0 | CH11: =SUM(BO11,BU11,CA11) -> 0 | CI11: =SUM(BP11,BV11,CB11) -> 0 | CJ11: =SUM(CC11) -> 0 | CK11: =SUM(CE11:CJ11) -> 0 | CR11: =SUM(CL11:CQ11) -> 0 | CY11: =SUM(CS11:CX11) -> 0 | DF11: =SUM(CZ11:DE11) -> 0 | DM11: =SUM(DG11:DL11) -> 0 | DN11: =SUM(CL11,CS11,CZ11,DG11) -> 0 | DO11: =SUM(CM11,CT11,DA11,DH11) -> 0 | DP11: =SUM(CN11,CU11,DB11,DI11) -> 0 | DQ11: =SUM(CO11,CV11,DC11,DJ11) -> 0 | DR11: =SUM(CP11,CW11,DD11,DK11) -> 0 | DS11: =SUM(CQ11,CX11,DE11,DL11) -> 0 | DT11: =SUM(DN11:DS11) -> 0 | DZ11: =SUM(DU11:DY11) -> 0 | EF11: =SUM(EA11:EE11) -> 0 | EL11: =SUM(EG11:EK11) -> 0 | ER11: =SUM(EM11:EQ11) -> 0 | EX11: =SUM(ES11:EW11) -> 0 | FD11: =SUM(EY11:FC11) -> 0 | FJ11: =SUM(FE11:FI11) -> 0 | FK11: =SUM(DU11,EA11,EG11,EM11,ES11,EY11,FE11) -> 0 | FL11: =SUM(DV11,EB11,EH11,EN11,ET11,EZ11,FF11) -> 0 | FM11: =SUM(DW11,EC11,EI11,EO11,EU11,FA11,FG11) -> 0 | FN11: =SUM(DX11,ED11,EJ11,EP11,EV11,FB11,FH11) -> 0 | FO11: =SUM(DY11,EE11,EK11,EQ11,EW11,FC11,FI11) -> 0 | FP11: =SUM(FK11:FO11) -> 0 | FV11: =SUM(FQ11:FU11) -> 0 | GB11: =SUM(FW11:GA11) -> 0 | GH11: =SUM(GC11:GG11) -> 0 | GN11: =SUM(GI11:GM11) -> 0 | GT11: =SUM(GO11:GS11) -> 0 | GZ11: =SUM(GU11:GY11) -> 0 | HF11: =SUM(HA11:HE11) -> 0 | HL11: =SUM(HG11:HK11) -> 0 | HM11: =SUM(FQ11,FW11,GC11,GI11,GO11,GU11,HA11,HG11) -> 0 | HN11: =SUM(FR11,FX11,GD11,GJ11,GP11,GV11,HB11,HH11) -> 0 | HO11: =SUM(HI11,HC11,GW11,GQ11,GK11,GE11,FY11,FS11) -> 0 | HP11: =SUM(HJ11,HD11,GX11,GR11,GL11,GF11,FZ11,FT11) -> 0 | HQ11: =SUM(HK11,HE11,GY11,GS11,GM11,GG11,GA11,FU11) -> 0 | HR11: =SUM(HM11:HQ11) -> 0 | HX11: =SUM(HS11:HW11) -> 0 | ID11: =SUM(HY11:IC11) -> 0 | IJ11: =SUM(IE11:II11) -> 0 | IK11: =SUM(HS11,HY11,IE11) -> 0 | IL11: =SUM(HT11,HZ11,IF11) -> 0 | IM11: =SUM(HU11,IA11,IG11) -> 0 | IN11: =SUM(HV11,IB11,IH11) -> 0 | IO11: =SUM(HW11,IC11,II11) -> 0 | IP11: =SUM(IK11:IO11) -> 0 | IV11: =SUM(IQ11:IU11) -> 0 | JB11: =SUM(IW11:JA11) -> 0 | JH11: =SUM(JC11:JG11) -> 0 | JI11: =SUM(IQ11,IW11,JC11) -> 0 | JJ11: =SUM(IR11,IX11,JD11) -> 0 | JK11: =SUM(IS11,IY11,JE11) -> 0 | JL11: =SUM(IT11,IZ11,JF11) -> 0 | JM11: =SUM(IU11,JA11,JG11) -> 0 | JN11: =SUM(JI11:JM11) -> 0 | JP11: =SUM(T11,BE11,CE11,DN11,FK11,HM11,IK11,JI11) -> 0 | JQ11: =SUM(U11,BF11,CF11,DO11,FL11,HN11,IL11,JJ11) -> 0 | JR11: =SUM(V11,BG11,CG11,DP11,FM11,HO11,IM11,JK11) -> 0 | JS11: =SUM(W11,BH11,CH11,DQ11,FN11,HP11,IN11,JL11) -> 0 | JT11: =SUM(X11,BI11,CI11,DR11,FO11,HQ11,IO11,JM11) -> 0 | JU11: =SUM(DS11,BJ11,CJ11) -> 0 | JV11: =SUM(JP11:JU11) -> 0
A12: IBI=Engraver Beetle (Ips species) | G12: =SUM(B12:F12) -> 0 | M12: =SUM(H12:L12) -> 0 | S12: =SUM(N12:R12) -> 0 | T12: =SUM(B12,H12,N12) -> 0 | U12: =SUM(C12,I12,O12) -> 0 | V12: =SUM(D12,J12,P12) -> 0 | W12: =SUM(E12,K12,Q12) -> 0 | X12: =SUM(F12,L12,R12) -> 0 | Y12: =SUM(T12:X12) -> 0 | AE12: =SUM(Z12:AD12) -> 0 | AK12: =SUM(AF12:AJ12) -> 0 | AQ12: =SUM(AL12:AP12) -> 0 | AX12: =SUM(AR12:AW12) -> 0 | BD12: =SUM(AY12:BC12) -> 0 | BE12: =SUM(Z12,AF12,AL12,AR12,AY12) -> 0 | BF12: =SUM(AA12,AG12,AM12,AS12,AZ12) -> 0 | BG12: =SUM(AB12,AH12,AN12,AT12,BA12) -> 0 | BH12: =SUM(AC12,AI12,AO12,AU12,BB12) -> 0 | BI12: =SUM(AD12,AJ12,AP12,AV12,BC12) -> 0 | BJ12: =SUM(AW12) -> 0 | BK12: =SUM(BE12:BJ12) -> 0 | BQ12: =SUM(BL12:BP12) -> 0 | BW12: =SUM(BR12:BV12) -> 0 | BX12: 14.296985 | BY12: 7.7230754 | CA12: 1.5 | CD12: =SUM(BX12:CC12) -> 23.52006 | CE12: =SUM(BL12,BR12,BX12) -> 14.296985 | CF12: =SUM(BM12,BS12,BY12) -> 7.7230754 | CG12: =SUM(BN12,BT12,BZ12) -> 0 | CH12: =SUM(BO12,BU12,CA12) -> 1.5 | CI12: =SUM(BP12,BV12,CB12) -> 0 | CJ12: =SUM(CC12) -> 0 | CK12: =SUM(CE12:CJ12) -> 23.52006 | CR12: =SUM(CL12:CQ12) -> 0 | CY12: =SUM(CS12:CX12) -> 0 | DF12: =SUM(CZ12:DE12) -> 0 | DH12: 4.4361969 | DM12: =SUM(DG12:DL12) -> 4.4361969 | DN12: =SUM(CL12,CS12,CZ12,DG12) -> 0 | DO12: =SUM(CM12,CT12,DA12,DH12) -> 4.4361969 | DP12: =SUM(CN12,CU12,DB12,DI12) -> 0 | DQ12: =SUM(CO12,CV12,DC12,DJ12) -> 0 | DR12: =SUM(CP12,CW12,DD12,DK12) -> 0 | DS12: =SUM(CQ12,CX12,DE12,DL12) -> 0 | DT12: =SUM(DN12:DS12) -> 4.4361969 | DZ12: =SUM(DU12:DY12) -> 0 | EF12: =SUM(EA12:EE12) -> 0 | EL12: =SUM(EG12:EK12) -> 0 | ER12: =SUM(EM12:EQ12) -> 0 | EX12: =SUM(ES12:EW12) -> 0 | FD12: =SUM(EY12:FC12) -> 0 | FJ12: =SUM(FE12:FI12) -> 0 | FK12: =SUM(DU12,EA12,EG12,EM12,ES12,EY12,FE12) -> 0 | FL12: =SUM(DV12,EB12,EH12,EN12,ET12,EZ12,FF12) -> 0 | FM12: =SUM(DW12,EC12,EI12,EO12,EU12,FA12,FG12) -> 0 | FN12: =SUM(DX12,ED12,EJ12,EP12,EV12,FB12,FH12) -> 0 | FO12: =SUM(DY12,EE12,EK12,EQ12,EW12,FC12,FI12) -> 0 | FP12: =SUM(FK12:FO12) -> 0 | FV12: =SUM(FQ12:FU12) -> 0 | GB12: =SUM(FW12:GA12) -> 0 | GH12: =SUM(GC12:GG12) -> 0 | GN12: =SUM(GI12:GM12) -> 0 | GT12: =SUM(GO12:GS12) -> 0 | GZ12: =SUM(GU12:GY12) -> 0 | HF12: =SUM(HA12:HE12) -> 0 | HL12: =SUM(HG12:HK12) -> 0 | HM12: =SUM(FQ12,FW12,GC12,GI12,GO12,GU12,HA12,HG12) -> 0 | HN12: =SUM(FR12,FX12,GD12,GJ12,GP12,GV12,HB12,HH12) -> 0 | HO12: =SUM(HI12,HC12,GW12,GQ12,GK12,GE12,FY12,FS12) -> 0 | HP12: =SUM(HJ12,HD12,GX12,GR12,GL12,GF12,FZ12,FT12) -> 0 | HQ12: =SUM(HK12,HE12,GY12,GS12,GM12,GG12,GA12,FU12) -> 0 | HR12: =SUM(HM12:HQ12) -> 0 | HX12: =SUM(HS12:HW12) -> 0 | ID12: =SUM(HY12:IC12) -> 0 | IJ12: =SUM(IE12:II12) -> 0 | IK12: =SUM(HS12,HY12,IE12) -> 0 | IL12: =SUM(HT12,HZ12,IF12) -> 0 | IM12: =SUM(HU12,IA12,IG12) -> 0 | IN12: =SUM(HV12,IB12,IH12) -> 0 | IO12: =SUM(HW12,IC12,II12) -> 0 | IP12: =SUM(IK12:IO12) -> 0 | IV12: =SUM(IQ12:IU12) -> 0 | JB12: =SUM(IW12:JA12) -> 0 | JH12: =SUM(JC12:JG12) -> 0 | JI12: =SUM(IQ12,IW12,JC12) -> 0 | JJ12: =SUM(IR12,IX12,JD12) -> 0 | JK12: =SUM(IS12,IY12,JE12) -> 0 | JL12: =SUM(IT12,IZ12,JF12) -> 0 | JM12: =SUM(IU12,JA12,JG12) -> 0 | JN12: =SUM(JI12:JM12) -> 0 | JP12: =SUM(T12,BE12,CE12,DN12,FK12,HM12,IK12,JI12) -> 14.296985 | JQ12: =SUM(U12,BF12,CF12,DO12,FL12,HN12,IL12,JJ12) -> 12.159272 | JR12: =SUM(V12,BG12,CG12,DP12,FM12,HO12,IM12,JK12) -> 0 | JS12: =SUM(W12,BH12,CH12,DQ12,FN12,HP12,IN12,JL12) -> 1.5 | JT12: =SUM(X12,BI12,CI12,DR12,FO12,HQ12,IO12,JM12) -> 0 | JU12: =SUM(DS12,BJ12,CJ12) -> 0 | JV12: =SUM(JP12:JU12) -> 27.956257
A13: IBW=Western Pine Beetle | G13: =SUM(B13:F13) -> 0 | M13: =SUM(H13:L13) -> 0 | S13: =SUM(N13:R13) -> 0 | T13: =SUM(B13,H13,N13) -> 0 | U13: =SUM(C13,I13,O13) -> 0 | V13: =SUM(D13,J13,P13) -> 0 | W13: =SUM(E13,K13,Q13) -> 0 | X13: =SUM(F13,L13,R13) -> 0 | Y13: =SUM(T13:X13) -> 0 | AE13: =SUM(Z13:AD13) -> 0 | AK13: =SUM(AF13:AJ13) -> 0 | AQ13: =SUM(AL13:AP13) -> 0 | AX13: =SUM(AR13:AW13) -> 0 | BD13: =SUM(AY13:BC13) -> 0 | BE13: =SUM(Z13,AF13,AL13,AR13,AY13) -> 0 | BF13: =SUM(AA13,AG13,AM13,AS13,AZ13) -> 0 | BG13: =SUM(AB13,AH13,AN13,AT13,BA13) -> 0 | BH13: =SUM(AC13,AI13,AO13,AU13,BB13) -> 0 | BI13: =SUM(AD13,AJ13,AP13,AV13,BC13) -> 0 | BJ13: =SUM(AW13) -> 0 | BK13: =SUM(BE13:BJ13) -> 0 | BQ13: =SUM(BL13:BP13) -> 0 | BW13: =SUM(BR13:BV13) -> 0 | CD13: =SUM(BX13:CC13) -> 0 | CE13: =SUM(BL13,BR13,BX13) -> 0 | CF13: =SUM(BM13,BS13,BY13) -> 0 | CG13: =SUM(BN13,BT13,BZ13) -> 0 | CH13: =SUM(BO13,BU13,CA13) -> 0 | CI13: =SUM(BP13,BV13,CB13) -> 0 | CJ13: =SUM(CC13) -> 0 | CK13: =SUM(CE13:CJ13) -> 0 | CR13: =SUM(CL13:CQ13) -> 0 | CY13: =SUM(CS13:CX13) -> 0 | DF13: =SUM(CZ13:DE13) -> 0 | DM13: =SUM(DG13:DL13) -> 0 | DN13: =SUM(CL13,CS13,CZ13,DG13) -> 0 | DO13: =SUM(CM13,CT13,DA13,DH13) -> 0 | DP13: =SUM(CN13,CU13,DB13,DI13) -> 0 | DQ13: =SUM(CO13,CV13,DC13,DJ13) -> 0 | DR13: =SUM(CP13,CW13,DD13,DK13) -> 0 | DS13: =SUM(CQ13,CX13,DE13,DL13) -> 0 | DT13: =SUM(DN13:DS13) -> 0 | DZ13: =SUM(DU13:DY13) -> 0 | EF13: =SUM(EA13:EE13) -> 0 | EL13: =SUM(EG13:EK13) -> 0 | ER13: =SUM(EM13:EQ13) -> 0 | EX13: =SUM(ES13:EW13) -> 0 | FD13: =SUM(EY13:FC13) -> 0 | FJ13: =SUM(FE13:FI13) -> 0 | FK13: =SUM(DU13,EA13,EG13,EM13,ES13,EY13,FE13) -> 0 | FL13: =SUM(DV13,EB13,EH13,EN13,ET13,EZ13,FF13) -> 0 | FM13: =SUM(DW13,EC13,EI13,EO13,EU13,FA13,FG13) -> 0 | FN13: =SUM(DX13,ED13,EJ13,EP13,EV13,FB13,FH13) -> 0 | FO13: =SUM(DY13,EE13,EK13,EQ13,EW13,FC13,FI13) -> 0 | FP13: =SUM(FK13:FO13) -> 0 | FV13: =SUM(FQ13:FU13) -> 0 | GB13: =SUM(FW13:GA13) -> 0 | GH13: =SUM(GC13:GG13) -> 0 | GN13: =SUM(GI13:GM13) -> 0 | GT13: =SUM(GO13:GS13) -> 0 | GZ13: =SUM(GU13:GY13) -> 0 | HF13: =SUM(HA13:HE13) -> 0 | HL13: =SUM(HG13:HK13) -> 0 | HM13: =SUM(FQ13,FW13,GC13,GI13,GO13,GU13,HA13,HG13) -> 0 | HN13: =SUM(FR13,FX13,GD13,GJ13,GP13,GV13,HB13,HH13) -> 0 | HO13: =SUM(HI13,HC13,GW13,GQ13,GK13,GE13,FY13,FS13) -> 0 | HP13: =SUM(HJ13,HD13,GX13,GR13,GL13,GF13,FZ13,FT13) -> 0 | HQ13: =SUM(HK13,HE13,GY13,GS13,GM13,GG13,GA13,FU13) -> 0 | HR13: =SUM(HM13:HQ13) -> 0 | HX13: =SUM(HS13:HW13) -> 0 | ID13: =SUM(HY13:IC13) -> 0 | IJ13: =SUM(IE13:II13) -> 0 | IK13: =SUM(HS13,HY13,IE13) -> 0 | IL13: =SUM(HT13,HZ13,IF13) -> 0 | IM13: =SUM(HU13,IA13,IG13) -> 0 | IN13: =SUM(HV13,IB13,IH13) -> 0 | IO13: =SUM(HW13,IC13,II13) -> 0 | IP13: =SUM(IK13:IO13) -> 0 | IV13: =SUM(IQ13:IU13) -> 0 | JB13: =SUM(IW13:JA13) -> 0 | JH13: =SUM(JC13:JG13) -> 0 | JI13: =SUM(IQ13,IW13,JC13) -> 0 | JJ13: =SUM(IR13,IX13,JD13) -> 0 | JK13: =SUM(IS13,IY13,JE13) -> 0 | JL13: =SUM(IT13,IZ13,JF13) -> 0 | JM13: =SUM(IU13,JA13,JG13) -> 0 | JN13: =SUM(JI13:JM13) -> 0 | JP13: =SUM(T13,BE13,CE13,DN13,FK13,HM13,IK13,JI13) -> 0 | JQ13: =SUM(U13,BF13,CF13,DO13,FL13,HN13,IL13,JJ13) -> 0 | JR13: =SUM(V13,BG13,CG13,DP13,FM13,HO13,IM13,JK13) -> 0 | JS13: =SUM(W13,BH13,CH13,DQ13,FN13,HP13,IN13,JL13) -> 0 | JT13: =SUM(X13,BI13,CI13,DR13,FO13,HQ13,IO13,JM13) -> 0 | JU13: =SUM(DS13,BJ13,CJ13) -> 0 | JV13: =SUM(JP13:JU13) -> 0
A14: IBL=Lodgepole Pine Beetle | G14: =SUM(B14:F14) -> 0 | M14: =SUM(H14:L14) -> 0 | S14: =SUM(N14:R14) -> 0 | T14: =SUM(B14,H14,N14) -> 0 | U14: =SUM(C14,I14,O14) -> 0 | V14: =SUM(D14,J14,P14) -> 0 | W14: =SUM(E14,K14,Q14) -> 0 | X14: =SUM(F14,L14,R14) -> 0 | Y14: =SUM(T14:X14) -> 0 | AE14: =SUM(Z14:AD14) -> 0 | AK14: =SUM(AF14:AJ14) -> 0 | AQ14: =SUM(AL14:AP14) -> 0 | AX14: =SUM(AR14:AW14) -> 0 | BD14: =SUM(AY14:BC14) -> 0 | BE14: =SUM(Z14,AF14,AL14,AR14,AY14) -> 0 | BF14: =SUM(AA14,AG14,AM14,AS14,AZ14) -> 0 | BG14: =SUM(AB14,AH14,AN14,AT14,BA14) -> 0 | BH14: =SUM(AC14,AI14,AO14,AU14,BB14) -> 0 | BI14: =SUM(AD14,AJ14,AP14,AV14,BC14) -> 0 | BJ14: =SUM(AW14) -> 0 | BK14: =SUM(BE14:BJ14) -> 0 | BQ14: =SUM(BL14:BP14) -> 0 | BW14: =SUM(BR14:BV14) -> 0 | CD14: =SUM(BX14:CC14) -> 0 | CE14: =SUM(BL14,BR14,BX14) -> 0 | CF14: =SUM(BM14,BS14,BY14) -> 0 | CG14: =SUM(BN14,BT14,BZ14) -> 0 | CH14: =SUM(BO14,BU14,CA14) -> 0 | CI14: =SUM(BP14,BV14,CB14) -> 0 | CJ14: =SUM(CC14) -> 0 | CK14: =SUM(CE14:CJ14) -> 0 | CR14: =SUM(CL14:CQ14) -> 0 | CY14: =SUM(CS14:CX14) -> 0 | DF14: =SUM(CZ14:DE14) -> 0 | DM14: =SUM(DG14:DL14) -> 0 | DN14: =SUM(CL14,CS14,CZ14,DG14) -> 0 | DO14: =SUM(CM14,CT14,DA14,DH14) -> 0 | DP14: =SUM(CN14,CU14,DB14,DI14) -> 0 | DQ14: =SUM(CO14,CV14,DC14,DJ14) -> 0 | DR14: =SUM(CP14,CW14,DD14,DK14) -> 0 | DS14: =SUM(CQ14,CX14,DE14,DL14) -> 0 | DT14: =SUM(DN14:DS14) -> 0 | DZ14: =SUM(DU14:DY14) -> 0 | EF14: =SUM(EA14:EE14) -> 0 | EL14: =SUM(EG14:EK14) -> 0 | ER14: =SUM(EM14:EQ14) -> 0 | EX14: =SUM(ES14:EW14) -> 0 | FD14: =SUM(EY14:FC14) -> 0 | FJ14: =SUM(FE14:FI14) -> 0 | FK14: =SUM(DU14,EA14,EG14,EM14,ES14,EY14,FE14) -> 0 | FL14: =SUM(DV14,EB14,EH14,EN14,ET14,EZ14,FF14) -> 0 | FM14: =SUM(DW14,EC14,EI14,EO14,EU14,FA14,FG14) -> 0 | FN14: =SUM(DX14,ED14,EJ14,EP14,EV14,FB14,FH14) -> 0 | FO14: =SUM(DY14,EE14,EK14,EQ14,EW14,FC14,FI14) -> 0 | FP14: =SUM(FK14:FO14) -> 0 | FV14: =SUM(FQ14:FU14) -> 0 | FZ14: 1.25 | GB14: =SUM(FW14:GA14) -> 1.25 | GH14: =SUM(GC14:GG14) -> 0 | GN14: =SUM(GI14:GM14) -> 0 | GT14: =SUM(GO14:GS14) -> 0 | GZ14: =SUM(GU14:GY14) -> 0 | HF14: =SUM(HA14:HE14) -> 0 | HL14: =SUM(HG14:HK14) -> 0 | HM14: =SUM(FQ14,FW14,GC14,GI14,GO14,GU14,HA14,HG14) -> 0 | HN14: =SUM(FR14,FX14,GD14,GJ14,GP14,GV14,HB14,HH14) -> 0 | HO14: =SUM(HI14,HC14,GW14,GQ14,GK14,GE14,FY14,FS14) -> 0 | HP14: =SUM(HJ14,HD14,GX14,GR14,GL14,GF14,FZ14,FT14) -> 1.25 | HQ14: =SUM(HK14,HE14,GY14,GS14,GM14,GG14,GA14,FU14) -> 0 | HR14: =SUM(HM14:HQ14) -> 1.25 | HX14: =SUM(HS14:HW14) -> 0 | ID14: =SUM(HY14:IC14) -> 0 | IJ14: =SUM(IE14:II14) -> 0 | IK14: =SUM(HS14,HY14,IE14) -> 0 | IL14: =SUM(HT14,HZ14,IF14) -> 0 | IM14: =SUM(HU14,IA14,IG14) -> 0 | IN14: =SUM(HV14,IB14,IH14) -> 0 | IO14: =SUM(HW14,IC14,II14) -> 0 | IP14: =SUM(IK14:IO14) -> 0 | IV14: =SUM(IQ14:IU14) -> 0 | IZ14: 2.75 | JB14: =SUM(IW14:JA14) -> 2.75 | JH14: =SUM(JC14:JG14) -> 0 | JI14: =SUM(IQ14,IW14,JC14) -> 0 | JJ14: =SUM(IR14,IX14,JD14) -> 0 | JK14: =SUM(IS14,IY14,JE14) -> 0 | JL14: =SUM(IT14,IZ14,JF14) -> 2.75 | JM14: =SUM(IU14,JA14,JG14) -> 0 | JN14: =SUM(JI14:JM14) -> 2.75 | JP14: =SUM(T14,BE14,CE14,DN14,FK14,HM14,IK14,JI14) -> 0 | JQ14: =SUM(U14,BF14,CF14,DO14,FL14,HN14,IL14,JJ14) -> 0 | JR14: =SUM(V14,BG14,CG14,DP14,FM14,HO14,IM14,JK14) -> 0 | JS14: =SUM(W14,BH14,CH14,DQ14,FN14,HP14,IN14,JL14) -> 4 | JT14: =SUM(X14,BI14,CI14,DR14,FO14,HQ14,IO14,JM14) -> 0 | JU14: =SUM(DS14,BJ14,CJ14) -> 0 | JV14: =SUM(JP14:JU14) -> 4
A15: IBT=Red Turpentine Beetle | G15: =SUM(B15:F15) -> 0 | M15: =SUM(H15:L15) -> 0 | S15: =SUM(N15:R15) -> 0 | T15: =SUM(B15,H15,N15) -> 0 | U15: =SUM(C15,I15,O15) -> 0 | V15: =SUM(D15,J15,P15) -> 0 | W15: =SUM(E15,K15,Q15) -> 0 | X15: =SUM(F15,L15,R15) -> 0 | Y15: =SUM(T15:X15) -> 0 | AE15: =SUM(Z15:AD15) -> 0 | AK15: =SUM(AF15:AJ15) -> 0 | AQ15: =SUM(AL15:AP15) -> 0 | AX15: =SUM(AR15:AW15) -> 0 | BD15: =SUM(AY15:BC15) -> 0 | BE15: =SUM(Z15,AF15,AL15,AR15,AY15) -> 0 | BF15: =SUM(AA15,AG15,AM15,AS15,AZ15) -> 0 | BG15: =SUM(AB15,AH15,AN15,AT15,BA15) -> 0 | BH15: =SUM(AC15,AI15,AO15,AU15,BB15) -> 0 | BI15: =SUM(AD15,AJ15,AP15,AV15,BC15) -> 0 | BJ15: =SUM(AW15) -> 0 | BK15: =SUM(BE15:BJ15) -> 0 | BQ15: =SUM(BL15:BP15) -> 0 | BW15: =SUM(BR15:BV15) -> 0 | CD15: =SUM(BX15:CC15) -> 0 | CE15: =SUM(BL15,BR15,BX15) -> 0 | CF15: =SUM(BM15,BS15,BY15) -> 0 | CG15: =SUM(BN15,BT15,BZ15) -> 0 | CH15: =SUM(BO15,BU15,CA15) -> 0 | CI15: =SUM(BP15,BV15,CB15) -> 0 | CJ15: =SUM(CC15) -> 0 | CK15: =SUM(CE15:CJ15) -> 0 | CR15: =SUM(CL15:CQ15) -> 0 | CY15: =SUM(CS15:CX15) -> 0 | DF15: =SUM(CZ15:DE15) -> 0 | DM15: =SUM(DG15:DL15) -> 0 | DN15: =SUM(CL15,CS15,CZ15,DG15) -> 0 | DO15: =SUM(CM15,CT15,DA15,DH15) -> 0 | DP15: =SUM(CN15,CU15,DB15,DI15) -> 0 | DQ15: =SUM(CO15,CV15,DC15,DJ15) -> 0 | DR15: =SUM(CP15,CW15,DD15,DK15) -> 0 | DS15: =SUM(CQ15,CX15,DE15,DL15) -> 0 | DT15: =SUM(DN15:DS15) -> 0 | DZ15: =SUM(DU15:DY15) -> 0 | EF15: =SUM(EA15:EE15) -> 0 | EL15: =SUM(EG15:EK15) -> 0 | ER15: =SUM(EM15:EQ15) -> 0 | EX15: =SUM(ES15:EW15) -> 0 | FD15: =SUM(EY15:FC15) -> 0 | FJ15: =SUM(FE15:FI15) -> 0 | FK15: =SUM(DU15,EA15,EG15,EM15,ES15,EY15,FE15) -> 0 | FL15: =SUM(DV15,EB15,EH15,EN15,ET15,EZ15,FF15) -> 0 | FM15: =SUM(DW15,EC15,EI15,EO15,EU15,FA15,FG15) -> 0 | FN15: =SUM(DX15,ED15,EJ15,EP15,EV15,FB15,FH15) -> 0 | FO15: =SUM(DY15,EE15,EK15,EQ15,EW15,FC15,FI15) -> 0 | FP15: =SUM(FK15:FO15) -> 0 | FV15: =SUM(FQ15:FU15) -> 0 | GB15: =SUM(FW15:GA15) -> 0 | GH15: =SUM(GC15:GG15) -> 0 | GN15: =SUM(GI15:GM15) -> 0 | GT15: =SUM(GO15:GS15) -> 0 | GZ15: =SUM(GU15:GY15) -> 0 | HF15: =SUM(HA15:HE15) -> 0 | HL15: =SUM(HG15:HK15) -> 0 | HM15: =SUM(FQ15,FW15,GC15,GI15,GO15,GU15,HA15,HG15) -> 0 | HN15: =SUM(FR15,FX15,GD15,GJ15,GP15,GV15,HB15,HH15) -> 0 | HO15: =SUM(HI15,HC15,GW15,GQ15,GK15,GE15,FY15,FS15) -> 0 | HP15: =SUM(HJ15,HD15,GX15,GR15,GL15,GF15,FZ15,FT15) -> 0 | HQ15: =SUM(HK15,HE15,GY15,GS15,GM15,GG15,GA15,FU15) -> 0 | HR15: =SUM(HM15:HQ15) -> 0 | HX15: =SUM(HS15:HW15) -> 0 | ID15: =SUM(HY15:IC15) -> 0 | IJ15: =SUM(IE15:II15) -> 0 | IK15: =SUM(HS15,HY15,IE15) -> 0 | IL15: =SUM(HT15,HZ15,IF15) -> 0 | IM15: =SUM(HU15,IA15,IG15) -> 0 | IN15: =SUM(HV15,IB15,IH15) -> 0 | IO15: =SUM(HW15,IC15,II15) -> 0 | IP15: =SUM(IK15:IO15) -> 0 | IV15: =SUM(IQ15:IU15) -> 0 | JB15: =SUM(IW15:JA15) -> 0 | JH15: =SUM(JC15:JG15) -> 0 | JI15: =SUM(IQ15,IW15,JC15) -> 0 | JJ15: =SUM(IR15,IX15,JD15) -> 0 | JK15: =SUM(IS15,IY15,JE15) -> 0 | JL15: =SUM(IT15,IZ15,JF15) -> 0 | JM15: =SUM(IU15,JA15,JG15) -> 0 | JN15: =SUM(JI15:JM15) -> 0 | JP15: =SUM(T15,BE15,CE15,DN15,FK15,HM15,IK15,JI15) -> 0 | JQ15: =SUM(U15,BF15,CF15,DO15,FL15,HN15,IL15,JJ15) -> 0 | JR15: =SUM(V15,BG15,CG15,DP15,FM15,HO15,IM15,JK15) -> 0 | JS15: =SUM(W15,BH15,CH15,DQ15,FN15,HP15,IN15,JL15) -> 0 | JT15: =SUM(X15,BI15,CI15,DR15,FO15,HQ15,IO15,JM15) -> 0 | JU15: =SUM(DS15,BJ15,CJ15) -> 0 | JV15: =SUM(JP15:JU15) -> 0
A16: I?B=Young pine mortality unknown | G16: =SUM(B16:F16) -> 0 | M16: =SUM(H16:L16) -> 0 | S16: =SUM(N16:R16) -> 0 | T16: =SUM(B16,H16,N16) -> 0 | U16: =SUM(C16,I16,O16) -> 0 | V16: =SUM(D16,J16,P16) -> 0 | W16: =SUM(E16,K16,Q16) -> 0 | X16: =SUM(F16,L16,R16) -> 0 | Y16: =SUM(T16:X16) -> 0 | AE16: =SUM(Z16:AD16) -> 0 | AK16: =SUM(AF16:AJ16) -> 0 | AQ16: =SUM(AL16:AP16) -> 0 | AX16: =SUM(AR16:AW16) -> 0 | BD16: =SUM(AY16:BC16) -> 0 | BE16: =SUM(Z16,AF16,AL16,AR16,AY16) -> 0 | BF16: =SUM(AA16,AG16,AM16,AS16,AZ16) -> 0 | BG16: =SUM(AB16,AH16,AN16,AT16,BA16) -> 0 | BH16: =SUM(AC16,AI16,AO16,AU16,BB16) -> 0 | BI16: =SUM(AD16,AJ16,AP16,AV16,BC16) -> 0 | BJ16: =SUM(AW16) -> 0 | BK16: =SUM(BE16:BJ16) -> 0 | BQ16: =SUM(BL16:BP16) -> 0 | BW16: =SUM(BR16:BV16) -> 0 | CD16: =SUM(BX16:CC16) -> 0 | CE16: =SUM(BL16,BR16,BX16) -> 0 | CF16: =SUM(BM16,BS16,BY16) -> 0 | CG16: =SUM(BN16,BT16,BZ16) -> 0 | CH16: =SUM(BO16,BU16,CA16) -> 0 | CI16: =SUM(BP16,BV16,CB16) -> 0 | CJ16: =SUM(CC16) -> 0 | CK16: =SUM(CE16:CJ16) -> 0 | CR16: =SUM(CL16:CQ16) -> 0 | CY16: =SUM(CS16:CX16) -> 0 | DF16: =SUM(CZ16:DE16) -> 0 | DM16: =SUM(DG16:DL16) -> 0 | DN16: =SUM(CL16,CS16,CZ16,DG16) -> 0 | DO16: =SUM(CM16,CT16,DA16,DH16) -> 0 | DP16: =SUM(CN16,CU16,DB16,DI16) -> 0 | DQ16: =SUM(CO16,CV16,DC16,DJ16) -> 0 | DR16: =SUM(CP16,CW16,DD16,DK16) -> 0 | DS16: =SUM(CQ16,CX16,DE16,DL16) -> 0 | DT16: =SUM(DN16:DS16) -> 0 | DZ16: =SUM(DU16:DY16) -> 0 | EF16: =SUM(EA16:EE16) -> 0 | EL16: =SUM(EG16:EK16) -> 0 | ER16: =SUM(EM16:EQ16) -> 0 | EX16: =SUM(ES16:EW16) -> 0 | FD16: =SUM(EY16:FC16) -> 0 | FJ16: =SUM(FE16:FI16) -> 0 | FK16: =SUM(DU16,EA16,EG16,EM16,ES16,EY16,FE16) -> 0 | FL16: =SUM(DV16,EB16,EH16,EN16,ET16,EZ16,FF16) -> 0 | FM16: =SUM(DW16,EC16,EI16,EO16,EU16,FA16,FG16) -> 0 | FN16: =SUM(DX16,ED16,EJ16,EP16,EV16,FB16,FH16) -> 0 | FO16: =SUM(DY16,EE16,EK16,EQ16,EW16,FC16,FI16) -> 0 | FP16: =SUM(FK16:FO16) -> 0 | FV16: =SUM(FQ16:FU16) -> 0 | FX16: 165.11839 | FZ16: 3 | GB16: =SUM(FW16:GA16) -> 168.11839 | GH16: =SUM(GC16:GG16) -> 0 | GN16: =SUM(GI16:GM16) -> 0 | GO16: 62.672313 | GR16: 0.5 | GT16: =SUM(GO16:GS16) -> 63.172313 | GZ16: =SUM(GU16:GY16) -> 0 | HF16: =SUM(HA16:HE16) -> 0 | HL16: =SUM(HG16:HK16) -> 0 | HM16: =SUM(FQ16,FW16,GC16,GI16,GO16,GU16,HA16,HG16) -> 62.672313 | HN16: =SUM(FR16,FX16,GD16,GJ16,GP16,GV16,HB16,HH16) -> 165.11839 | HO16: =SUM(HI16,HC16,GW16,GQ16,GK16,GE16,FY16,FS16) -> 0 | HP16: =SUM(HJ16,HD16,GX16,GR16,GL16,GF16,FZ16,FT16) -> 3.5 | HQ16: =SUM(HK16,HE16,GY16,GS16,GM16,GG16,GA16,FU16) -> 0 | HR16: =SUM(HM16:HQ16) -> 231.29071 | HS16: 182.36252 | HT16: 163.22684 | HV16: 1 | HX16: =SUM(HS16:HW16) -> 346.58936 | ID16: =SUM(HY16:IC16) -> 0 | IE16: 299.79925 | IF16: 101.37397 | IG16: 23.161472 | IH16: 1.5 | IJ16: =SUM(IE16:II16) -> 425.83469 | IK16: =SUM(HS16,HY16,IE16) -> 482.16177 | IL16: =SUM(HT16,HZ16,IF16) -> 264.60081 | IM16: =SUM(HU16,IA16,IG16) -> 23.161472 | IN16: =SUM(HV16,IB16,IH16) -> 2.5 | IO16: =SUM(HW16,IC16,II16) -> 0 | IP16: =SUM(IK16:IO16) -> 772.42405 | IQ16: 118.75354 | IR16: 84.127683 | IT16: 59.838874 | IV16: =SUM(IQ16:IU16) -> 262.7201 | IY16: 74.591264 | JB16: =SUM(IW16:JA16) -> 74.591264 | JD16: 42.864654 | JH16: =SUM(JC16:JG16) -> 42.864654 | JI16: =SUM(IQ16,IW16,JC16) -> 118.75354 | JJ16: =SUM(IR16,IX16,JD16) -> 126.99234 | JK16: =SUM(IS16,IY16,JE16) -> 74.591264 | JL16: =SUM(IT16,IZ16,JF16) -> 59.838874 | JM16: =SUM(IU16,JA16,JG16) -> 0 | JN16: =SUM(JI16:JM16) -> 380.17601 | JP16: =SUM(T16,BE16,CE16,DN16,FK16,HM16,IK16,JI16) -> 663.58762 | JQ16: =SUM(U16,BF16,CF16,DO16,FL16,HN16,IL16,JJ16) -> 556.71154 | JR16: =SUM(V16,BG16,CG16,DP16,FM16,HO16,IM16,JK16) -> 97.752736 | JS16: =SUM(W16,BH16,CH16,DQ16,FN16,HP16,IN16,JL16) -> 65.838874 | JT16: =SUM(X16,BI16,CI16,DR16,FO16,HQ16,IO16,JM16) -> 0 | JU16: =SUM(DS16,BJ16,CJ16) -> 0 | JV16: =SUM(JP16:JU16) -> 1383.8908
A17: IWW=Warrens Root Collar Weevil | G17: =SUM(B17:F17) -> 0 | M17: =SUM(H17:L17) -> 0 | S17: =SUM(N17:R17) -> 0 | T17: =SUM(B17,H17,N17) -> 0 | U17: =SUM(C17,I17,O17) -> 0 | V17: =SUM(D17,J17,P17) -> 0 | W17: =SUM(E17,K17,Q17) -> 0 | X17: =SUM(F17,L17,R17) -> 0 | Y17: =SUM(T17:X17) -> 0 | AE17: =SUM(Z17:AD17) -> 0 | AK17: =SUM(AF17:AJ17) -> 0 | AQ17: =SUM(AL17:AP17) -> 0 | AX17: =SUM(AR17:AW17) -> 0 | BD17: =SUM(AY17:BC17) -> 0 | BE17: =SUM(Z17,AF17,AL17,AR17,AY17) -> 0 | BF17: =SUM(AA17,AG17,AM17,AS17,AZ17) -> 0 | BG17: =SUM(AB17,AH17,AN17,AT17,BA17) -> 0 | BH17: =SUM(AC17,AI17,AO17,AU17,BB17) -> 0 | BI17: =SUM(AD17,AJ17,AP17,AV17,BC17) -> 0 | BJ17: =SUM(AW17) -> 0 | BK17: =SUM(BE17:BJ17) -> 0 | BQ17: =SUM(BL17:BP17) -> 0 | BW17: =SUM(BR17:BV17) -> 0 | CD17: =SUM(BX17:CC17) -> 0 | CE17: =SUM(BL17,BR17,BX17) -> 0 | CF17: =SUM(BM17,BS17,BY17) -> 0 | CG17: =SUM(BN17,BT17,BZ17) -> 0 | CH17: =SUM(BO17,BU17,CA17) -> 0 | CI17: =SUM(BP17,BV17,CB17) -> 0 | CJ17: =SUM(CC17) -> 0 | CK17: =SUM(CE17:CJ17) -> 0 | CR17: =SUM(CL17:CQ17) -> 0 | CY17: =SUM(CS17:CX17) -> 0 | DF17: =SUM(CZ17:DE17) -> 0 | DM17: =SUM(DG17:DL17) -> 0 | DN17: =SUM(CL17,CS17,CZ17,DG17) -> 0 | DO17: =SUM(CM17,CT17,DA17,DH17) -> 0 | DP17: =SUM(CN17,CU17,DB17,DI17) -> 0 | DQ17: =SUM(CO17,CV17,DC17,DJ17) -> 0 | DR17: =SUM(CP17,CW17,DD17,DK17) -> 0 | DS17: =SUM(CQ17,CX17,DE17,DL17) -> 0 | DT17: =SUM(DN17:DS17) -> 0 | DZ17: =SUM(DU17:DY17) -> 0 | EF17: =SUM(EA17:EE17) -> 0 | EL17: =SUM(EG17:EK17) -> 0 | ER17: =SUM(EM17:EQ17) -> 0 | EX17: =SUM(ES17:EW17) -> 0 | FD17: =SUM(EY17:FC17) -> 0 | FJ17: =SUM(FE17:FI17) -> 0 | FK17: =SUM(DU17,EA17,EG17,EM17,ES17,EY17,FE17) -> 0 | FL17: =SUM(DV17,EB17,EH17,EN17,ET17,EZ17,FF17) -> 0 | FM17: =SUM(DW17,EC17,EI17,EO17,EU17,FA17,FG17) -> 0 | FN17: =SUM(DX17,ED17,EJ17,EP17,EV17,FB17,FH17) -> 0 | FO17: =SUM(DY17,EE17,EK17,EQ17,EW17,FC17,FI17) -> 0 | FP17: =SUM(FK17:FO17) -> 0 | FV17: =SUM(FQ17:FU17) -> 0 | GB17: =SUM(FW17:GA17) -> 0 | GH17: =SUM(GC17:GG17) -> 0 | GN17: =SUM(GI17:GM17) -> 0 | GT17: =SUM(GO17:GS17) -> 0 | GZ17: =SUM(GU17:GY17) -> 0 | HF17: =SUM(HA17:HE17) -> 0 | HL17: =SUM(HG17:HK17) -> 0 | HM17: =SUM(FQ17,FW17,GC17,GI17,GO17,GU17,HA17,HG17) -> 0 | HN17: =SUM(FR17,FX17,GD17,GJ17,GP17,GV17,HB17,HH17) -> 0 | HO17: =SUM(HI17,HC17,GW17,GQ17,GK17,GE17,FY17,FS17) -> 0 | HP17: =SUM(HJ17,HD17,GX17,GR17,GL17,GF17,FZ17,FT17) -> 0 | HQ17: =SUM(HK17,HE17,GY17,GS17,GM17,GG17,GA17,FU17) -> 0 | HR17: =SUM(HM17:HQ17) -> 0 | HX17: =SUM(HS17:HW17) -> 0 | ID17: =SUM(HY17:IC17) -> 0 | IJ17: =SUM(IE17:II17) -> 0 | IK17: =SUM(HS17,HY17,IE17) -> 0 | IL17: =SUM(HT17,HZ17,IF17) -> 0 | IM17: =SUM(HU17,IA17,IG17) -> 0 | IN17: =SUM(HV17,IB17,IH17) -> 0 | IO17: =SUM(HW17,IC17,II17) -> 0 | IP17: =SUM(IK17:IO17) -> 0 | IV17: =SUM(IQ17:IU17) -> 0 | JB17: =SUM(IW17:JA17) -> 0 | JH17: =SUM(JC17:JG17) -> 0 | JI17: =SUM(IQ17,IW17,JC17) -> 0 | JJ17: =SUM(IR17,IX17,JD17) -> 0 | JK17: =SUM(IS17,IY17,JE17) -> 0 | JL17: =SUM(IT17,IZ17,JF17) -> 0 | JM17: =SUM(IU17,JA17,JG17) -> 0 | JN17: =SUM(JI17:JM17) -> 0 | JP17: =SUM(T17,BE17,CE17,DN17,FK17,HM17,IK17,JI17) -> 0 | JQ17: =SUM(U17,BF17,CF17,DO17,FL17,HN17,IL17,JJ17) -> 0 | JR17: =SUM(V17,BG17,CG17,DP17,FM17,HO17,IM17,JK17) -> 0 | JS17: =SUM(W17,BH17,CH17,DQ17,FN17,HP17,IN17,JL17) -> 0 | JT17: =SUM(X17,BI17,CI17,DR17,FO17,HQ17,IO17,JM17) -> 0 | JU17: =SUM(DS17,BJ17,CJ17) -> 0 | JV17: =SUM(JP17:JU17) -> 0
A18: Total All BB= | B18: =SUM(B6:B17) -> 17292.807 | C18: =SUM(C6:C17) -> 1419.7319 | D18: =SUM(D6:D17) -> 82.672329 | E18: =SUM(E6:E17) -> 112.8114 | F18: =SUM(F6:F17) -> 0 | G18: =SUM(G6:G17) -> 18908.022 | H18: =SUM(H6:H17) -> 709.41288 | I18: =SUM(I6:I17) -> 399.73646 | ... S18: =SUM(S6:S17) -> 910.61904 | T18: =SUM(B18,H18,N18) -> 18336.633 | U18: =SUM(C18,I18,O18) -> 2324.0182 | V18: =SUM(D18,J18,P18) -> 149.59483 | W18: =SUM(E18,K18,Q18) -> 239.0614 | X18: =SUM(F18,L18,R18) -> 0 | Y18: =SUM(Y6:Y17) -> 21049.308 | Z18: =SUM(Z6:Z17) -> 77.85074 | AA18: =SUM(AA6:AA17) -> 365.83785 | AB18: =SUM(AB6:AB17) -> 351.22965 | AC18: =SUM(AC6:AC17) -> 38.25 | AD18: =SUM(AD6:AD17) -> 0 | AE18: =SUM(AE6:AE17) -> 833.16824 | AF18: =SUM(AF6:AF17) -> 599.18127 | ... BD18: =SUM(BD6:BD17) -> 148.91539 | BE18: =SUM(Z18,AF18,AL18,AR18,AY18) -> 9098.749 | BF18: =SUM(AA18,AG18,AM18,AS18,AZ18) -> 625.44972 | BG18: =SUM(AB18,AH18,AN18,AT18,BA18) -> 479.6893 | BH18: =SUM(AC18,AI18,AO18,AU18,BB18) -> 148.92322 | BI18: =SUM(AD18,AJ18,AP18,AV18,BC18) -> 0 | BJ18: =SUM(AW18) -> 0 | BK18: =SUM(BK6:BK17) -> 10352.811 | BL18: =SUM(BL6:BL17) -> 2099.1697 | BM18: =SUM(BM6:BM17) -> 381.85314 | BN18: =SUM(BN6:BN17) -> 136.49906 | BO18: =SUM(BO6:BO17) -> 29.459542 | BP18: =SUM(BP6:BP17) -> 0 | BQ18: =SUM(BQ6:BQ17) -> 2646.9815 | BR18: =SUM(BR6:BR17) -> 4181.0158 | ... CD18: =SUM(CD6:CD17) -> 27961.27 | CE18: =SUM(BL18,BR18,BX18) -> 23262.494 | CF18: =SUM(BM18,BS18,BY18) -> 10556.373 | CG18: =SUM(BN18,BT18,BZ18) -> 1390.6869 | CH18: =SUM(BO18,BU18,CA18) -> 679.14291 | CI18: =SUM(BP18,BV18,CB18) -> 0 | CJ18: =SUM(CC18) -> 0 | CK18: =SUM(CK6:CK17) -> 35888.697 | CL18: =SUM(CL6:CL17) -> 71475.524 | CM18: =SUM(CM6:CM17) -> 1577.3745 | CN18: =SUM(CN6:CN17) -> 452.47135 | CO18: =SUM(CO6:CO17) -> 148.84071 | CP18: =SUM(CP6:CP17) -> 0 | CQ18: =SUM(CQ6:CQ17) -> 0 | CR18: =SUM(CR6:CR17) -> 73654.211 | ... DM18: =SUM(DM6:DM17) -> 62865.463 | DN18: =SUM(CL18,CS18,CZ18,DG18) -> 139922.57 | DO18: =SUM(CM18,CT18,DA18,DH18) -> 16220.603 | DP18: =SUM(CN18,CU18,DB18,DI18) -> 2898.0572 | DQ18: =SUM(CO18,CV18,DC18,DJ18) -> 695.37625 | DR18: =SUM(CP18,CW18,DD18,DK18) -> 0 | DS18: =SUM(CQ18,CX18,DE18) -> 0 | DT18: =SUM(DT6:DT17) -> 159736.61 | DU18: =SUM(DU6:DU17) -> 1965.1744 | DV18: =SUM(DV6:DV17) -> 556.23069 | DW18: =SUM(DW6:DW17) -> 198.43657 | DX18: =SUM(DX6:DX17) -> 200.66428 | DY18: =SUM(DY6:DY17) -> 0 | DZ18: =SUM(DZ6:DZ17) -> 2920.506 | EA18: =SUM(EA6:EA17) -> 9014.736 | ... FJ18: =SUM(FJ6:FJ17) -> 472.71141 | FK18: =SUM(DU18,EA18,EG18,EM18,ES18,EY18,FE18) -> 27697.691 | FL18: =SUM(DV18,EB18,EH18,EN18,ET18,EZ18,FF18) -> 19515.361 | FM18: =SUM(DW18,EC18,EI18,EO18,EU18,FA18,FG18) -> 8118.2852 | FN18: =SUM(DX18,ED18,EJ18,EP18,EV18,FB18,FH18) -> 1867.0976 | FO18: =SUM(DY18,EE18,EK18,EQ18,EW18,FC18,FI18) -> 0 | FP18: =SUM(FP6:FP17) -> 57198.435 | FQ18: =SUM(FQ6:FQ17) -> 268002.87 | FR18: =SUM(FR6:FR17) -> 17768.501 | FS18: =SUM(FS6:FS17) -> 7717.029 | FT18: =SUM(FT6:FT17) -> 1748.6992 | FU18: =SUM(FU6:FU17) -> 0 | FV18: =SUM(FV6:FV17) -> 295237.1 | FW18: =SUM(FW6:FW17) -> 133492.42 | ... HL18: =SUM(HL6:HL17) -> 0 | HM18: =SUM(FQ18,FW18,GC18,GI18,GO18,GU18,HA18,HG18) -> 999618.13 | HN18: =SUM(FR18,FX18,GD18,GJ18,GP18,GV18,HB18,HH18) -> 48635.743 | HO18: =SUM(HI18,HC18,GW18,GQ18,GK18,GE18,FY18,FS18) -> 8286.4804 | HP18: =SUM(HJ18,HD18,GX18,GR18,GL18,GF18,FZ18,FT18) -> 2008.6997 | HQ18: =SUM(HK18,HE18,GY18,GS18,GM18,GG18,GA18,FU18) -> 0 | HR18: =SUM(HR6:HR17) -> 1058549.1 | HS18: =SUM(HS6:HS17) -> 743117.55 | HT18: =SUM(HT6:HT17) -> 190437.38 | HU18: =SUM(HU6:HU17) -> 129875.57 | HV18: =SUM(HV6:HV17) -> 8153.8586 | HW18: =SUM(HW6:HW17) -> 0 | HX18: =SUM(HX6:HX17) -> 1071584.4 | HY18: =SUM(HY6:HY17) -> 16616.927 | ... IJ18: =SUM(IJ6:IJ17) -> 434255.75 | IK18: =SUM(HS18,HY18,IE18) -> 1130996.2 | IL18: =SUM(HT18,HZ18,IF18) -> 248740.23 | IM18: =SUM(HU18,IA18,IG18) -> 145126.32 | IN18: =SUM(HV18,IB18,IH18) -> 10219.959 | IO18: =SUM(HW18,IC18,II18) -> 0 | IP18: =SUM(IP6:IP17) -> 1535082.7 | IQ18: =SUM(IQ6:IQ17) -> 169684.11 | IR18: =SUM(IR6:IR17) -> 36546.006 | IS18: =SUM(IS6:IS17) -> 3513.1857 | IT18: =SUM(IT6:IT17) -> 515.66973 | IU18: =SUM(IU6:IU17) -> 0 | IV18: =SUM(IV6:IV17) -> 210258.97 | IW18: =SUM(IW6:IW17) -> 136121.42 | ... JH18: =SUM(JH6:JH17) -> 989445.23 | JI18: =SUM(IQ18,IW18,JC18) -> 634259.4 | JJ18: =SUM(IR18,IX18,JD18) -> 553034.29 | JK18: =SUM(IS18,IY18,JE18) -> 224038.54 | JL18: =SUM(IT18,IZ18,JF18) -> 35130.968 | JM18: =SUM(IU18,JA18,JG18) -> 658.02356 | JN18: =SUM(JN6:JN17) -> 1447121.2 | JP18: =SUM(T18,BE18,CE18,DN18,FK18,HM18,IK18,JI18) -> 2983191.8 | JQ18: =SUM(U18,BF18,CF18,DO18,FL18,HN18,IL18,JJ18) -> 899652.06 | JR18: =SUM(V18,BG18,CG18,DP18,FM18,HO18,IM18,JK18) -> 390487.65 | JS18: =SUM(W18,BH18,CH18,DQ18,FN18,HP18,IN18,JL18) -> 50989.227 | JT18: =SUM(X18,BI18,CI18,DR18,FO18,HQ18,IO18,JM18) -> 658.02356 | JU18: =SUM(DS18,BJ18,CJ18) -> 0 | JV18: =SUM(JV6:JV17) -> 4324978.8
A20: Defoliators
A21: ID=Defoliators | G21: =SUM(B21:F21) -> 0 | M21: =SUM(H21:L21) -> 0 | S21: =SUM(N21:R21) -> 0 | T21: =SUM(B21,H21,N21) -> 0 | U21: =SUM(C21,I21,O21) -> 0 | V21: =SUM(D21,J21,P21) -> 0 | W21: =SUM(E21,K21,Q21) -> 0 | X21: =SUM(F21,L21,R21) -> 0 | Y21: =SUM(T21:X21) -> 0 | AE21: =SUM(Z21:AD21) -> 0 | AK21: =SUM(AF21:AJ21) -> 0 | AQ21: =SUM(AL21:AP21) -> 0 | AX21: =SUM(AR21:AW21) -> 0 | BD21: =SUM(AY21:BC21) -> 0 | BE21: =SUM(Z21,AF21,AL21,AR21,AY21) -> 0 | BF21: =SUM(AA21,AG21,AM21,AS21,AZ21) -> 0 | BG21: =SUM(AB21,AH21,AN21,AT21,BA21) -> 0 | BH21: =SUM(AC21,AI21,AO21,AU21,BB21) -> 0 | BI21: =SUM(AD21,AJ21,AP21,AV21,BC21) -> 0 | BJ21: =SUM(AW21) -> 0 | BK21: =SUM(BE21:BI21) -> 0 | BQ21: =SUM(BL21:BP21) -> 0 | BW21: =SUM(BR21:BV21) -> 0 | CD21: =SUM(BX21:CC21) -> 0 | CE21: =SUM(BL21,BR21,BX21) -> 0 | CF21: =SUM(BM21,BS21,BY21) -> 0 | CG21: =SUM(BN21,BT21,BZ21) -> 0 | CH21: =SUM(BO21,BU21,CA21) -> 0 | CI21: =SUM(BP21,BV21,CB21) -> 0 | CJ21: =SUM(CC21) -> 0 | CK21: =SUM(CE21:CJ21) -> 0 | CR21: =SUM(CL21:CQ21) -> 0 | CY21: =SUM(CS21:CX21) -> 0 | DF21: =SUM(CZ21:DE21) -> 0 | DM21: =SUM(DG21:DL21) -> 0 | DN21: =SUM(CL21,CS21,CZ21,DG21) -> 0 | DO21: =SUM(CM21,CT21,DA21,DH21) -> 0 | DP21: =SUM(CN21,CU21,DB21,DI21) -> 0 | DQ21: =SUM(CO21,CV21,DC21,DJ21) -> 0 | DR21: =SUM(CP21,CW21,DD21,DK21) -> 0 | DS21: =SUM(CQ21,CX21,DE21,DL21) -> 0 | DT21: =SUM(DN21:DS21) -> 0 | DZ21: =SUM(DU21:DY21) -> 0 | EF21: =SUM(EA21:EE21) -> 0 | EL21: =SUM(EG21:EK21) -> 0 | ER21: =SUM(EM21:EQ21) -> 0 | EX21: =SUM(ES21:EW21) -> 0 | FD21: =SUM(EY21:FC21) -> 0 | FJ21: =SUM(FE21:FI21) -> 0 | FK21: =SUM(DU21,EA21,EG21,EM21,ES21,EY21,FE21) -> 0 | FL21: =SUM(DV21,EB21,EH21,EN21,ET21,EZ21,FF21) -> 0 | FM21: =SUM(DW21,EC21,EI21,EO21,EU21,FA21,FG21) -> 0 | FN21: =SUM(DX21,ED21,EJ21,EP21,EV21,FB21,FH21) -> 0 | FO21: =SUM(DY21,EE21,EK21,EQ21,EW21,FC21,FI21) -> 0 | FP21: =SUM(FK21:FO21) -> 0 | FV21: =SUM(FQ21:FU21) -> 0 | FX21: 1024.8918 | FY21: 4678.4331 | FZ21: 108.63192 | GB21: =SUM(FW21:GA21) -> 5811.9568 | GD21: 1341.4421 | GE21: 29.445621 | GH21: =SUM(GC21:GG21) -> 1370.8877 | GN21: =SUM(GI21:GM21) -> 0 | GT21: =SUM(GO21:GS21) -> 0 | GZ21: =SUM(GU21:GY21) -> 0 | HF21: =SUM(HA21:HE21) -> 0 | HH21: 1219.1196 | HI21: 16.18744 | HJ21: 172.05014 | HL21: =SUM(HG21:HK21) -> 1407.3571 | HM21: =SUM(FQ21,FW21,GC21,GI21,GO21,GU21,HA21,HG21) -> 0 | HN21: =SUM(FR21,FX21,GD21,GJ21,GP21,GV21,HB21,HH21) -> 3585.4534 | HO21: =SUM(HI21,HC21,GW21,GQ21,GK21,GE21,FY21,FS21) -> 4724.0661 | HP21: =SUM(HJ21,HD21,GX21,GR21,GL21,GF21,FZ21,FT21) -> 280.68207 | HQ21: =SUM(HK21,HE21,GY21,GS21,GM21,GG21,GA21,FU21) -> 0 | HR21: =SUM(HM21:HQ21) -> 8590.2016 | HX21: =SUM(HS21:HW21) -> 0 | ID21: =SUM(HY21:IC21) -> 0 | IJ21: =SUM(IE21:II21) -> 0 | IK21: =SUM(HS21,HY21,IE21) -> 0 | IL21: =SUM(HT21,HZ21,IF21) -> 0 | IM21: =SUM(HU21,IA21,IG21) -> 0 | IN21: =SUM(HV21,IB21,IH21) -> 0 | IO21: =SUM(HW21,IC21,II21) -> 0 | IP21: =SUM(IK21:IO21) -> 0 | IV21: =SUM(IQ21:IU21) -> 0 | JB21: =SUM(IW21:JA21) -> 0 | JH21: =SUM(JC21:JG21) -> 0 | JI21: =SUM(IQ21,IW21,JC21) -> 0 | JJ21: =SUM(IR21,IX21,JD21) -> 0 | JK21: =SUM(IS21,IY21,JE21) -> 0 | JL21: =SUM(IT21,IZ21,JF21) -> 0 | JM21: =SUM(IU21,JA21,JG21) -> 0 | JN21: =SUM(JI21:JM21) -> 0 | JP21: =SUM(T21,BE21,CE21,DN21,FK21,HM21,IK21,JI21) -> 0 | JQ21: =SUM(U21,BF21,CF21,DO21,FL21,HN21,IL21,JJ21) -> 3585.4534 | JR21: =SUM(V21,BG21,CG21,DP21,FM21,HO21,IM21,JK21) -> 4724.0661 | JS21: =SUM(W21,BH21,CH21,DQ21,FN21,HP21,IN21,JL21) -> 280.68207 | JT21: =SUM(X21,BI21,CI21,DR21,FO21,HQ21,IO21,JM21) -> 0 | JU21: =SUM(DS21,BJ21,CJ21) -> 0 | JV21: =SUM(JP21:JU21) -> 8590.2016
A22: IAB=Balsam Woolly Adelgid | C22: 23.939966 | G22: =SUM(B22:F22) -> 23.939966 | M22: =SUM(H22:L22) -> 0 | N22: 6.8388052 | O22: 32.60568 | S22: =SUM(N22:R22) -> 39.444485 | T22: =SUM(B22,H22,N22) -> 6.8388052 | U22: =SUM(C22,I22,O22) -> 56.545646 | V22: =SUM(D22,J22,P22) -> 0 | W22: =SUM(E22,K22,Q22) -> 0 | X22: =SUM(F22,L22,R22) -> 0 | Y22: =SUM(T22:X22) -> 63.384451 | AA22: 19.575857 | AC22: 2.25 | AE22: =SUM(Z22:AD22) -> 21.825857 | AK22: =SUM(AF22:AJ22) -> 0 | AQ22: =SUM(AL22:AP22) -> 0 | AX22: =SUM(AR22:AW22) -> 0 | BD22: =SUM(AY22:BC22) -> 0 | BE22: =SUM(Z22,AF22,AL22,AR22,AY22) -> 0 | BF22: =SUM(AA22,AG22,AM22,AS22,AZ22) -> 19.575857 | BG22: =SUM(AB22,AH22,AN22,AT22,BA22) -> 0 | BH22: =SUM(AC22,AI22,AO22,AU22,BB22) -> 2.25 | BI22: =SUM(AD22,AJ22,AP22,AV22,BC22) -> 0 | BJ22: =SUM(AW22) -> 0 | BK22: =SUM(BE22:BI22) -> 21.825857 | BQ22: =SUM(BL22:BP22) -> 0 | BW22: =SUM(BR22:BV22) -> 0 | CD22: =SUM(BX22:CC22) -> 0 | CE22: =SUM(BL22,BR22,BX22) -> 0 | CF22: =SUM(BM22,BS22,BY22) -> 0 | CG22: =SUM(BN22,BT22,BZ22) -> 0 | CH22: =SUM(BO22,BU22,CA22) -> 0 | CI22: =SUM(BP22,BV22,CB22) -> 0 | CJ22: =SUM(CC22) -> 0 | CK22: =SUM(CE22:CJ22) -> 0 | CR22: =SUM(CL22:CQ22) -> 0 | CY22: =SUM(CS22:CX22) -> 0 | DF22: =SUM(CZ22:DE22) -> 0 | DM22: =SUM(DG22:DL22) -> 0 | DN22: =SUM(CL22,CS22,CZ22,DG22) -> 0 | DO22: =SUM(CM22,CT22,DA22,DH22) -> 0 | DP22: =SUM(CN22,CU22,DB22,DI22) -> 0 | DQ22: =SUM(CO22,CV22,DC22,DJ22) -> 0 | DR22: =SUM(CP22,CW22,DD22,DK22) -> 0 | DS22: =SUM(CQ22,CX22,DE22,DL22) -> 0 | DT22: =SUM(DN22:DS22) -> 0 | DZ22: =SUM(DU22:DY22) -> 0 | EF22: =SUM(EA22:EE22) -> 0 | EL22: =SUM(EG22:EK22) -> 0 | ER22: =SUM(EM22:EQ22) -> 0 | EX22: =SUM(ES22:EW22) -> 0 | FD22: =SUM(EY22:FC22) -> 0 | FJ22: =SUM(FE22:FI22) -> 0 | FK22: =SUM(DU22,EA22,EG22,EM22,ES22,EY22,FE22) -> 0 | FL22: =SUM(DV22,EB22,EH22,EN22,ET22,EZ22,FF22) -> 0 | FM22: =SUM(DW22,EC22,EI22,EO22,EU22,FA22,FG22) -> 0 | FN22: =SUM(DX22,ED22,EJ22,EP22,EV22,FB22,FH22) -> 0 | FO22: =SUM(DY22,EE22,EK22,EQ22,EW22,FC22,FI22) -> 0 | FP22: =SUM(FK22:FO22) -> 0 | FV22: =SUM(FQ22:FU22) -> 0 | GB22: =SUM(FW22:GA22) -> 0 | GH22: =SUM(GC22:GG22) -> 0 | GN22: =SUM(GI22:GM22) -> 0 | GT22: =SUM(GO22:GS22) -> 0 | GZ22: =SUM(GU22:GY22) -> 0 | HF22: =SUM(HA22:HE22) -> 0 | HL22: =SUM(HG22:HK22) -> 0 | HM22: =SUM(FQ22,FW22,GC22,GI22,GO22,GU22,HA22,HG22) -> 0 | HN22: =SUM(FR22,FX22,GD22,GJ22,GP22,GV22,HB22,HH22) -> 0 | HO22: =SUM(HI22,HC22,GW22,GQ22,GK22,GE22,FY22,FS22) -> 0 | HP22: =SUM(HJ22,HD22,GX22,GR22,GL22,GF22,FZ22,FT22) -> 0 | HQ22: =SUM(HK22,HE22,GY22,GS22,GM22,GG22,GA22,FU22) -> 0 | HR22: =SUM(HM22:HQ22) -> 0 | HX22: =SUM(HS22:HW22) -> 0 | ID22: =SUM(HY22:IC22) -> 0 | IJ22: =SUM(IE22:II22) -> 0 | IK22: =SUM(HS22,HY22,IE22) -> 0 | IL22: =SUM(HT22,HZ22,IF22) -> 0 | IM22: =SUM(HU22,IA22,IG22) -> 0 | IN22: =SUM(HV22,IB22,IH22) -> 0 | IO22: =SUM(HW22,IC22,II22) -> 0 | IP22: =SUM(IK22:IO22) -> 0 | IV22: =SUM(IQ22:IU22) -> 0 | JB22: =SUM(IW22:JA22) -> 0 | JH22: =SUM(JC22:JG22) -> 0 | JI22: =SUM(IQ22,IW22,JC22) -> 0 | JJ22: =SUM(IR22,IX22,JD22) -> 0 | JK22: =SUM(IS22,IY22,JE22) -> 0 | JL22: =SUM(IT22,IZ22,JF22) -> 0 | JM22: =SUM(IU22,JA22,JG22) -> 0 | JN22: =SUM(JI22:JM22) -> 0 | JP22: =SUM(T22,BE22,CE22,DN22,FK22,HM22,IK22,JI22) -> 6.8388052 | JQ22: =SUM(U22,BF22,CF22,DO22,FL22,HN22,IL22,JJ22) -> 76.121503 | JR22: =SUM(V22,BG22,CG22,DP22,FM22,HO22,IM22,JK22) -> 0 | JS22: =SUM(W22,BH22,CH22,DQ22,FN22,HP22,IN22,JL22) -> 2.25 | JT22: =SUM(X22,BI22,CI22,DR22,FO22,HQ22,IO22,JM22) -> 0 | JU22: =SUM(DS22,BJ22,CJ22) -> 0 | JV22: =SUM(JP22:JU22) -> 85.210308
A23: IAS=Green Spruce Aphid | G23: =SUM(B23:F23) -> 0 | M23: =SUM(H23:L23) -> 0 | S23: =SUM(N23:R23) -> 0 | T23: =SUM(B23,H23,N23) -> 0 | U23: =SUM(C23,I23,O23) -> 0 | V23: =SUM(D23,J23,P23) -> 0 | W23: =SUM(E23,K23,Q23) -> 0 | X23: =SUM(F23,L23,R23) -> 0 | Y23: =SUM(T23:X23) -> 0 | AE23: =SUM(Z23:AD23) -> 0 | AK23: =SUM(AF23:AJ23) -> 0 | AQ23: =SUM(AL23:AP23) -> 0 | AX23: =SUM(AR23:AW23) -> 0 | BD23: =SUM(AY23:BC23) -> 0 | BE23: =SUM(Z23,AF23,AL23,AR23,AY23) -> 0 | BF23: =SUM(AA23,AG23,AM23,AS23,AZ23) -> 0 | BG23: =SUM(AB23,AH23,AN23,AT23,BA23) -> 0 | BH23: =SUM(AC23,AI23,AO23,AU23,BB23) -> 0 | BI23: =SUM(AD23,AJ23,AP23,AV23,BC23) -> 0 | BJ23: =SUM(AW23) -> 0 | BK23: =SUM(BE23:BI23) -> 0 | BQ23: =SUM(BL23:BP23) -> 0 | BW23: =SUM(BR23:BV23) -> 0 | CD23: =SUM(BX23:CC23) -> 0 | CE23: =SUM(BL23,BR23,BX23) -> 0 | CF23: =SUM(BM23,BS23,BY23) -> 0 | CG23: =SUM(BN23,BT23,BZ23) -> 0 | CH23: =SUM(BO23,BU23,CA23) -> 0 | CI23: =SUM(BP23,BV23,CB23) -> 0 | CJ23: =SUM(CC23) -> 0 | CK23: =SUM(CE23:CJ23) -> 0 | CR23: =SUM(CL23:CQ23) -> 0 | CY23: =SUM(CS23:CX23) -> 0 | DF23: =SUM(CZ23:DE23) -> 0 | DM23: =SUM(DG23:DL23) -> 0 | DN23: =SUM(CL23,CS23,CZ23,DG23) -> 0 | DO23: =SUM(CM23,CT23,DA23,DH23) -> 0 | DP23: =SUM(CN23,CU23,DB23,DI23) -> 0 | DQ23: =SUM(CO23,CV23,DC23,DJ23) -> 0 | DR23: =SUM(CP23,CW23,DD23,DK23) -> 0 | DS23: =SUM(CQ23,CX23,DE23,DL23) -> 0 | DT23: =SUM(DN23:DS23) -> 0 | DZ23: =SUM(DU23:DY23) -> 0 | EF23: =SUM(EA23:EE23) -> 0 | EL23: =SUM(EG23:EK23) -> 0 | ER23: =SUM(EM23:EQ23) -> 0 | EX23: =SUM(ES23:EW23) -> 0 | FD23: =SUM(EY23:FC23) -> 0 | FJ23: =SUM(FE23:FI23) -> 0 | FK23: =SUM(DU23,EA23,EG23,EM23,ES23,EY23,FE23) -> 0 | FL23: =SUM(DV23,EB23,EH23,EN23,ET23,EZ23,FF23) -> 0 | FM23: =SUM(DW23,EC23,EI23,EO23,EU23,FA23,FG23) -> 0 | FN23: =SUM(DX23,ED23,EJ23,EP23,EV23,FB23,FH23) -> 0 | FO23: =SUM(DY23,EE23,EK23,EQ23,EW23,FC23,FI23) -> 0 | FP23: =SUM(FK23:FO23) -> 0 | FV23: =SUM(FQ23:FU23) -> 0 | GB23: =SUM(FW23:GA23) -> 0 | GH23: =SUM(GC23:GG23) -> 0 | GN23: =SUM(GI23:GM23) -> 0 | GT23: =SUM(GO23:GS23) -> 0 | GZ23: =SUM(GU23:GY23) -> 0 | HF23: =SUM(HA23:HE23) -> 0 | HL23: =SUM(HG23:HK23) -> 0 | HM23: =SUM(FQ23,FW23,GC23,GI23,GO23,GU23,HA23,HG23) -> 0 | HN23: =SUM(FR23,FX23,GD23,GJ23,GP23,GV23,HB23,HH23) -> 0 | HO23: =SUM(HI23,HC23,GW23,GQ23,GK23,GE23,FY23,FS23) -> 0 | HP23: =SUM(HJ23,HD23,GX23,GR23,GL23,GF23,FZ23,FT23) -> 0 | HQ23: =SUM(HK23,HE23,GY23,GS23,GM23,GG23,GA23,FU23) -> 0 | HR23: =SUM(HM23:HQ23) -> 0 | HX23: =SUM(HS23:HW23) -> 0 | ID23: =SUM(HY23:IC23) -> 0 | IJ23: =SUM(IE23:II23) -> 0 | IK23: =SUM(HS23,HY23,IE23) -> 0 | IL23: =SUM(HT23,HZ23,IF23) -> 0 | IM23: =SUM(HU23,IA23,IG23) -> 0 | IN23: =SUM(HV23,IB23,IH23) -> 0 | IO23: =SUM(HW23,IC23,II23) -> 0 | IP23: =SUM(IK23:IO23) -> 0 | IV23: =SUM(IQ23:IU23) -> 0 | JB23: =SUM(IW23:JA23) -> 0 | JH23: =SUM(JC23:JG23) -> 0 | JI23: =SUM(IQ23,IW23,JC23) -> 0 | JJ23: =SUM(IR23,IX23,JD23) -> 0 | JK23: =SUM(IS23,IY23,JE23) -> 0 | JL23: =SUM(IT23,IZ23,JF23) -> 0 | JM23: =SUM(IU23,JA23,JG23) -> 0 | JN23: =SUM(JI23:JM23) -> 0 | JP23: =SUM(T23,BE23,CE23,DN23,FK23,HM23,IK23,JI23) -> 0 | JQ23: =SUM(U23,BF23,CF23,DO23,FL23,HN23,IL23,JJ23) -> 0 | JR23: =SUM(V23,BG23,CG23,DP23,FM23,HO23,IM23,JK23) -> 0 | JS23: =SUM(W23,BH23,CH23,DQ23,FN23,HP23,IN23,JL23) -> 0 | JT23: =SUM(X23,BI23,CI23,DR23,FO23,HQ23,IO23,JM23) -> 0 | JU23: =SUM(DS23,BJ23,CJ23) -> 0 | JV23: =SUM(JP23:JU23) -> 0
A24: ID1=Leaf Beetles | G24: =SUM(B24:F24) -> 0 | M24: =SUM(H24:L24) -> 0 | S24: =SUM(N24:R24) -> 0 | T24: =SUM(B24,H24,N24) -> 0 | U24: =SUM(C24,I24,O24) -> 0 | V24: =SUM(D24,J24,P24) -> 0 | W24: =SUM(E24,K24,Q24) -> 0 | X24: =SUM(F24,L24,R24) -> 0 | Y24: =SUM(T24:X24) -> 0 | AE24: =SUM(Z24:AD24) -> 0 | AK24: =SUM(AF24:AJ24) -> 0 | AQ24: =SUM(AL24:AP24) -> 0 | AX24: =SUM(AR24:AW24) -> 0 | BD24: =SUM(AY24:BC24) -> 0 | BE24: =SUM(Z24,AF24,AL24,AR24,AY24) -> 0 | BF24: =SUM(AA24,AG24,AM24,AS24,AZ24) -> 0 | BG24: =SUM(AB24,AH24,AN24,AT24,BA24) -> 0 | BH24: =SUM(AC24,AI24,AO24,AU24,BB24) -> 0 | BI24: =SUM(AD24,AJ24,AP24,AV24,BC24) -> 0 | BJ24: =SUM(AW24) -> 0 | BK24: =SUM(BE24:BI24) -> 0 | BQ24: =SUM(BL24:BP24) -> 0 | BW24: =SUM(BR24:BV24) -> 0 | CD24: =SUM(BX24:CC24) -> 0 | CE24: =SUM(BL24,BR24,BX24) -> 0 | CF24: =SUM(BM24,BS24,BY24) -> 0 | CG24: =SUM(BN24,BT24,BZ24) -> 0 | CH24: =SUM(BO24,BU24,CA24) -> 0 | CI24: =SUM(BP24,BV24,CB24) -> 0 | CJ24: =SUM(CC24) -> 0 | CK24: =SUM(CE24:CJ24) -> 0 | CR24: =SUM(CL24:CQ24) -> 0 | CY24: =SUM(CS24:CX24) -> 0 | DF24: =SUM(CZ24:DE24) -> 0 | DM24: =SUM(DG24:DL24) -> 0 | DN24: =SUM(CL24,CS24,CZ24,DG24) -> 0 | DO24: =SUM(CM24,CT24,DA24,DH24) -> 0 | DP24: =SUM(CN24,CU24,DB24,DI24) -> 0 | DQ24: =SUM(CO24,CV24,DC24,DJ24) -> 0 | DR24: =SUM(CP24,CW24,DD24,DK24) -> 0 | DS24: =SUM(CQ24,CX24,DE24,DL24) -> 0 | DT24: =SUM(DN24:DS24) -> 0 | DV24: 49.9735 | DZ24: =SUM(DU24:DY24) -> 49.9735 | EF24: =SUM(EA24:EE24) -> 0 | EL24: =SUM(EG24:EK24) -> 0 | ER24: =SUM(EM24:EQ24) -> 0 | EX24: =SUM(ES24:EW24) -> 0 | FD24: =SUM(EY24:FC24) -> 0 | FJ24: =SUM(FE24:FI24) -> 0 | FK24: =SUM(DU24,EA24,EG24,EM24,ES24,EY24,FE24) -> 0 | FL24: =SUM(DV24,EB24,EH24,EN24,ET24,EZ24,FF24) -> 49.9735 | FM24: =SUM(DW24,EC24,EI24,EO24,EU24,FA24,FG24) -> 0 | FN24: =SUM(DX24,ED24,EJ24,EP24,EV24,FB24,FH24) -> 0 | FO24: =SUM(DY24,EE24,EK24,EQ24,EW24,FC24,FI24) -> 0 | FP24: =SUM(FK24:FO24) -> 49.9735 | FV24: =SUM(FQ24:FU24) -> 0 | GB24: =SUM(FW24:GA24) -> 0 | GH24: =SUM(GC24:GG24) -> 0 | GN24: =SUM(GI24:GM24) -> 0 | GT24: =SUM(GO24:GS24) -> 0 | GZ24: =SUM(GU24:GY24) -> 0 | HF24: =SUM(HA24:HE24) -> 0 | HL24: =SUM(HG24:HK24) -> 0 | HM24: =SUM(FQ24,FW24,GC24,GI24,GO24,GU24,HA24,HG24) -> 0 | HN24: =SUM(FR24,FX24,GD24,GJ24,GP24,GV24,HB24,HH24) -> 0 | HO24: =SUM(HI24,HC24,GW24,GQ24,GK24,GE24,FY24,FS24) -> 0 | HP24: =SUM(HJ24,HD24,GX24,GR24,GL24,GF24,FZ24,FT24) -> 0 | HQ24: =SUM(HK24,HE24,GY24,GS24,GM24,GG24,GA24,FU24) -> 0 | HR24: =SUM(HM24:HQ24) -> 0 | HX24: =SUM(HS24:HW24) -> 0 | ID24: =SUM(HY24:IC24) -> 0 | IJ24: =SUM(IE24:II24) -> 0 | IK24: =SUM(HS24,HY24,IE24) -> 0 | IL24: =SUM(HT24,HZ24,IF24) -> 0 | IM24: =SUM(HU24,IA24,IG24) -> 0 | IN24: =SUM(HV24,IB24,IH24) -> 0 | IO24: =SUM(HW24,IC24,II24) -> 0 | IP24: =SUM(IK24:IO24) -> 0 | IV24: =SUM(IQ24:IU24) -> 0 | JB24: =SUM(IW24:JA24) -> 0 | JH24: =SUM(JC24:JG24) -> 0 | JI24: =SUM(IQ24,IW24,JC24) -> 0 | JJ24: =SUM(IR24,IX24,JD24) -> 0 | JK24: =SUM(IS24,IY24,JE24) -> 0 | JL24: =SUM(IT24,IZ24,JF24) -> 0 | JM24: =SUM(IU24,JA24,JG24) -> 0 | JN24: =SUM(JI24:JM24) -> 0 | JP24: =SUM(T24,BE24,CE24,DN24,FK24,HM24,IK24,JI24) -> 0 | JQ24: =SUM(U24,BF24,CF24,DO24,FL24,HN24,IL24,JJ24) -> 49.9735 | JR24: =SUM(V24,BG24,CG24,DP24,FM24,HO24,IM24,JK24) -> 0 | JS24: =SUM(W24,BH24,CH24,DQ24,FN24,HP24,IN24,JL24) -> 0 | JT24: =SUM(X24,BI24,CI24,DR24,FO24,HQ24,IO24,JM24) -> 0 | JU24: =SUM(DS24,BJ24,CJ24) -> 0 | JV24: =SUM(JP24:JU24) -> 49.9735
A25: ID2=Bruce spanworm | G25: =SUM(B25:F25) -> 0 | M25: =SUM(H25:L25) -> 0 | S25: =SUM(N25:R25) -> 0 | T25: =SUM(B25,H25,N25) -> 0 | U25: =SUM(C25,I25,O25) -> 0 | V25: =SUM(D25,J25,P25) -> 0 | W25: =SUM(E25,K25,Q25) -> 0 | X25: =SUM(F25,L25,R25) -> 0 | Y25: =SUM(T25:X25) -> 0 | AE25: =SUM(Z25:AD25) -> 0 | AK25: =SUM(AF25:AJ25) -> 0 | AQ25: =SUM(AL25:AP25) -> 0 | AX25: =SUM(AR25:AW25) -> 0 | BD25: =SUM(AY25:BC25) -> 0 | BE25: =SUM(Z25,AF25,AL25,AR25,AY25) -> 0 | BF25: =SUM(AA25,AG25,AM25,AS25,AZ25) -> 0 | BG25: =SUM(AB25,AH25,AN25,AT25,BA25) -> 0 | BH25: =SUM(AC25,AI25,AO25,AU25,BB25) -> 0 | BI25: =SUM(AD25,AJ25,AP25,AV25,BC25) -> 0 | BJ25: =SUM(AW25) -> 0 | BK25: =SUM(BE25:BI25) -> 0 | BQ25: =SUM(BL25:BP25) -> 0 | BW25: =SUM(BR25:BV25) -> 0 | CD25: =SUM(BX25:CC25) -> 0 | CE25: =SUM(BL25,BR25,BX25) -> 0 | CF25: =SUM(BM25,BS25,BY25) -> 0 | CG25: =SUM(BN25,BT25,BZ25) -> 0 | CH25: =SUM(BO25,BU25,CA25) -> 0 | CI25: =SUM(BP25,BV25,CB25) -> 0 | CJ25: =SUM(CC25) -> 0 | CK25: =SUM(CE25:CJ25) -> 0 | CR25: =SUM(CL25:CQ25) -> 0 | CY25: =SUM(CS25:CX25) -> 0 | DF25: =SUM(CZ25:DE25) -> 0 | DM25: =SUM(DG25:DL25) -> 0 | DN25: =SUM(CL25,CS25,CZ25,DG25) -> 0 | DO25: =SUM(CM25,CT25,DA25,DH25) -> 0 | DP25: =SUM(CN25,CU25,DB25,DI25) -> 0 | DQ25: =SUM(CO25,CV25,DC25,DJ25) -> 0 | DR25: =SUM(CP25,CW25,DD25,DK25) -> 0 | DS25: =SUM(CQ25,CX25,DE25,DL25) -> 0 | DT25: =SUM(DN25:DS25) -> 0 | DZ25: =SUM(DU25:DY25) -> 0 | EF25: =SUM(EA25:EE25) -> 0 | EL25: =SUM(EG25:EK25) -> 0 | ER25: =SUM(EM25:EQ25) -> 0 | EX25: =SUM(ES25:EW25) -> 0 | FD25: =SUM(EY25:FC25) -> 0 | FJ25: =SUM(FE25:FI25) -> 0 | FK25: =SUM(DU25,EA25,EG25,EM25,ES25,EY25,FE25) -> 0 | FL25: =SUM(DV25,EB25,EH25,EN25,ET25,EZ25,FF25) -> 0 | FM25: =SUM(DW25,EC25,EI25,EO25,EU25,FA25,FG25) -> 0 | FN25: =SUM(DX25,ED25,EJ25,EP25,EV25,FB25,FH25) -> 0 | FO25: =SUM(DY25,EE25,EK25,EQ25,EW25,FC25,FI25) -> 0 | FP25: =SUM(FK25:FO25) -> 0 | FV25: =SUM(FQ25:FU25) -> 0 | GB25: =SUM(FW25:GA25) -> 0 | GH25: =SUM(GC25:GG25) -> 0 | GN25: =SUM(GI25:GM25) -> 0 | GT25: =SUM(GO25:GS25) -> 0 | GZ25: =SUM(GU25:GY25) -> 0 | HF25: =SUM(HA25:HE25) -> 0 | HL25: =SUM(HG25:HK25) -> 0 | HM25: =SUM(FQ25,FW25,GC25,GI25,GO25,GU25,HA25,HG25) -> 0 | HN25: =SUM(FR25,FX25,GD25,GJ25,GP25,GV25,HB25,HH25) -> 0 | HO25: =SUM(HI25,HC25,GW25,GQ25,GK25,GE25,FY25,FS25) -> 0 | HP25: =SUM(HJ25,HD25,GX25,GR25,GL25,GF25,FZ25,FT25) -> 0 | HQ25: =SUM(HK25,HE25,GY25,GS25,GM25,GG25,GA25,FU25) -> 0 | HR25: =SUM(HM25:HQ25) -> 0 | HX25: =SUM(HS25:HW25) -> 0 | ID25: =SUM(HY25:IC25) -> 0 | IJ25: =SUM(IE25:II25) -> 0 | IK25: =SUM(HS25,HY25,IE25) -> 0 | IL25: =SUM(HT25,HZ25,IF25) -> 0 | IM25: =SUM(HU25,IA25,IG25) -> 0 | IN25: =SUM(HV25,IB25,IH25) -> 0 | IO25: =SUM(HW25,IC25,II25) -> 0 | IP25: =SUM(IK25:IO25) -> 0 | IV25: =SUM(IQ25:IU25) -> 0 | JB25: =SUM(IW25:JA25) -> 0 | JH25: =SUM(JC25:JG25) -> 0 | JI25: =SUM(IQ25,IW25,JC25) -> 0 | JJ25: =SUM(IR25,IX25,JD25) -> 0 | JK25: =SUM(IS25,IY25,JE25) -> 0 | JL25: =SUM(IT25,IZ25,JF25) -> 0 | JM25: =SUM(IU25,JA25,JG25) -> 0 | JN25: =SUM(JI25:JM25) -> 0 | JP25: =SUM(T25,BE25,CE25,DN25,FK25,HM25,IK25,JI25) -> 0 | JQ25: =SUM(U25,BF25,CF25,DO25,FL25,HN25,IL25,JJ25) -> 0 | JR25: =SUM(V25,BG25,CG25,DP25,FM25,HO25,IM25,JK25) -> 0 | JS25: =SUM(W25,BH25,CH25,DQ25,FN25,HP25,IN25,JL25) -> 0 | JT25: =SUM(X25,BI25,CI25,DR25,FO25,HQ25,IO25,JM25) -> 0 | JU25: =SUM(DS25,BJ25,CJ25) -> 0 | JV25: =SUM(JP25:JU25) -> 0
A26: ID6=Aspen Leaf Miner | D26: 17.436838 | E26: 423.67467 | G26: =SUM(B26:F26) -> 441.1115 | M26: =SUM(H26:L26) -> 0 | S26: =SUM(N26:R26) -> 0 | T26: =SUM(B26,H26,N26) -> 0 | U26: =SUM(C26,I26,O26) -> 0 | V26: =SUM(D26,J26,P26) -> 17.436838 | W26: =SUM(E26,K26,Q26) -> 423.67467 | X26: =SUM(F26,L26,R26) -> 0 | Y26: =SUM(T26:X26) -> 441.1115 | AE26: =SUM(Z26:AD26) -> 0 | AG26: 29.337077 | AK26: =SUM(AF26:AJ26) -> 29.337077 | AM26: 1505.7021 | AN26: 333.83523 | AO26: 159.63017 | AQ26: =SUM(AL26:AP26) -> 1999.1675 | AX26: =SUM(AR26:AW26) -> 0 | BD26: =SUM(AY26:BC26) -> 0 | BE26: =SUM(Z26,AF26,AL26,AR26,AY26) -> 0 | BF26: =SUM(AA26,AG26,AM26,AS26,AZ26) -> 1535.0391 | BG26: =SUM(AB26,AH26,AN26,AT26,BA26) -> 333.83523 | BH26: =SUM(AC26,AI26,AO26,AU26,BB26) -> 159.63017 | BI26: =SUM(AD26,AJ26,AP26,AV26,BC26) -> 0 | BJ26: =SUM(AW26) -> 0 | BK26: =SUM(BE26:BI26) -> 2028.5045 | BM26: 6432.6927 | BN26: 2472.4514 | BQ26: =SUM(BL26:BP26) -> 8905.1441 | BS26: 7794.6795 | BT26: 23.56335 | BW26: =SUM(BR26:BV26) -> 7818.2428 | BY26: 31415.005 | BZ26: 1269.1666 | CD26: =SUM(BX26:CC26) -> 32684.172 | CE26: =SUM(BL26,BR26,BX26) -> 0 | CF26: =SUM(BM26,BS26,BY26) -> 45642.378 | CG26: =SUM(BN26,BT26,BZ26) -> 3765.1813 | CH26: =SUM(BO26,BU26,CA26) -> 0 | CI26: =SUM(BP26,BV26,CB26) -> 0 | CJ26: =SUM(CC26) -> 0 | CK26: =SUM(CE26:CJ26) -> 49407.559 | CM26: 20882.908 | CN26: 22250.762 | CO26: 970.11427 | CR26: =SUM(CL26:CQ26) -> 44103.783 | CT26: 207.51062 | CU26: 274.55245 | CV26: 23.044594 | CY26: =SUM(CS26:CX26) -> 505.10767 | DA26: 1199.9432 | DB26: 647.36449 | DC26: 201.48427 | DF26: =SUM(CZ26:DE26) -> 2048.792 | DH26: 4615.6192 | DI26: 2976.2333 | DJ26: 537.54606 | DM26: =SUM(DG26:DL26) -> 8129.3986 | DN26: =SUM(CL26,CS26,CZ26,DG26) -> 0 | DO26: =SUM(CM26,CT26,DA26,DH26) -> 26905.981 | DP26: =SUM(CN26,CU26,DB26,DI26) -> 26148.912 | DQ26: =SUM(CO26,CV26,DC26,DJ26) -> 1732.1892 | DR26: =SUM(CP26,CW26,DD26,DK26) -> 0 | DS26: =SUM(CQ26,CX26,DE26,DL26) -> 0 | DT26: =SUM(DN26:DS26) -> 54787.082 | DV26: 1104.5152 | DW26: 1025.8532 | DZ26: =SUM(DU26:DY26) -> 2130.3683 | EF26: =SUM(EA26:EE26) -> 0 | EH26: 416.52462 | EI26: 636.05712 | EL26: =SUM(EG26:EK26) -> 1052.5817 | EN26: 2408.5811 | EO26: 1250.9128 | EP26: 26.07002 | ER26: =SUM(EM26:EQ26) -> 3685.5639 | ET26: 177.63817 | EX26: =SUM(ES26:EW26) -> 177.63817 | EZ26: 636.39872 | FA26: 1355.5339 | FB26: 25.4043 | FD26: =SUM(EY26:FC26) -> 2017.3369 | FF26: 1114.0107 | FG26: 93.557219 | FJ26: =SUM(FE26:FI26) -> 1207.5679 | FK26: =SUM(DU26,EA26,EG26,EM26,ES26,EY26,FE26) -> 0 | FL26: =SUM(DV26,EB26,EH26,EN26,ET26,EZ26,FF26) -> 5857.6684 | FM26: =SUM(DW26,EC26,EI26,EO26,EU26,FA26,FG26) -> 4361.9142 | FN26: =SUM(DX26,ED26,EJ26,EP26,EV26,FB26,FH26) -> 51.47432 | FO26: =SUM(DY26,EE26,EK26,EQ26,EW26,FC26,FI26) -> 0 | FP26: =SUM(FK26:FO26) -> 10271.057 | FR26: 127921.21 | FS26: 72771.161 | FT26: 3527.695 | FV26: =SUM(FQ26:FU26) -> 204220.07 | FX26: 341597.04 | FY26: 118275.81 | FZ26: 35705.61 | GB26: =SUM(FW26:GA26) -> 495578.46 | GD26: 34910.567 | GE26: 17094.281 | GF26: 19574.449 | GH26: =SUM(GC26:GG26) -> 71579.298 | GJ26: 83079.838 | GK26: 119054.26 | GL26: 18681.265 | GN26: =SUM(GI26:GM26) -> 220815.37 | GP26: 122037.32 | GQ26: 65080.445 | GR26: 5516.6068 | GT26: =SUM(GO26:GS26) -> 192634.37 | GV26: 272474.98 | GW26: 55908.377 | GX26: 28129.872 | GZ26: =SUM(GU26:GY26) -> 356513.22 | HB26: 15936.767 | HC26: 9200.176 | HD26: 2009.7624 | HF26: =SUM(HA26:HE26) -> 27146.705 | HH26: 2183.3776 | HI26: 1777.3994 | HJ26: 196.75481 | HL26: =SUM(HG26:HK26) -> 4157.5318 | HM26: =SUM(FQ26,FW26,GC26,GI26,GO26,GU26,HA26,HG26) -> 0 | HN26: =SUM(FR26,FX26,GD26,GJ26,GP26,GV26,HB26,HH26) -> 1000141.1 | HO26: =SUM(HI26,HC26,GW26,GQ26,GK26,GE26,FY26,FS26) -> 459161.92 | HP26: =SUM(HJ26,HD26,GX26,GR26,GL26,GF26,FZ26,FT26) -> 113342.01 | HQ26: =SUM(HK26,HE26,GY26,GS26,GM26,GG26,GA26,FU26) -> 0 | HR26: =SUM(HM26:HQ26) -> 1572645 | HT26: 21640.326 | HU26: 37965.594 | HV26: 7465.2946 | HX26: =SUM(HS26:HW26) -> 67071.215 | HY26: 115.23487 | HZ26: 8404.1478 | IA26: 1054.4506 | ID26: =SUM(HY26:IC26) -> 9573.8333 | IF26: 124411.29 | IG26: 199714.56 | IH26: 66803.73 | IJ26: =SUM(IE26:II26) -> 390929.58 | IK26: =SUM(HS26,HY26,IE26) -> 115.23487 | IL26: =SUM(HT26,HZ26,IF26) -> 154455.76 | IM26: =SUM(HU26,IA26,IG26) -> 238734.61 | IN26: =SUM(HV26,IB26,IH26) -> 74269.025 | IO26: =SUM(HW26,IC26,II26) -> 0 | IP26: =SUM(IK26:IO26) -> 467574.63 | IR26: 7183.1434 | IS26: 8668.9418 | IT26: 18443.105 | IV26: =SUM(IQ26:IU26) -> 34295.19 | IX26: 18259.164 | IY26: 144566.06 | IZ26: 221894.68 | JB26: =SUM(IW26:JA26) -> 384719.91 | JD26: 526.24459 | JE26: 1.099736 | JF26: 1005.3209 | JH26: =SUM(JC26:JG26) -> 1532.6652 | JI26: =SUM(IQ26,IW26,JC26) -> 0 | JJ26: =SUM(IR26,IX26,JD26) -> 25968.552 | JK26: =SUM(IS26,IY26,JE26) -> 153236.1 | JL26: =SUM(IT26,IZ26,JF26) -> 241343.11 | JM26: =SUM(IU26,JA26,JG26) -> 0 | JN26: =SUM(JI26:JM26) -> 420547.76 | JP26: =SUM(T26,BE26,CE26,DN26,FK26,HM26,IK26,JI26) -> 115.23487 | JQ26: =SUM(U26,BF26,CF26,DO26,FL26,HN26,IL26,JJ26) -> 1260506.5 | JR26: =SUM(V26,BG26,CG26,DP26,FM26,HO26,IM26,JK26) -> 885759.9 | JS26: =SUM(W26,BH26,CH26,DQ26,FN26,HP26,IN26,JL26) -> 431321.12 | JT26: =SUM(X26,BI26,CI26,DR26,FO26,HQ26,IO26,JM26) -> 0 | JU26: =SUM(DS26,BJ26,CJ26) -> 0 | JV26: =SUM(JP26:JU26) -> 2577702.7
A27: IDA=Black Army Cutworm | G27: =SUM(B27:F27) -> 0 | M27: =SUM(H27:L27) -> 0 | S27: =SUM(N27:R27) -> 0 | T27: =SUM(B27,H27,N27) -> 0 | U27: =SUM(C27,I27,O27) -> 0 | V27: =SUM(D27,J27,P27) -> 0 | W27: =SUM(E27,K27,Q27) -> 0 | X27: =SUM(F27,L27,R27) -> 0 | Y27: =SUM(T27:X27) -> 0 | AE27: =SUM(Z27:AD27) -> 0 | AK27: =SUM(AF27:AJ27) -> 0 | AQ27: =SUM(AL27:AP27) -> 0 | AX27: =SUM(AR27:AW27) -> 0 | BD27: =SUM(AY27:BC27) -> 0 | BE27: =SUM(Z27,AF27,AL27,AR27,AY27) -> 0 | BF27: =SUM(AA27,AG27,AM27,AS27,AZ27) -> 0 | BG27: =SUM(AB27,AH27,AN27,AT27,BA27) -> 0 | BH27: =SUM(AC27,AI27,AO27,AU27,BB27) -> 0 | BI27: =SUM(AD27,AJ27,AP27,AV27,BC27) -> 0 | BJ27: =SUM(AW27) -> 0 | BK27: =SUM(BE27:BI27) -> 0 | BQ27: =SUM(BL27:BP27) -> 0 | BW27: =SUM(BR27:BV27) -> 0 | CD27: =SUM(BX27:CC27) -> 0 | CE27: =SUM(BL27,BR27,BX27) -> 0 | CF27: =SUM(BM27,BS27,BY27) -> 0 | CG27: =SUM(BN27,BT27,BZ27) -> 0 | CH27: =SUM(BO27,BU27,CA27) -> 0 | CI27: =SUM(BP27,BV27,CB27) -> 0 | CJ27: =SUM(CC27) -> 0 | CK27: =SUM(CE27:CJ27) -> 0 | CR27: =SUM(CL27:CQ27) -> 0 | CY27: =SUM(CS27:CX27) -> 0 | DF27: =SUM(CZ27:DE27) -> 0 | DM27: =SUM(DG27:DL27) -> 0 | DN27: =SUM(CL27,CS27,CZ27,DG27) -> 0 | DO27: =SUM(CM27,CT27,DA27,DH27) -> 0 | DP27: =SUM(CN27,CU27,DB27,DI27) -> 0 | DQ27: =SUM(CO27,CV27,DC27,DJ27) -> 0 | DR27: =SUM(CP27,CW27,DD27,DK27) -> 0 | DS27: =SUM(CQ27,CX27,DE27,DL27) -> 0 | DT27: =SUM(DN27:DS27) -> 0 | DZ27: =SUM(DU27:DY27) -> 0 | EF27: =SUM(EA27:EE27) -> 0 | EL27: =SUM(EG27:EK27) -> 0 | ER27: =SUM(EM27:EQ27) -> 0 | EX27: =SUM(ES27:EW27) -> 0 | FD27: =SUM(EY27:FC27) -> 0 | FJ27: =SUM(FE27:FI27) -> 0 | FK27: =SUM(DU27,EA27,EG27,EM27,ES27,EY27,FE27) -> 0 | FL27: =SUM(DV27,EB27,EH27,EN27,ET27,EZ27,FF27) -> 0 | FM27: =SUM(DW27,EC27,EI27,EO27,EU27,FA27,FG27) -> 0 | FN27: =SUM(DX27,ED27,EJ27,EP27,EV27,FB27,FH27) -> 0 | FO27: =SUM(DY27,EE27,EK27,EQ27,EW27,FC27,FI27) -> 0 | FP27: =SUM(FK27:FO27) -> 0 | FV27: =SUM(FQ27:FU27) -> 0 | GB27: =SUM(FW27:GA27) -> 0 | GH27: =SUM(GC27:GG27) -> 0 | GN27: =SUM(GI27:GM27) -> 0 | GT27: =SUM(GO27:GS27) -> 0 | GZ27: =SUM(GU27:GY27) -> 0 | HF27: =SUM(HA27:HE27) -> 0 | HL27: =SUM(HG27:HK27) -> 0 | HM27: =SUM(FQ27,FW27,GC27,GI27,GO27,GU27,HA27,HG27) -> 0 | HN27: =SUM(FR27,FX27,GD27,GJ27,GP27,GV27,HB27,HH27) -> 0 | HO27: =SUM(HI27,HC27,GW27,GQ27,GK27,GE27,FY27,FS27) -> 0 | HP27: =SUM(HJ27,HD27,GX27,GR27,GL27,GF27,FZ27,FT27) -> 0 | HQ27: =SUM(HK27,HE27,GY27,GS27,GM27,GG27,GA27,FU27) -> 0 | HR27: =SUM(HM27:HQ27) -> 0 | HX27: =SUM(HS27:HW27) -> 0 | ID27: =SUM(HY27:IC27) -> 0 | IJ27: =SUM(IE27:II27) -> 0 | IK27: =SUM(HS27,HY27,IE27) -> 0 | IL27: =SUM(HT27,HZ27,IF27) -> 0 | IM27: =SUM(HU27,IA27,IG27) -> 0 | IN27: =SUM(HV27,IB27,IH27) -> 0 | IO27: =SUM(HW27,IC27,II27) -> 0 | IP27: =SUM(IK27:IO27) -> 0 | IV27: =SUM(IQ27:IU27) -> 0 | JB27: =SUM(IW27:JA27) -> 0 | JH27: =SUM(JC27:JG27) -> 0 | JI27: =SUM(IQ27,IW27,JC27) -> 0 | JJ27: =SUM(IR27,IX27,JD27) -> 0 | JK27: =SUM(IS27,IY27,JE27) -> 0 | JL27: =SUM(IT27,IZ27,JF27) -> 0 | JM27: =SUM(IU27,JA27,JG27) -> 0 | JN27: =SUM(JI27:JM27) -> 0 | JP27: =SUM(T27,BE27,CE27,DN27,FK27,HM27,IK27,JI27) -> 0 | JQ27: =SUM(U27,BF27,CF27,DO27,FL27,HN27,IL27,JJ27) -> 0 | JR27: =SUM(V27,BG27,CG27,DP27,FM27,HO27,IM27,JK27) -> 0 | JS27: =SUM(W27,BH27,CH27,DQ27,FN27,HP27,IN27,JL27) -> 0 | JT27: =SUM(X27,BI27,CI27,DR27,FO27,HQ27,IO27,JM27) -> 0 | JU27: =SUM(DS27,BJ27,CJ27) -> 0 | JV27: =SUM(JP27:JU27) -> 0
A28: IDB=2-Year Budworm | G28: =SUM(B28:F28) -> 0 | M28: =SUM(H28:L28) -> 0 | S28: =SUM(N28:R28) -> 0 | T28: =SUM(B28,H28,N28) -> 0 | U28: =SUM(C28,I28,O28) -> 0 | V28: =SUM(D28,J28,P28) -> 0 | W28: =SUM(E28,K28,Q28) -> 0 | X28: =SUM(F28,L28,R28) -> 0 | Y28: =SUM(T28:X28) -> 0 | AE28: =SUM(Z28:AD28) -> 0 | AK28: =SUM(AF28:AJ28) -> 0 | AQ28: =SUM(AL28:AP28) -> 0 | AX28: =SUM(AR28:AW28) -> 0 | BD28: =SUM(AY28:BC28) -> 0 | BE28: =SUM(Z28,AF28,AL28,AR28,AY28) -> 0 | BF28: =SUM(AA28,AG28,AM28,AS28,AZ28) -> 0 | BG28: =SUM(AB28,AH28,AN28,AT28,BA28) -> 0 | BH28: =SUM(AC28,AI28,AO28,AU28,BB28) -> 0 | BI28: =SUM(AD28,AJ28,AP28,AV28,BC28) -> 0 | BJ28: =SUM(AW28) -> 0 | BK28: =SUM(BE28:BI28) -> 0 | BM28: 771.37378 | BQ28: =SUM(BL28:BP28) -> 771.37378 | BS28: 54091.444 | BT28: 158.66117 | BW28: =SUM(BR28:BV28) -> 54250.105 | BY28: 16801.541 | CD28: =SUM(BX28:CC28) -> 16801.541 | CE28: =SUM(BL28,BR28,BX28) -> 0 | CF28: =SUM(BM28,BS28,BY28) -> 71664.359 | CG28: =SUM(BN28,BT28,BZ28) -> 158.66117 | CH28: =SUM(BO28,BU28,CA28) -> 0 | CI28: =SUM(BP28,BV28,CB28) -> 0 | CJ28: =SUM(CC28) -> 0 | CK28: =SUM(CE28:CJ28) -> 71823.02 | CM28: 1134.4598 | CR28: =SUM(CL28:CQ28) -> 1134.4598 | CY28: =SUM(CS28:CX28) -> 0 | DF28: =SUM(CZ28:DE28) -> 0 | DM28: =SUM(DG28:DL28) -> 0 | DN28: =SUM(CL28,CS28,CZ28,DG28) -> 0 | DO28: =SUM(CM28,CT28,DA28,DH28) -> 1134.4598 | DP28: =SUM(CN28,CU28,DB28,DI28) -> 0 | DQ28: =SUM(CO28,CV28,DC28,DJ28) -> 0 | DR28: =SUM(CP28,CW28,DD28,DK28) -> 0 | DS28: =SUM(CQ28,CX28,DE28,DL28) -> 0 | DT28: =SUM(DN28:DS28) -> 1134.4598 | DZ28: =SUM(DU28:DY28) -> 0 | EF28: =SUM(EA28:EE28) -> 0 | EL28: =SUM(EG28:EK28) -> 0 | ER28: =SUM(EM28:EQ28) -> 0 | EX28: =SUM(ES28:EW28) -> 0 | FD28: =SUM(EY28:FC28) -> 0 | FJ28: =SUM(FE28:FI28) -> 0 | FK28: =SUM(DU28,EA28,EG28,EM28,ES28,EY28,FE28) -> 0 | FL28: =SUM(DV28,EB28,EH28,EN28,ET28,EZ28,FF28) -> 0 | FM28: =SUM(DW28,EC28,EI28,EO28,EU28,FA28,FG28) -> 0 | FN28: =SUM(DX28,ED28,EJ28,EP28,EV28,FB28,FH28) -> 0 | FO28: =SUM(DY28,EE28,EK28,EQ28,EW28,FC28,FI28) -> 0 | FP28: =SUM(FK28:FO28) -> 0 | FV28: =SUM(FQ28:FU28) -> 0 | GB28: =SUM(FW28:GA28) -> 0 | GH28: =SUM(GC28:GG28) -> 0 | GN28: =SUM(GI28:GM28) -> 0 | GT28: =SUM(GO28:GS28) -> 0 | GZ28: =SUM(GU28:GY28) -> 0 | HF28: =SUM(HA28:HE28) -> 0 | HL28: =SUM(HG28:HK28) -> 0 | HM28: =SUM(FQ28,FW28,GC28,GI28,GO28,GU28,HA28,HG28) -> 0 | HN28: =SUM(FR28,FX28,GD28,GJ28,GP28,GV28,HB28,HH28) -> 0 | HO28: =SUM(HI28,HC28,GW28,GQ28,GK28,GE28,FY28,FS28) -> 0 | HP28: =SUM(HJ28,HD28,GX28,GR28,GL28,GF28,FZ28,FT28) -> 0 | HQ28: =SUM(HK28,HE28,GY28,GS28,GM28,GG28,GA28,FU28) -> 0 | HR28: =SUM(HM28:HQ28) -> 0 | HX28: =SUM(HS28:HW28) -> 0 | HZ28: 5966.5528 | ID28: =SUM(HY28:IC28) -> 5966.5528 | IF28: 9836.4332 | IJ28: =SUM(IE28:II28) -> 9836.4332 | IK28: =SUM(HS28,HY28,IE28) -> 0 | IL28: =SUM(HT28,HZ28,IF28) -> 15802.986 | IM28: =SUM(HU28,IA28,IG28) -> 0 | IN28: =SUM(HV28,IB28,IH28) -> 0 | IO28: =SUM(HW28,IC28,II28) -> 0 | IP28: =SUM(IK28:IO28) -> 15802.986 | IV28: =SUM(IQ28:IU28) -> 0 | JB28: =SUM(IW28:JA28) -> 0 | JH28: =SUM(JC28:JG28) -> 0 | JI28: =SUM(IQ28,IW28,JC28) -> 0 | JJ28: =SUM(IR28,IX28,JD28) -> 0 | JK28: =SUM(IS28,IY28,JE28) -> 0 | JL28: =SUM(IT28,IZ28,JF28) -> 0 | JM28: =SUM(IU28,JA28,JG28) -> 0 | JN28: =SUM(JI28:JM28) -> 0 | JP28: =SUM(T28,BE28,CE28,DN28,FK28,HM28,IK28,JI28) -> 0 | JQ28: =SUM(U28,BF28,CF28,DO28,FL28,HN28,IL28,JJ28) -> 88601.805 | JR28: =SUM(V28,BG28,CG28,DP28,FM28,HO28,IM28,JK28) -> 158.66117 | JS28: =SUM(W28,BH28,CH28,DQ28,FN28,HP28,IN28,JL28) -> 0 | JT28: =SUM(X28,BI28,CI28,DR28,FO28,HQ28,IO28,JM28) -> 0 | JU28: =SUM(DS28,BJ28,CJ28) -> 0 | JV28: =SUM(JP28:JU28) -> 88760.466
A29: IDC=Larch casebearer | G29: =SUM(B29:F29) -> 0 | M29: =SUM(H29:L29) -> 0 | S29: =SUM(N29:R29) -> 0 | T29: =SUM(B29,H29,N29) -> 0 | U29: =SUM(C29,I29,O29) -> 0 | V29: =SUM(D29,J29,P29) -> 0 | W29: =SUM(E29,K29,Q29) -> 0 | X29: =SUM(F29,L29,R29) -> 0 | Y29: =SUM(T29:X29) -> 0 | AE29: =SUM(Z29:AD29) -> 0 | AK29: =SUM(AF29:AJ29) -> 0 | AQ29: =SUM(AL29:AP29) -> 0 | AX29: =SUM(AR29:AW29) -> 0 | BD29: =SUM(AY29:BC29) -> 0 | BE29: =SUM(Z29,AF29,AL29,AR29,AY29) -> 0 | BF29: =SUM(AA29,AG29,AM29,AS29,AZ29) -> 0 | BG29: =SUM(AB29,AH29,AN29,AT29,BA29) -> 0 | BH29: =SUM(AC29,AI29,AO29,AU29,BB29) -> 0 | BI29: =SUM(AD29,AJ29,AP29,AV29,BC29) -> 0 | BJ29: =SUM(AW29) -> 0 | BK29: =SUM(BE29:BI29) -> 0 | BQ29: =SUM(BL29:BP29) -> 0 | BW29: =SUM(BR29:BV29) -> 0 | CD29: =SUM(BX29:CC29) -> 0 | CE29: =SUM(BL29,BR29,BX29) -> 0 | CF29: =SUM(BM29,BS29,BY29) -> 0 | CG29: =SUM(BN29,BT29,BZ29) -> 0 | CH29: =SUM(BO29,BU29,CA29) -> 0 | CI29: =SUM(BP29,BV29,CB29) -> 0 | CJ29: =SUM(CC29) -> 0 | CK29: =SUM(CE29:CJ29) -> 0 | CR29: =SUM(CL29:CQ29) -> 0 | CY29: =SUM(CS29:CX29) -> 0 | DF29: =SUM(CZ29:DE29) -> 0 | DM29: =SUM(DG29:DL29) -> 0 | DN29: =SUM(CL29,CS29,CZ29,DG29) -> 0 | DO29: =SUM(CM29,CT29,DA29,DH29) -> 0 | DP29: =SUM(CN29,CU29,DB29,DI29) -> 0 | DQ29: =SUM(CO29,CV29,DC29,DJ29) -> 0 | DR29: =SUM(CP29,CW29,DD29,DK29) -> 0 | DS29: =SUM(CQ29,CX29,DE29,DL29) -> 0 | DT29: =SUM(DN29:DS29) -> 0 | DZ29: =SUM(DU29:DY29) -> 0 | EF29: =SUM(EA29:EE29) -> 0 | EL29: =SUM(EG29:EK29) -> 0 | ER29: =SUM(EM29:EQ29) -> 0 | EX29: =SUM(ES29:EW29) -> 0 | FD29: =SUM(EY29:FC29) -> 0 | FJ29: =SUM(FE29:FI29) -> 0 | FK29: =SUM(DU29,EA29,EG29,EM29,ES29,EY29,FE29) -> 0 | FL29: =SUM(DV29,EB29,EH29,EN29,ET29,EZ29,FF29) -> 0 | FM29: =SUM(DW29,EC29,EI29,EO29,EU29,FA29,FG29) -> 0 | FN29: =SUM(DX29,ED29,EJ29,EP29,EV29,FB29,FH29) -> 0 | FO29: =SUM(DY29,EE29,EK29,EQ29,EW29,FC29,FI29) -> 0 | FP29: =SUM(FK29:FO29) -> 0 | FV29: =SUM(FQ29:FU29) -> 0 | GB29: =SUM(FW29:GA29) -> 0 | GH29: =SUM(GC29:GG29) -> 0 | GN29: =SUM(GI29:GM29) -> 0 | GT29: =SUM(GO29:GS29) -> 0 | GZ29: =SUM(GU29:GY29) -> 0 | HF29: =SUM(HA29:HE29) -> 0 | HL29: =SUM(HG29:HK29) -> 0 | HM29: =SUM(FQ29,FW29,GC29,GI29,GO29,GU29,HA29,HG29) -> 0 | HN29: =SUM(FR29,FX29,GD29,GJ29,GP29,GV29,HB29,HH29) -> 0 | HO29: =SUM(HI29,HC29,GW29,GQ29,GK29,GE29,FY29,FS29) -> 0 | HP29: =SUM(HJ29,HD29,GX29,GR29,GL29,GF29,FZ29,FT29) -> 0 | HQ29: =SUM(HK29,HE29,GY29,GS29,GM29,GG29,GA29,FU29) -> 0 | HR29: =SUM(HM29:HQ29) -> 0 | HX29: =SUM(HS29:HW29) -> 0 | ID29: =SUM(HY29:IC29) -> 0 | IJ29: =SUM(IE29:II29) -> 0 | IK29: =SUM(HS29,HY29,IE29) -> 0 | IL29: =SUM(HT29,HZ29,IF29) -> 0 | IM29: =SUM(HU29,IA29,IG29) -> 0 | IN29: =SUM(HV29,IB29,IH29) -> 0 | IO29: =SUM(HW29,IC29,II29) -> 0 | IP29: =SUM(IK29:IO29) -> 0 | IV29: =SUM(IQ29:IU29) -> 0 | JB29: =SUM(IW29:JA29) -> 0 | JH29: =SUM(JC29:JG29) -> 0 | JI29: =SUM(IQ29,IW29,JC29) -> 0 | JJ29: =SUM(IR29,IX29,JD29) -> 0 | JK29: =SUM(IS29,IY29,JE29) -> 0 | JL29: =SUM(IT29,IZ29,JF29) -> 0 | JM29: =SUM(IU29,JA29,JG29) -> 0 | JN29: =SUM(JI29:JM29) -> 0 | JP29: =SUM(T29,BE29,CE29,DN29,FK29,HM29,IK29,JI29) -> 0 | JQ29: =SUM(U29,BF29,CF29,DO29,FL29,HN29,IL29,JJ29) -> 0 | JR29: =SUM(V29,BG29,CG29,DP29,FM29,HO29,IM29,JK29) -> 0 | JS29: =SUM(W29,BH29,CH29,DQ29,FN29,HP29,IN29,JL29) -> 0 | JT29: =SUM(X29,BI29,CI29,DR29,FO29,HQ29,IO29,JM29) -> 0 | JU29: =SUM(DS29,BJ29,CJ29) -> 0 | JV29: =SUM(JP29:JU29) -> 0
A30: IDE=Spruce Budworm | G30: =SUM(B30:F30) -> 0 | M30: =SUM(H30:L30) -> 0 | S30: =SUM(N30:R30) -> 0 | T30: =SUM(B30,H30,N30) -> 0 | U30: =SUM(C30,I30,O30) -> 0 | V30: =SUM(D30,J30,P30) -> 0 | W30: =SUM(E30,K30,Q30) -> 0 | X30: =SUM(F30,L30,R30) -> 0 | Y30: =SUM(T30:X30) -> 0 | AE30: =SUM(Z30:AD30) -> 0 | AK30: =SUM(AF30:AJ30) -> 0 | AQ30: =SUM(AL30:AP30) -> 0 | AX30: =SUM(AR30:AW30) -> 0 | BD30: =SUM(AY30:BC30) -> 0 | BE30: =SUM(Z30,AF30,AL30,AR30,AY30) -> 0 | BF30: =SUM(AA30,AG30,AM30,AS30,AZ30) -> 0 | BG30: =SUM(AB30,AH30,AN30,AT30,BA30) -> 0 | BH30: =SUM(AC30,AI30,AO30,AU30,BB30) -> 0 | BI30: =SUM(AD30,AJ30,AP30,AV30,BC30) -> 0 | BJ30: =SUM(AW30) -> 0 | BK30: =SUM(BE30:BI30) -> 0 | BQ30: =SUM(BL30:BP30) -> 0 | BW30: =SUM(BR30:BV30) -> 0 | CD30: =SUM(BX30:CC30) -> 0 | CE30: =SUM(BL30,BR30,BX30) -> 0 | CF30: =SUM(BM30,BS30,BY30) -> 0 | CG30: =SUM(BN30,BT30,BZ30) -> 0 | CH30: =SUM(BO30,BU30,CA30) -> 0 | CI30: =SUM(BP30,BV30,CB30) -> 0 | CJ30: =SUM(CC30) -> 0 | CK30: =SUM(CE30:CJ30) -> 0 | CR30: =SUM(CL30:CQ30) -> 0 | CY30: =SUM(CS30:CX30) -> 0 | DF30: =SUM(CZ30:DE30) -> 0 | DM30: =SUM(DG30:DL30) -> 0 | DN30: =SUM(CL30,CS30,CZ30,DG30) -> 0 | DO30: =SUM(CM30,CT30,DA30,DH30) -> 0 | DP30: =SUM(CN30,CU30,DB30,DI30) -> 0 | DQ30: =SUM(CO30,CV30,DC30,DJ30) -> 0 | DR30: =SUM(CP30,CW30,DD30,DK30) -> 0 | DS30: =SUM(CQ30,CX30,DE30,DL30) -> 0 | DT30: =SUM(DN30:DS30) -> 0 | DZ30: =SUM(DU30:DY30) -> 0 | EF30: =SUM(EA30:EE30) -> 0 | EL30: =SUM(EG30:EK30) -> 0 | ER30: =SUM(EM30:EQ30) -> 0 | EX30: =SUM(ES30:EW30) -> 0 | FD30: =SUM(EY30:FC30) -> 0 | FJ30: =SUM(FE30:FI30) -> 0 | FK30: =SUM(DU30,EA30,EG30,EM30,ES30,EY30,FE30) -> 0 | FL30: =SUM(DV30,EB30,EH30,EN30,ET30,EZ30,FF30) -> 0 | FM30: =SUM(DW30,EC30,EI30,EO30,EU30,FA30,FG30) -> 0 | FN30: =SUM(DX30,ED30,EJ30,EP30,EV30,FB30,FH30) -> 0 | FO30: =SUM(DY30,EE30,EK30,EQ30,EW30,FC30,FI30) -> 0 | FP30: =SUM(FK30:FO30) -> 0 | FV30: =SUM(FQ30:FU30) -> 0 | GB30: =SUM(FW30:GA30) -> 0 | GH30: =SUM(GC30:GG30) -> 0 | GN30: =SUM(GI30:GM30) -> 0 | GT30: =SUM(GO30:GS30) -> 0 | GZ30: =SUM(GU30:GY30) -> 0 | HF30: =SUM(HA30:HE30) -> 0 | HL30: =SUM(HG30:HK30) -> 0 | HM30: =SUM(FQ30,FW30,GC30,GI30,GO30,GU30,HA30,HG30) -> 0 | HN30: =SUM(FR30,FX30,GD30,GJ30,GP30,GV30,HB30,HH30) -> 0 | HO30: =SUM(HI30,HC30,GW30,GQ30,GK30,GE30,FY30,FS30) -> 0 | HP30: =SUM(HJ30,HD30,GX30,GR30,GL30,GF30,FZ30,FT30) -> 0 | HQ30: =SUM(HK30,HE30,GY30,GS30,GM30,GG30,GA30,FU30) -> 0 | HR30: =SUM(HM30:HQ30) -> 0 | HX30: =SUM(HS30:HW30) -> 0 | ID30: =SUM(HY30:IC30) -> 0 | IJ30: =SUM(IE30:II30) -> 0 | IK30: =SUM(HS30,HY30,IE30) -> 0 | IL30: =SUM(HT30,HZ30,IF30) -> 0 | IM30: =SUM(HU30,IA30,IG30) -> 0 | IN30: =SUM(HV30,IB30,IH30) -> 0 | IO30: =SUM(HW30,IC30,II30) -> 0 | IP30: =SUM(IK30:IO30) -> 0 | IV30: =SUM(IQ30:IU30) -> 0 | JB30: =SUM(IW30:JA30) -> 0 | JH30: =SUM(JC30:JG30) -> 0 | JI30: =SUM(IQ30,IW30,JC30) -> 0 | JJ30: =SUM(IR30,IX30,JD30) -> 0 | JK30: =SUM(IS30,IY30,JE30) -> 0 | JL30: =SUM(IT30,IZ30,JF30) -> 0 | JM30: =SUM(IU30,JA30,JG30) -> 0 | JN30: =SUM(JI30:JM30) -> 0 | JP30: =SUM(T30,BE30,CE30,DN30,FK30,HM30,IK30,JI30) -> 0 | JQ30: =SUM(U30,BF30,CF30,DO30,FL30,HN30,IL30,JJ30) -> 0 | JR30: =SUM(V30,BG30,CG30,DP30,FM30,HO30,IM30,JK30) -> 0 | JS30: =SUM(W30,BH30,CH30,DQ30,FN30,HP30,IN30,JL30) -> 0 | JT30: =SUM(X30,BI30,CI30,DR30,FO30,HQ30,IO30,JM30) -> 0 | JU30: =SUM(DS30,BJ30,CJ30) -> 0 | JV30: =SUM(JP30:JU30) -> 0
A31: IDF=Forest Tent Caterpillar | G31: =SUM(B31:F31) -> 0 | M31: =SUM(H31:L31) -> 0 | S31: =SUM(N31:R31) -> 0 | T31: =SUM(B31,H31,N31) -> 0 | U31: =SUM(C31,I31,O31) -> 0 | V31: =SUM(D31,J31,P31) -> 0 | W31: =SUM(E31,K31,Q31) -> 0 | X31: =SUM(F31,L31,R31) -> 0 | Y31: =SUM(T31:X31) -> 0 | AA31: 6.9180696 | AE31: =SUM(Z31:AD31) -> 6.9180696 | AK31: =SUM(AF31:AJ31) -> 0 | AQ31: =SUM(AL31:AP31) -> 0 | AX31: =SUM(AR31:AW31) -> 0 | BD31: =SUM(AY31:BC31) -> 0 | BE31: =SUM(Z31,AF31,AL31,AR31,AY31) -> 0 | BF31: =SUM(AA31,AG31,AM31,AS31,AZ31) -> 6.9180696 | BG31: =SUM(AB31,AH31,AN31,AT31,BA31) -> 0 | BH31: =SUM(AC31,AI31,AO31,AU31,BB31) -> 0 | BI31: =SUM(AD31,AJ31,AP31,AV31,BC31) -> 0 | BJ31: =SUM(AW31) -> 0 | BK31: =SUM(BE31:BI31) -> 6.9180696 | BQ31: =SUM(BL31:BP31) -> 0 | BS31: 16178.026 | BT31: 1066.6455 | BU31: 4.9793191 | BW31: =SUM(BR31:BV31) -> 17249.65 | BY31: 85.370883 | BZ31: 234.36883 | CD31: =SUM(BX31:CC31) -> 319.73971 | CE31: =SUM(BL31,BR31,BX31) -> 0 | CF31: =SUM(BM31,BS31,BY31) -> 16263.396 | CG31: =SUM(BN31,BT31,BZ31) -> 1301.0143 | CH31: =SUM(BO31,BU31,CA31) -> 4.9793191 | CI31: =SUM(BP31,BV31,CB31) -> 0 | CJ31: =SUM(CC31) -> 0 | CK31: =SUM(CE31:CJ31) -> 17569.39 | CM31: 786.83476 | CN31: 546.95953 | CR31: =SUM(CL31:CQ31) -> 1333.7943 | CY31: =SUM(CS31:CX31) -> 0 | DF31: =SUM(CZ31:DE31) -> 0 | DH31: 2113.7389 | DI31: 1276.1918 | DM31: =SUM(DG31:DL31) -> 3389.9308 | DN31: =SUM(CL31,CS31,CZ31,DG31) -> 0 | DO31: =SUM(CM31,CT31,DA31,DH31) -> 2900.5737 | DP31: =SUM(CN31,CU31,DB31,DI31) -> 1823.1513 | DQ31: =SUM(CO31,CV31,DC31,DJ31) -> 0 | DR31: =SUM(CP31,CW31,DD31,DK31) -> 0 | DS31: =SUM(CQ31,CX31,DE31,DL31) -> 0 | DT31: =SUM(DN31:DS31) -> 4723.725 | DZ31: =SUM(DU31:DY31) -> 0 | EF31: =SUM(EA31:EE31) -> 0 | EL31: =SUM(EG31:EK31) -> 0 | ER31: =SUM(EM31:EQ31) -> 0 | EX31: =SUM(ES31:EW31) -> 0 | FD31: =SUM(EY31:FC31) -> 0 | FJ31: =SUM(FE31:FI31) -> 0 | FK31: =SUM(DU31,EA31,EG31,EM31,ES31,EY31,FE31) -> 0 | FL31: =SUM(DV31,EB31,EH31,EN31,ET31,EZ31,FF31) -> 0 | FM31: =SUM(DW31,EC31,EI31,EO31,EU31,FA31,FG31) -> 0 | FN31: =SUM(DX31,ED31,EJ31,EP31,EV31,FB31,FH31) -> 0 | FO31: =SUM(DY31,EE31,EK31,EQ31,EW31,FC31,FI31) -> 0 | FP31: =SUM(FK31:FO31) -> 0 | FV31: =SUM(FQ31:FU31) -> 0 | GB31: =SUM(FW31:GA31) -> 0 | GH31: =SUM(GC31:GG31) -> 0 | GN31: =SUM(GI31:GM31) -> 0 | GT31: =SUM(GO31:GS31) -> 0 | GZ31: =SUM(GU31:GY31) -> 0 | HF31: =SUM(HA31:HE31) -> 0 | HL31: =SUM(HG31:HK31) -> 0 | HM31: =SUM(FQ31,FW31,GC31,GI31,GO31,GU31,HA31,HG31) -> 0 | HN31: =SUM(FR31,FX31,GD31,GJ31,GP31,GV31,HB31,HH31) -> 0 | HO31: =SUM(HI31,HC31,GW31,GQ31,GK31,GE31,FY31,FS31) -> 0 | HP31: =SUM(HJ31,HD31,GX31,GR31,GL31,GF31,FZ31,FT31) -> 0 | HQ31: =SUM(HK31,HE31,GY31,GS31,GM31,GG31,GA31,FU31) -> 0 | HR31: =SUM(HM31:HQ31) -> 0 | HT31: 17784.149 | HU31: 43446.233 | HV31: 7018.8657 | HX31: =SUM(HS31:HW31) -> 68249.247 | IA31: 270.32283 | ID31: =SUM(HY31:IC31) -> 270.32283 | IF31: 61921.039 | IG31: 253348.15 | IH31: 124074.41 | IJ31: =SUM(IE31:II31) -> 439343.61 | IK31: =SUM(HS31,HY31,IE31) -> 0 | IL31: =SUM(HT31,HZ31,IF31) -> 79705.188 | IM31: =SUM(HU31,IA31,IG31) -> 297064.71 | IN31: =SUM(HV31,IB31,IH31) -> 131093.28 | IO31: =SUM(HW31,IC31,II31) -> 0 | IP31: =SUM(IK31:IO31) -> 507863.18 | IR31: 13474.495 | IS31: 28211.101 | IT31: 2288.6088 | IV31: =SUM(IQ31:IU31) -> 43974.204 | JB31: =SUM(IW31:JA31) -> 0 | JD31: 6609.1165 | JE31: 1163.5842 | JH31: =SUM(JC31:JG31) -> 7772.7007 | JI31: =SUM(IQ31,IW31,JC31) -> 0 | JJ31: =SUM(IR31,IX31,JD31) -> 20083.611 | JK31: =SUM(IS31,IY31,JE31) -> 29374.685 | JL31: =SUM(IT31,IZ31,JF31) -> 2288.6088 | JM31: =SUM(IU31,JA31,JG31) -> 0 | JN31: =SUM(JI31:JM31) -> 51746.905 | JP31: =SUM(T31,BE31,CE31,DN31,FK31,HM31,IK31,JI31) -> 0 | JQ31: =SUM(U31,BF31,CF31,DO31,FL31,HN31,IL31,JJ31) -> 118959.69 | JR31: =SUM(V31,BG31,CG31,DP31,FM31,HO31,IM31,JK31) -> 329563.56 | JS31: =SUM(W31,BH31,CH31,DQ31,FN31,HP31,IN31,JL31) -> 133386.87 | JT31: =SUM(X31,BI31,CI31,DR31,FO31,HQ31,IO31,JM31) -> 0 | JU31: =SUM(DS31,BJ31,CJ31) -> 0 | JV31: =SUM(JP31:JU31) -> 581910.12
A32: IDH=Western Blackheaded Budworm | G32: =SUM(B32:F32) -> 0 | M32: =SUM(H32:L32) -> 0 | S32: =SUM(N32:R32) -> 0 | T32: =SUM(B32,H32,N32) -> 0 | U32: =SUM(C32,I32,O32) -> 0 | V32: =SUM(D32,J32,P32) -> 0 | W32: =SUM(E32,K32,Q32) -> 0 | X32: =SUM(F32,L32,R32) -> 0 | Y32: =SUM(T32:X32) -> 0 | AE32: =SUM(Z32:AD32) -> 0 | AG32: 12990.03 | AH32: 10383.076 | AI32: 5047.8856 | AK32: =SUM(AF32:AJ32) -> 28420.991 | AQ32: =SUM(AL32:AP32) -> 0 | AS32: 594.88218 | AT32: 127.95292 | AW32: 225.61739 | AX32: =SUM(AR32:AW32) -> 948.45248 | AZ32: 1080.8074 | BA32: 250.03299 | BD32: =SUM(AY32:BC32) -> 1330.8404 | BE32: =SUM(Z32,AF32,AL32,AR32,AY32) -> 0 | BF32: =SUM(AA32,AG32,AM32,AS32,AZ32) -> 14665.72 | BG32: =SUM(AB32,AH32,AN32,AT32,BA32) -> 10761.062 | BH32: =SUM(AC32,AI32,AO32,AU32,BB32) -> 5047.8856 | BI32: =SUM(AD32,AJ32,AP32,AV32,BC32) -> 0 | BJ32: =SUM(AW32) -> 225.61739 | BK32: =SUM(BE32:BJ32) -> 30700.284 | BQ32: =SUM(BL32:BP32) -> 0 | BW32: =SUM(BR32:BV32) -> 0 | CD32: =SUM(BX32:CC32) -> 0 | CE32: =SUM(BL32,BR32,BX32) -> 0 | CF32: =SUM(BM32,BS32,BY32) -> 0 | CG32: =SUM(BN32,BT32,BZ32) -> 0 | CH32: =SUM(BO32,BU32,CA32) -> 0 | CI32: =SUM(BP32,BV32,CB32) -> 0 | CJ32: =SUM(CC32) -> 0 | CK32: =SUM(CE32:CJ32) -> 0 | CR32: =SUM(CL32:CQ32) -> 0 | CY32: =SUM(CS32:CX32) -> 0 | DF32: =SUM(CZ32:DE32) -> 0 | DM32: =SUM(DG32:DL32) -> 0 | DN32: =SUM(CL32,CS32,CZ32,DG32) -> 0 | DO32: =SUM(CM32,CT32,DA32,DH32) -> 0 | DP32: =SUM(CN32,CU32,DB32,DI32) -> 0 | DQ32: =SUM(CO32,CV32,DC32,DJ32) -> 0 | DR32: =SUM(CP32,CW32,DD32,DK32) -> 0 | DS32: =SUM(CQ32,CX32,DE32,DL32) -> 0 | DT32: =SUM(DN32:DS32) -> 0 | DZ32: =SUM(DU32:DY32) -> 0 | EF32: =SUM(EA32:EE32) -> 0 | EL32: =SUM(EG32:EK32) -> 0 | ER32: =SUM(EM32:EQ32) -> 0 | EX32: =SUM(ES32:EW32) -> 0 | FD32: =SUM(EY32:FC32) -> 0 | FJ32: =SUM(FE32:FI32) -> 0 | FK32: =SUM(DU32,EA32,EG32,EM32,ES32,EY32,FE32) -> 0 | FL32: =SUM(DV32,EB32,EH32,EN32,ET32,EZ32,FF32) -> 0 | FM32: =SUM(DW32,EC32,EI32,EO32,EU32,FA32,FG32) -> 0 | FN32: =SUM(DX32,ED32,EJ32,EP32,EV32,FB32,FH32) -> 0 | FO32: =SUM(DY32,EE32,EK32,EQ32,EW32,FC32,FI32) -> 0 | FP32: =SUM(FK32:FO32) -> 0 | FV32: =SUM(FQ32:FU32) -> 0 | GB32: =SUM(FW32:GA32) -> 0 | GH32: =SUM(GC32:GG32) -> 0 | GN32: =SUM(GI32:GM32) -> 0 | GT32: =SUM(GO32:GS32) -> 0 | GZ32: =SUM(GU32:GY32) -> 0 | HF32: =SUM(HA32:HE32) -> 0 | HL32: =SUM(HG32:HK32) -> 0 | HM32: =SUM(FQ32,FW32,GC32,GI32,GO32,GU32,HA32,HG32) -> 0 | HN32: =SUM(FR32,FX32,GD32,GJ32,GP32,GV32,HB32,HH32) -> 0 | HO32: =SUM(HI32,HC32,GW32,GQ32,GK32,GE32,FY32,FS32) -> 0 | HP32: =SUM(HJ32,HD32,GX32,GR32,GL32,GF32,FZ32,FT32) -> 0 | HQ32: =SUM(HK32,HE32,GY32,GS32,GM32,GG32,GA32,FU32) -> 0 | HR32: =SUM(HM32:HQ32) -> 0 | HX32: =SUM(HS32:HW32) -> 0 | ID32: =SUM(HY32:IC32) -> 0 | IJ32: =SUM(IE32:II32) -> 0 | IK32: =SUM(HS32,HY32,IE32) -> 0 | IL32: =SUM(HT32,HZ32,IF32) -> 0 | IM32: =SUM(HU32,IA32,IG32) -> 0 | IN32: =SUM(HV32,IB32,IH32) -> 0 | IO32: =SUM(HW32,IC32,II32) -> 0 | IP32: =SUM(IK32:IO32) -> 0 | IV32: =SUM(IQ32:IU32) -> 0 | JB32: =SUM(IW32:JA32) -> 0 | JH32: =SUM(JC32:JG32) -> 0 | JI32: =SUM(IQ32,IW32,JC32) -> 0 | JJ32: =SUM(IR32,IX32,JD32) -> 0 | JK32: =SUM(IS32,IY32,JE32) -> 0 | JL32: =SUM(IT32,IZ32,JF32) -> 0 | JM32: =SUM(IU32,JA32,JG32) -> 0 | JN32: =SUM(JI32:JM32) -> 0 | JP32: =SUM(T32,BE32,CE32,DN32,FK32,HM32,IK32,JI32) -> 0 | JQ32: =SUM(U32,BF32,CF32,DO32,FL32,HN32,IL32,JJ32) -> 14665.72 | JR32: =SUM(V32,BG32,CG32,DP32,FM32,HO32,IM32,JK32) -> 10761.062 | JS32: =SUM(W32,BH32,CH32,DQ32,FN32,HP32,IN32,JL32) -> 5047.8856 | JT32: =SUM(X32,BI32,CI32,DR32,FO32,HQ32,IO32,JM32) -> 0 | JU32: =SUM(DS32,BJ32,CJ32) -> 225.61739 | JV32: =SUM(JP32:JU32) -> 30700.284
A33: IDI=Pine needle sheathminer | G33: =SUM(B33:F33) -> 0 | M33: =SUM(H33:L33) -> 0 | S33: =SUM(N33:R33) -> 0 | T33: =SUM(B33,H33,N33) -> 0 | U33: =SUM(C33,I33,O33) -> 0 | V33: =SUM(D33,J33,P33) -> 0 | W33: =SUM(E33,K33,Q33) -> 0 | X33: =SUM(F33,L33,R33) -> 0 | Y33: =SUM(T33:X33) -> 0 | AE33: =SUM(Z33:AD33) -> 0 | AK33: =SUM(AF33:AJ33) -> 0 | AQ33: =SUM(AL33:AP33) -> 0 | AX33: =SUM(AR33:AW33) -> 0 | BD33: =SUM(AY33:BC33) -> 0 | BE33: =SUM(Z33,AF33,AL33,AR33,AY33) -> 0 | BF33: =SUM(AA33,AG33,AM33,AS33,AZ33) -> 0 | BG33: =SUM(AB33,AH33,AN33,AT33,BA33) -> 0 | BH33: =SUM(AC33,AI33,AO33,AU33,BB33) -> 0 | BI33: =SUM(AD33,AJ33,AP33,AV33,BC33) -> 0 | BJ33: =SUM(AW33) -> 0 | BK33: =SUM(BE33:BJ33) -> 0 | BQ33: =SUM(BL33:BP33) -> 0 | BW33: =SUM(BR33:BV33) -> 0 | CD33: =SUM(BX33:CC33) -> 0 | CE33: =SUM(BL33,BR33,BX33) -> 0 | CF33: =SUM(BM33,BS33,BY33) -> 0 | CG33: =SUM(BN33,BT33,BZ33) -> 0 | CH33: =SUM(BO33,BU33,CA33) -> 0 | CI33: =SUM(BP33,BV33,CB33) -> 0 | CJ33: =SUM(CC33) -> 0 | CK33: =SUM(CE33:CJ33) -> 0 | CM33: 67.969941 | CN33: 90.906576 | CR33: =SUM(CL33:CQ33) -> 158.87652 | CT33: 39.726537 | CY33: =SUM(CS33:CX33) -> 39.726537 | DF33: =SUM(CZ33:DE33) -> 0 | DH33: 82.785185 | DM33: =SUM(DG33:DL33) -> 82.785185 | DN33: =SUM(CL33,CS33,CZ33,DG33) -> 0 | DO33: =SUM(CM33,CT33,DA33,DH33) -> 190.48166 | DP33: =SUM(CN33,CU33,DB33,DI33) -> 90.906576 | DQ33: =SUM(CO33,CV33,DC33,DJ33) -> 0 | DR33: =SUM(CP33,CW33,DD33,DK33) -> 0 | DS33: =SUM(CQ33,CX33,DE33,DL33) -> 0 | DT33: =SUM(DN33:DS33) -> 281.38824 | DZ33: =SUM(DU33:DY33) -> 0 | EF33: =SUM(EA33:EE33) -> 0 | EL33: =SUM(EG33:EK33) -> 0 | ER33: =SUM(EM33:EQ33) -> 0 | EX33: =SUM(ES33:EW33) -> 0 | FD33: =SUM(EY33:FC33) -> 0 | FJ33: =SUM(FE33:FI33) -> 0 | FK33: =SUM(DU33,EA33,EG33,EM33,ES33,EY33,FE33) -> 0 | FL33: =SUM(DV33,EB33,EH33,EN33,ET33,EZ33,FF33) -> 0 | FM33: =SUM(DW33,EC33,EI33,EO33,EU33,FA33,FG33) -> 0 | FN33: =SUM(DX33,ED33,EJ33,EP33,EV33,FB33,FH33) -> 0 | FO33: =SUM(DY33,EE33,EK33,EQ33,EW33,FC33,FI33) -> 0 | FP33: =SUM(FK33:FO33) -> 0 | FV33: =SUM(FQ33:FU33) -> 0 | GB33: =SUM(FW33:GA33) -> 0 | GH33: =SUM(GC33:GG33) -> 0 | GN33: =SUM(GI33:GM33) -> 0 | GT33: =SUM(GO33:GS33) -> 0 | GZ33: =SUM(GU33:GY33) -> 0 | HF33: =SUM(HA33:HE33) -> 0 | HL33: =SUM(HG33:HK33) -> 0 | HM33: =SUM(FQ33,FW33,GC33,GI33,GO33,GU33,HA33,HG33) -> 0 | HN33: =SUM(FR33,FX33,GD33,GJ33,GP33,GV33,HB33,HH33) -> 0 | HO33: =SUM(HI33,HC33,GW33,GQ33,GK33,GE33,FY33,FS33) -> 0 | HP33: =SUM(HJ33,HD33,GX33,GR33,GL33,GF33,FZ33,FT33) -> 0 | HQ33: =SUM(HK33,HE33,GY33,GS33,GM33,GG33,GA33,FU33) -> 0 | HR33: =SUM(HM33:HQ33) -> 0 | HX33: =SUM(HS33:HW33) -> 0 | ID33: =SUM(HY33:IC33) -> 0 | IJ33: =SUM(IE33:II33) -> 0 | IK33: =SUM(HS33,HY33,IE33) -> 0 | IL33: =SUM(HT33,HZ33,IF33) -> 0 | IM33: =SUM(HU33,IA33,IG33) -> 0 | IN33: =SUM(HV33,IB33,IH33) -> 0 | IO33: =SUM(HW33,IC33,II33) -> 0 | IP33: =SUM(IK33:IO33) -> 0 | IV33: =SUM(IQ33:IU33) -> 0 | JB33: =SUM(IW33:JA33) -> 0 | JH33: =SUM(JC33:JG33) -> 0 | JI33: =SUM(IQ33,IW33,JC33) -> 0 | JJ33: =SUM(IR33,IX33,JD33) -> 0 | JK33: =SUM(IS33,IY33,JE33) -> 0 | JL33: =SUM(IT33,IZ33,JF33) -> 0 | JM33: =SUM(IU33,JA33,JG33) -> 0 | JN33: =SUM(JI33:JM33) -> 0 | JP33: =SUM(T33,BE33,CE33,DN33,FK33,HM33,IK33,JI33) -> 0 | JQ33: =SUM(U33,BF33,CF33,DO33,FL33,HN33,IL33,JJ33) -> 190.48166 | JR33: =SUM(V33,BG33,CG33,DP33,FM33,HO33,IM33,JK33) -> 90.906576 | JS33: =SUM(W33,BH33,CH33,DQ33,FN33,HP33,IN33,JL33) -> 0 | JT33: =SUM(X33,BI33,CI33,DR33,FO33,HQ33,IO33,JM33) -> 0 | JU33: =SUM(DS33,BJ33,CJ33) -> 0 | JV33: =SUM(JP33:JU33) -> 281.38824
A34: IDK=Northern Tent Caterpillar | G34: =SUM(B34:F34) -> 0 | M34: =SUM(H34:L34) -> 0 | S34: =SUM(N34:R34) -> 0 | T34: =SUM(B34,H34,N34) -> 0 | U34: =SUM(C34,I34,O34) -> 0 | V34: =SUM(D34,J34,P34) -> 0 | W34: =SUM(E34,K34,Q34) -> 0 | X34: =SUM(F34,L34,R34) -> 0 | Y34: =SUM(T34:X34) -> 0 | AE34: =SUM(Z34:AD34) -> 0 | AK34: =SUM(AF34:AJ34) -> 0 | AQ34: =SUM(AL34:AP34) -> 0 | AX34: =SUM(AR34:AW34) -> 0 | BD34: =SUM(AY34:BC34) -> 0 | BE34: =SUM(Z34,AF34,AL34,AR34,AY34) -> 0 | BF34: =SUM(AA34,AG34,AM34,AS34,AZ34) -> 0 | BG34: =SUM(AB34,AH34,AN34,AT34,BA34) -> 0 | BH34: =SUM(AC34,AI34,AO34,AU34,BB34) -> 0 | BI34: =SUM(AD34,AJ34,AP34,AV34,BC34) -> 0 | BJ34: =SUM(AW34) -> 0 | BK34: =SUM(BE34:BJ34) -> 0 | BQ34: =SUM(BL34:BP34) -> 0 | BW34: =SUM(BR34:BV34) -> 0 | CD34: =SUM(BX34:CC34) -> 0 | CE34: =SUM(BL34,BR34,BX34) -> 0 | CF34: =SUM(BM34,BS34,BY34) -> 0 | CG34: =SUM(BN34,BT34,BZ34) -> 0 | CH34: =SUM(BO34,BU34,CA34) -> 0 | CI34: =SUM(BP34,BV34,CB34) -> 0 | CJ34: =SUM(CC34) -> 0 | CK34: =SUM(CE34:CJ34) -> 0 | CR34: =SUM(CL34:CQ34) -> 0 | CY34: =SUM(CS34:CX34) -> 0 | DF34: =SUM(CZ34:DE34) -> 0 | DM34: =SUM(DG34:DL34) -> 0 | DN34: =SUM(CL34,CS34,CZ34,DG34) -> 0 | DO34: =SUM(CM34,CT34,DA34,DH34) -> 0 | DP34: =SUM(CN34,CU34,DB34,DI34) -> 0 | DQ34: =SUM(CO34,CV34,DC34,DJ34) -> 0 | DR34: =SUM(CP34,CW34,DD34,DK34) -> 0 | DS34: =SUM(CQ34,CX34,DE34,DL34) -> 0 | DT34: =SUM(DN34:DS34) -> 0 | DZ34: =SUM(DU34:DY34) -> 0 | EF34: =SUM(EA34:EE34) -> 0 | EL34: =SUM(EG34:EK34) -> 0 | ER34: =SUM(EM34:EQ34) -> 0 | EX34: =SUM(ES34:EW34) -> 0 | FD34: =SUM(EY34:FC34) -> 0 | FJ34: =SUM(FE34:FI34) -> 0 | FK34: =SUM(DU34,EA34,EG34,EM34,ES34,EY34,FE34) -> 0 | FL34: =SUM(DV34,EB34,EH34,EN34,ET34,EZ34,FF34) -> 0 | FM34: =SUM(DW34,EC34,EI34,EO34,EU34,FA34,FG34) -> 0 | FN34: =SUM(DX34,ED34,EJ34,EP34,EV34,FB34,FH34) -> 0 | FO34: =SUM(DY34,EE34,EK34,EQ34,EW34,FC34,FI34) -> 0 | FP34: =SUM(FK34:FO34) -> 0 | FV34: =SUM(FQ34:FU34) -> 0 | GB34: =SUM(FW34:GA34) -> 0 | GH34: =SUM(GC34:GG34) -> 0 | GN34: =SUM(GI34:GM34) -> 0 | GT34: =SUM(GO34:GS34) -> 0 | GZ34: =SUM(GU34:GY34) -> 0 | HF34: =SUM(HA34:HE34) -> 0 | HL34: =SUM(HG34:HK34) -> 0 | HM34: =SUM(FQ34,FW34,GC34,GI34,GO34,GU34,HA34,HG34) -> 0 | HN34: =SUM(FR34,FX34,GD34,GJ34,GP34,GV34,HB34,HH34) -> 0 | HO34: =SUM(HI34,HC34,GW34,GQ34,GK34,GE34,FY34,FS34) -> 0 | HP34: =SUM(HJ34,HD34,GX34,GR34,GL34,GF34,FZ34,FT34) -> 0 | HQ34: =SUM(HK34,HE34,GY34,GS34,GM34,GG34,GA34,FU34) -> 0 | HR34: =SUM(HM34:HQ34) -> 0 | HX34: =SUM(HS34:HW34) -> 0 | ID34: =SUM(HY34:IC34) -> 0 | IJ34: =SUM(IE34:II34) -> 0 | IK34: =SUM(HS34,HY34,IE34) -> 0 | IL34: =SUM(HT34,HZ34,IF34) -> 0 | IM34: =SUM(HU34,IA34,IG34) -> 0 | IN34: =SUM(HV34,IB34,IH34) -> 0 | IO34: =SUM(HW34,IC34,II34) -> 0 | IP34: =SUM(IK34:IO34) -> 0 | IV34: =SUM(IQ34:IU34) -> 0 | JB34: =SUM(IW34:JA34) -> 0 | JH34: =SUM(JC34:JG34) -> 0 | JI34: =SUM(IQ34,IW34,JC34) -> 0 | JJ34: =SUM(IR34,IX34,JD34) -> 0 | JK34: =SUM(IS34,IY34,JE34) -> 0 | JL34: =SUM(IT34,IZ34,JF34) -> 0 | JM34: =SUM(IU34,JA34,JG34) -> 0 | JN34: =SUM(JI34:JM34) -> 0 | JP34: =SUM(T34,BE34,CE34,DN34,FK34,HM34,IK34,JI34) -> 0 | JQ34: =SUM(U34,BF34,CF34,DO34,FL34,HN34,IL34,JJ34) -> 0 | JR34: =SUM(V34,BG34,CG34,DP34,FM34,HO34,IM34,JK34) -> 0 | JS34: =SUM(W34,BH34,CH34,DQ34,FN34,HP34,IN34,JL34) -> 0 | JT34: =SUM(X34,BI34,CI34,DR34,FO34,HQ34,IO34,JM34) -> 0 | JU34: =SUM(DS34,BJ34,CJ34) -> 0 | JV34: =SUM(JP34:JU34) -> 0
A35: IDL=Western Hemlock Looper | G35: =SUM(B35:F35) -> 0 | M35: =SUM(H35:L35) -> 0 | S35: =SUM(N35:R35) -> 0 | T35: =SUM(B35,H35,N35) -> 0 | U35: =SUM(C35,I35,O35) -> 0 | V35: =SUM(D35,J35,P35) -> 0 | W35: =SUM(E35,K35,Q35) -> 0 | X35: =SUM(F35,L35,R35) -> 0 | Y35: =SUM(T35:X35) -> 0 | AE35: =SUM(Z35:AD35) -> 0 | AK35: =SUM(AF35:AJ35) -> 0 | AQ35: =SUM(AL35:AP35) -> 0 | AX35: =SUM(AR35:AW35) -> 0 | BD35: =SUM(AY35:BC35) -> 0 | BE35: =SUM(Z35,AF35,AL35,AR35,AY35) -> 0 | BF35: =SUM(AA35,AG35,AM35,AS35,AZ35) -> 0 | BG35: =SUM(AB35,AH35,AN35,AT35,BA35) -> 0 | BH35: =SUM(AC35,AI35,AO35,AU35,BB35) -> 0 | BI35: =SUM(AD35,AJ35,AP35,AV35,BC35) -> 0 | BJ35: =SUM(AW35) -> 0 | BK35: =SUM(BE35:BJ35) -> 0 | BQ35: =SUM(BL35:BP35) -> 0 | BW35: =SUM(BR35:BV35) -> 0 | CC35: 1093.7469 | CD35: =SUM(BX35:CC35) -> 1093.7469 | CE35: =SUM(BL35,BR35,BX35) -> 0 | CF35: =SUM(BM35,BS35,BY35) -> 0 | CG35: =SUM(BN35,BT35,BZ35) -> 0 | CH35: =SUM(BO35,BU35,CA35) -> 0 | CI35: =SUM(BP35,BV35,CB35) -> 0 | CJ35: =SUM(CC35) -> 1093.7469 | CK35: =SUM(CE35:CJ35) -> 1093.7469 | CR35: =SUM(CL35:CQ35) -> 0 | CY35: =SUM(CS35:CX35) -> 0 | DF35: =SUM(CZ35:DE35) -> 0 | DL35: 84.404641 | DM35: =SUM(DG35:DL35) -> 84.404641 | DN35: =SUM(CL35,CS35,CZ35,DG35) -> 0 | DO35: =SUM(CM35,CT35,DA35,DH35) -> 0 | DP35: =SUM(CN35,CU35,DB35,DI35) -> 0 | DQ35: =SUM(CO35,CV35,DC35,DJ35) -> 0 | DR35: =SUM(CP35,CW35,DD35,DK35) -> 0 | DS35: =SUM(CQ35,CX35,DE35,DL35) -> 84.404641 | DT35: =SUM(DN35:DS35) -> 84.404641 | DW35: 25.133913 | DX35: 81.721555 | DZ35: =SUM(DU35:DY35) -> 106.85547 | EF35: =SUM(EA35:EE35) -> 0 | EL35: =SUM(EG35:EK35) -> 0 | EO35: 104.60257 | EP35: 45.447322 | ER35: =SUM(EM35:EQ35) -> 150.04989 | EX35: =SUM(ES35:EW35) -> 0 | FA35: 63.495552 | FB35: 19.164333 | FD35: =SUM(EY35:FC35) -> 82.659884 | FG35: 481.21724 | FH35: 21.071018 | FJ35: =SUM(FE35:FI35) -> 502.28826 | FK35: =SUM(DU35,EA35,EG35,EM35,ES35,EY35,FE35) -> 0 | FL35: =SUM(DV35,EB35,EH35,EN35,ET35,EZ35,FF35) -> 0 | FM35: =SUM(DW35,EC35,EI35,EO35,EU35,FA35,FG35) -> 674.44928 | FN35: =SUM(DX35,ED35,EJ35,EP35,EV35,FB35,FH35) -> 167.40423 | FO35: =SUM(DY35,EE35,EK35,EQ35,EW35,FC35,FI35) -> 0 | FP35: =SUM(FK35:FO35) -> 841.8535 | FV35: =SUM(FQ35:FU35) -> 0 | GB35: =SUM(FW35:GA35) -> 0 | GH35: =SUM(GC35:GG35) -> 0 | GN35: =SUM(GI35:GM35) -> 0 | GT35: =SUM(GO35:GS35) -> 0 | GZ35: =SUM(GU35:GY35) -> 0 | HF35: =SUM(HA35:HE35) -> 0 | HL35: =SUM(HG35:HK35) -> 0 | HM35: =SUM(FQ35,FW35,GC35,GI35,GO35,GU35,HA35,HG35) -> 0 | HN35: =SUM(FR35,FX35,GD35,GJ35,GP35,GV35,HB35,HH35) -> 0 | HO35: =SUM(HI35,HC35,GW35,GQ35,GK35,GE35,FY35,FS35) -> 0 | HP35: =SUM(HJ35,HD35,GX35,GR35,GL35,GF35,FZ35,FT35) -> 0 | HQ35: =SUM(HK35,HE35,GY35,GS35,GM35,GG35,GA35,FU35) -> 0 | HR35: =SUM(HM35:HQ35) -> 0 | HX35: =SUM(HS35:HW35) -> 0 | ID35: =SUM(HY35:IC35) -> 0 | IJ35: =SUM(IE35:II35) -> 0 | IK35: =SUM(HS35,HY35,IE35) -> 0 | IL35: =SUM(HT35,HZ35,IF35) -> 0 | IM35: =SUM(HU35,IA35,IG35) -> 0 | IN35: =SUM(HV35,IB35,IH35) -> 0 | IO35: =SUM(HW35,IC35,II35) -> 0 | IP35: =SUM(IK35:IO35) -> 0 | IV35: =SUM(IQ35:IU35) -> 0 | JB35: =SUM(IW35:JA35) -> 0 | JH35: =SUM(JC35:JG35) -> 0 | JI35: =SUM(IQ35,IW35,JC35) -> 0 | JJ35: =SUM(IR35,IX35,JD35) -> 0 | JK35: =SUM(IS35,IY35,JE35) -> 0 | JL35: =SUM(IT35,IZ35,JF35) -> 0 | JM35: =SUM(IU35,JA35,JG35) -> 0 | JN35: =SUM(JI35:JM35) -> 0 | JP35: =SUM(T35,BE35,CE35,DN35,FK35,HM35,IK35,JI35) -> 0 | JQ35: =SUM(U35,BF35,CF35,DO35,FL35,HN35,IL35,JJ35) -> 0 | JR35: =SUM(V35,BG35,CG35,DP35,FM35,HO35,IM35,JK35) -> 674.44928 | JS35: =SUM(W35,BH35,CH35,DQ35,FN35,HP35,IN35,JL35) -> 167.40423 | JT35: =SUM(X35,BI35,CI35,DR35,FO35,HQ35,IO35,JM35) -> 0 | JU35: =SUM(DS35,BJ35,CJ35) -> 1178.1515 | JV35: =SUM(JP35:JU35) -> 2020.005
A36: IDN=Birch Leaf Miner | G36: =SUM(B36:F36) -> 0 | M36: =SUM(H36:L36) -> 0 | S36: =SUM(N36:R36) -> 0 | T36: =SUM(B36,H36,N36) -> 0 | U36: =SUM(C36,I36,O36) -> 0 | V36: =SUM(D36,J36,P36) -> 0 | W36: =SUM(E36,K36,Q36) -> 0 | X36: =SUM(F36,L36,R36) -> 0 | Y36: =SUM(T36:X36) -> 0 | AE36: =SUM(Z36:AD36) -> 0 | AK36: =SUM(AF36:AJ36) -> 0 | AQ36: =SUM(AL36:AP36) -> 0 | AX36: =SUM(AR36:AW36) -> 0 | BD36: =SUM(AY36:BC36) -> 0 | BE36: =SUM(Z36,AF36,AL36,AR36,AY36) -> 0 | BF36: =SUM(AA36,AG36,AM36,AS36,AZ36) -> 0 | BG36: =SUM(AB36,AH36,AN36,AT36,BA36) -> 0 | BH36: =SUM(AC36,AI36,AO36,AU36,BB36) -> 0 | BI36: =SUM(AD36,AJ36,AP36,AV36,BC36) -> 0 | BJ36: =SUM(AW36) -> 0 | BK36: =SUM(BE36:BJ36) -> 0 | BQ36: =SUM(BL36:BP36) -> 0 | BW36: =SUM(BR36:BV36) -> 0 | CD36: =SUM(BX36:CC36) -> 0 | CE36: =SUM(BL36,BR36,BX36) -> 0 | CF36: =SUM(BM36,BS36,BY36) -> 0 | CG36: =SUM(BN36,BT36,BZ36) -> 0 | CH36: =SUM(BO36,BU36,CA36) -> 0 | CI36: =SUM(BP36,BV36,CB36) -> 0 | CJ36: =SUM(CC36) -> 0 | CK36: =SUM(CE36:CJ36) -> 0 | CM36: 66.028267 | CN36: 241.40682 | CR36: =SUM(CL36:CQ36) -> 307.43509 | CY36: =SUM(CS36:CX36) -> 0 | DF36: =SUM(CZ36:DE36) -> 0 | DH36: 39.921572 | DI36: 52.254333 | DM36: =SUM(DG36:DL36) -> 92.175905 | DN36: =SUM(CL36,CS36,CZ36,DG36) -> 0 | DO36: =SUM(CM36,CT36,DA36,DH36) -> 105.94984 | DP36: =SUM(CN36,CU36,DB36,DI36) -> 293.66115 | DQ36: =SUM(CO36,CV36,DC36,DJ36) -> 0 | DR36: =SUM(CP36,CW36,DD36,DK36) -> 0 | DS36: =SUM(CQ36,CX36,DE36,DL36) -> 0 | DT36: =SUM(DN36:DS36) -> 399.61099 | DV36: 104.76918 | DZ36: =SUM(DU36:DY36) -> 104.76918 | EF36: =SUM(EA36:EE36) -> 0 | EI36: 74.43847 | EL36: =SUM(EG36:EK36) -> 74.43847 | EN36: 254.53337 | EO36: 60.691548 | ER36: =SUM(EM36:EQ36) -> 315.22491 | EX36: =SUM(ES36:EW36) -> 0 | EZ36: 41.371776 | FA36: 40.513753 | FD36: =SUM(EY36:FC36) -> 81.88553 | FF36: 277.30355 | FG36: 162.07549 | FJ36: =SUM(FE36:FI36) -> 439.37904 | FK36: =SUM(DU36,EA36,EG36,EM36,ES36,EY36,FE36) -> 0 | FL36: =SUM(DV36,EB36,EH36,EN36,ET36,EZ36,FF36) -> 677.97787 | FM36: =SUM(DW36,EC36,EI36,EO36,EU36,FA36,FG36) -> 337.71926 | FN36: =SUM(DX36,ED36,EJ36,EP36,EV36,FB36,FH36) -> 0 | FO36: =SUM(DY36,EE36,EK36,EQ36,EW36,FC36,FI36) -> 0 | FP36: =SUM(FK36:FO36) -> 1015.6971 | FV36: =SUM(FQ36:FU36) -> 0 | GB36: =SUM(FW36:GA36) -> 0 | GH36: =SUM(GC36:GG36) -> 0 | GN36: =SUM(GI36:GM36) -> 0 | GT36: =SUM(GO36:GS36) -> 0 | GZ36: =SUM(GU36:GY36) -> 0 | HF36: =SUM(HA36:HE36) -> 0 | HL36: =SUM(HG36:HK36) -> 0 | HM36: =SUM(FQ36,FW36,GC36,GI36,GO36,GU36,HA36,HG36) -> 0 | HN36: =SUM(FR36,FX36,GD36,GJ36,GP36,GV36,HB36,HH36) -> 0 | HO36: =SUM(HI36,HC36,GW36,GQ36,GK36,GE36,FY36,FS36) -> 0 | HP36: =SUM(HJ36,HD36,GX36,GR36,GL36,GF36,FZ36,FT36) -> 0 | HQ36: =SUM(HK36,HE36,GY36,GS36,GM36,GG36,GA36,FU36) -> 0 | HR36: =SUM(HM36:HQ36) -> 0 | HX36: =SUM(HS36:HW36) -> 0 | ID36: =SUM(HY36:IC36) -> 0 | IJ36: =SUM(IE36:II36) -> 0 | IK36: =SUM(HS36,HY36,IE36) -> 0 | IL36: =SUM(HT36,HZ36,IF36) -> 0 | IM36: =SUM(HU36,IA36,IG36) -> 0 | IN36: =SUM(HV36,IB36,IH36) -> 0 | IO36: =SUM(HW36,IC36,II36) -> 0 | IP36: =SUM(IK36:IO36) -> 0 | IV36: =SUM(IQ36:IU36) -> 0 | JB36: =SUM(IW36:JA36) -> 0 | JH36: =SUM(JC36:JG36) -> 0 | JI36: =SUM(IQ36,IW36,JC36) -> 0 | JJ36: =SUM(IR36,IX36,JD36) -> 0 | JK36: =SUM(IS36,IY36,JE36) -> 0 | JL36: =SUM(IT36,IZ36,JF36) -> 0 | JM36: =SUM(IU36,JA36,JG36) -> 0 | JN36: =SUM(JI36:JM36) -> 0 | JP36: =SUM(T36,BE36,CE36,DN36,FK36,HM36,IK36,JI36) -> 0 | JQ36: =SUM(U36,BF36,CF36,DO36,FL36,HN36,IL36,JJ36) -> 783.92771 | JR36: =SUM(V36,BG36,CG36,DP36,FM36,HO36,IM36,JK36) -> 631.38042 | JS36: =SUM(W36,BH36,CH36,DQ36,FN36,HP36,IN36,JL36) -> 0 | JT36: =SUM(X36,BI36,CI36,DR36,FO36,HQ36,IO36,JM36) -> 0 | JU36: =SUM(DS36,BJ36,CJ36) -> 0 | JV36: =SUM(JP36:JU36) -> 1415.3081
A37: IDP=Larch Sawfly | G37: =SUM(B37:F37) -> 0 | M37: =SUM(H37:L37) -> 0 | S37: =SUM(N37:R37) -> 0 | T37: =SUM(B37,H37,N37) -> 0 | U37: =SUM(C37,I37,O37) -> 0 | V37: =SUM(D37,J37,P37) -> 0 | W37: =SUM(E37,K37,Q37) -> 0 | X37: =SUM(F37,L37,R37) -> 0 | Y37: =SUM(T37:X37) -> 0 | AE37: =SUM(Z37:AD37) -> 0 | AK37: =SUM(AF37:AJ37) -> 0 | AQ37: =SUM(AL37:AP37) -> 0 | AX37: =SUM(AR37:AW37) -> 0 | BD37: =SUM(AY37:BC37) -> 0 | BE37: =SUM(Z37,AF37,AL37,AR37,AY37) -> 0 | BF37: =SUM(AA37,AG37,AM37,AS37,AZ37) -> 0 | BG37: =SUM(AB37,AH37,AN37,AT37,BA37) -> 0 | BH37: =SUM(AC37,AI37,AO37,AU37,BB37) -> 0 | BI37: =SUM(AD37,AJ37,AP37,AV37,BC37) -> 0 | BJ37: =SUM(AW37) -> 0 | BK37: =SUM(BE37:BJ37) -> 0 | BQ37: =SUM(BL37:BP37) -> 0 | BW37: =SUM(BR37:BV37) -> 0 | CD37: =SUM(BX37:CC37) -> 0 | CE37: =SUM(BL37,BR37,BX37) -> 0 | CF37: =SUM(BM37,BS37,BY37) -> 0 | CG37: =SUM(BN37,BT37,BZ37) -> 0 | CH37: =SUM(BO37,BU37,CA37) -> 0 | CI37: =SUM(BP37,BV37,CB37) -> 0 | CJ37: =SUM(CC37) -> 0 | CK37: =SUM(CE37:CJ37) -> 0 | CR37: =SUM(CL37:CQ37) -> 0 | CY37: =SUM(CS37:CX37) -> 0 | DF37: =SUM(CZ37:DE37) -> 0 | DM37: =SUM(DG37:DL37) -> 0 | DN37: =SUM(CL37,CS37,CZ37,DG37) -> 0 | DO37: =SUM(CM37,CT37,DA37,DH37) -> 0 | DP37: =SUM(CN37,CU37,DB37,DI37) -> 0 | DQ37: =SUM(CO37,CV37,DC37,DJ37) -> 0 | DR37: =SUM(CP37,CW37,DD37,DK37) -> 0 | DS37: =SUM(CQ37,CX37,DE37,DL37) -> 0 | DT37: =SUM(DN37:DS37) -> 0 | DZ37: =SUM(DU37:DY37) -> 0 | EF37: =SUM(EA37:EE37) -> 0 | EL37: =SUM(EG37:EK37) -> 0 | ER37: =SUM(EM37:EQ37) -> 0 | EX37: =SUM(ES37:EW37) -> 0 | FD37: =SUM(EY37:FC37) -> 0 | FJ37: =SUM(FE37:FI37) -> 0 | FK37: =SUM(DU37,EA37,EG37,EM37,ES37,EY37,FE37) -> 0 | FL37: =SUM(DV37,EB37,EH37,EN37,ET37,EZ37,FF37) -> 0 | FM37: =SUM(DW37,EC37,EI37,EO37,EU37,FA37,FG37) -> 0 | FN37: =SUM(DX37,ED37,EJ37,EP37,EV37,FB37,FH37) -> 0 | FO37: =SUM(DY37,EE37,EK37,EQ37,EW37,FC37,FI37) -> 0 | FP37: =SUM(FK37:FO37) -> 0 | FV37: =SUM(FQ37:FU37) -> 0 | GB37: =SUM(FW37:GA37) -> 0 | GH37: =SUM(GC37:GG37) -> 0 | GN37: =SUM(GI37:GM37) -> 0 | GT37: =SUM(GO37:GS37) -> 0 | GZ37: =SUM(GU37:GY37) -> 0 | HF37: =SUM(HA37:HE37) -> 0 | HL37: =SUM(HG37:HK37) -> 0 | HM37: =SUM(FQ37,FW37,GC37,GI37,GO37,GU37,HA37,HG37) -> 0 | HN37: =SUM(FR37,FX37,GD37,GJ37,GP37,GV37,HB37,HH37) -> 0 | HO37: =SUM(HI37,HC37,GW37,GQ37,GK37,GE37,FY37,FS37) -> 0 | HP37: =SUM(HJ37,HD37,GX37,GR37,GL37,GF37,FZ37,FT37) -> 0 | HQ37: =SUM(HK37,HE37,GY37,GS37,GM37,GG37,GA37,FU37) -> 0 | HR37: =SUM(HM37:HQ37) -> 0 | HX37: =SUM(HS37:HW37) -> 0 | ID37: =SUM(HY37:IC37) -> 0 | IJ37: =SUM(IE37:II37) -> 0 | IK37: =SUM(HS37,HY37,IE37) -> 0 | IL37: =SUM(HT37,HZ37,IF37) -> 0 | IM37: =SUM(HU37,IA37,IG37) -> 0 | IN37: =SUM(HV37,IB37,IH37) -> 0 | IO37: =SUM(HW37,IC37,II37) -> 0 | IP37: =SUM(IK37:IO37) -> 0 | IV37: =SUM(IQ37:IU37) -> 0 | JB37: =SUM(IW37:JA37) -> 0 | JH37: =SUM(JC37:JG37) -> 0 | JI37: =SUM(IQ37,IW37,JC37) -> 0 | JJ37: =SUM(IR37,IX37,JD37) -> 0 | JK37: =SUM(IS37,IY37,JE37) -> 0 | JL37: =SUM(IT37,IZ37,JF37) -> 0 | JM37: =SUM(IU37,JA37,JG37) -> 0 | JN37: =SUM(JI37:JM37) -> 0 | JP37: =SUM(T37,BE37,CE37,DN37,FK37,HM37,IK37,JI37) -> 0 | JQ37: =SUM(U37,BF37,CF37,DO37,FL37,HN37,IL37,JJ37) -> 0 | JR37: =SUM(V37,BG37,CG37,DP37,FM37,HO37,IM37,JK37) -> 0 | JS37: =SUM(W37,BH37,CH37,DQ37,FN37,HP37,IN37,JL37) -> 0 | JT37: =SUM(X37,BI37,CI37,DR37,FO37,HQ37,IO37,JM37) -> 0 | JU37: =SUM(DS37,BJ37,CJ37) -> 0 | JV37: =SUM(JP37:JU37) -> 0
A38: IDR=Alder Sawfly | G38: =SUM(B38:F38) -> 0 | M38: =SUM(H38:L38) -> 0 | S38: =SUM(N38:R38) -> 0 | T38: =SUM(B38,H38,N38) -> 0 | U38: =SUM(C38,I38,O38) -> 0 | V38: =SUM(D38,J38,P38) -> 0 | W38: =SUM(E38,K38,Q38) -> 0 | X38: =SUM(F38,L38,R38) -> 0 | Y38: =SUM(T38:X38) -> 0 | AE38: =SUM(Z38:AD38) -> 0 | AK38: =SUM(AF38:AJ38) -> 0 | AQ38: =SUM(AL38:AP38) -> 0 | AX38: =SUM(AR38:AW38) -> 0 | BD38: =SUM(AY38:BC38) -> 0 | BE38: =SUM(Z38,AF38,AL38,AR38,AY38) -> 0 | BF38: =SUM(AA38,AG38,AM38,AS38,AZ38) -> 0 | BG38: =SUM(AB38,AH38,AN38,AT38,BA38) -> 0 | BH38: =SUM(AC38,AI38,AO38,AU38,BB38) -> 0 | BI38: =SUM(AD38,AJ38,AP38,AV38,BC38) -> 0 | BJ38: =SUM(AW38) -> 0 | BK38: =SUM(BE38:BJ38) -> 0 | BQ38: =SUM(BL38:BP38) -> 0 | BW38: =SUM(BR38:BV38) -> 0 | CD38: =SUM(BX38:CC38) -> 0 | CE38: =SUM(BL38,BR38,BX38) -> 0 | CF38: =SUM(BM38,BS38,BY38) -> 0 | CG38: =SUM(BN38,BT38,BZ38) -> 0 | CH38: =SUM(BO38,BU38,CA38) -> 0 | CI38: =SUM(BP38,BV38,CB38) -> 0 | CJ38: =SUM(CC38) -> 0 | CK38: =SUM(CE38:CJ38) -> 0 | CR38: =SUM(CL38:CQ38) -> 0 | CY38: =SUM(CS38:CX38) -> 0 | DF38: =SUM(CZ38:DE38) -> 0 | DM38: =SUM(DG38:DL38) -> 0 | DN38: =SUM(CL38,CS38,CZ38,DG38) -> 0 | DO38: =SUM(CM38,CT38,DA38,DH38) -> 0 | DP38: =SUM(CN38,CU38,DB38,DI38) -> 0 | DQ38: =SUM(CO38,CV38,DC38,DJ38) -> 0 | DR38: =SUM(CP38,CW38,DD38,DK38) -> 0 | DS38: =SUM(CQ38,CX38,DE38,DL38) -> 0 | DT38: =SUM(DN38:DS38) -> 0 | DZ38: =SUM(DU38:DY38) -> 0 | EF38: =SUM(EA38:EE38) -> 0 | EL38: =SUM(EG38:EK38) -> 0 | ER38: =SUM(EM38:EQ38) -> 0 | EX38: =SUM(ES38:EW38) -> 0 | FD38: =SUM(EY38:FC38) -> 0 | FJ38: =SUM(FE38:FI38) -> 0 | FK38: =SUM(DU38,EA38,EG38,EM38,ES38,EY38,FE38) -> 0 | FL38: =SUM(DV38,EB38,EH38,EN38,ET38,EZ38,FF38) -> 0 | FM38: =SUM(DW38,EC38,EI38,EO38,EU38,FA38,FG38) -> 0 | FN38: =SUM(DX38,ED38,EJ38,EP38,EV38,FB38,FH38) -> 0 | FO38: =SUM(DY38,EE38,EK38,EQ38,EW38,FC38,FI38) -> 0 | FP38: =SUM(FK38:FO38) -> 0 | FV38: =SUM(FQ38:FU38) -> 0 | GB38: =SUM(FW38:GA38) -> 0 | GH38: =SUM(GC38:GG38) -> 0 | GN38: =SUM(GI38:GM38) -> 0 | GT38: =SUM(GO38:GS38) -> 0 | GZ38: =SUM(GU38:GY38) -> 0 | HF38: =SUM(HA38:HE38) -> 0 | HL38: =SUM(HG38:HK38) -> 0 | HM38: =SUM(FQ38,FW38,GC38,GI38,GO38,GU38,HA38,HG38) -> 0 | HN38: =SUM(FR38,FX38,GD38,GJ38,GP38,GV38,HB38,HH38) -> 0 | HO38: =SUM(HI38,HC38,GW38,GQ38,GK38,GE38,FY38,FS38) -> 0 | HP38: =SUM(HJ38,HD38,GX38,GR38,GL38,GF38,FZ38,FT38) -> 0 | HQ38: =SUM(HK38,HE38,GY38,GS38,GM38,GG38,GA38,FU38) -> 0 | HR38: =SUM(HM38:HQ38) -> 0 | HX38: =SUM(HS38:HW38) -> 0 | ID38: =SUM(HY38:IC38) -> 0 | IJ38: =SUM(IE38:II38) -> 0 | IK38: =SUM(HS38,HY38,IE38) -> 0 | IL38: =SUM(HT38,HZ38,IF38) -> 0 | IM38: =SUM(HU38,IA38,IG38) -> 0 | IN38: =SUM(HV38,IB38,IH38) -> 0 | IO38: =SUM(HW38,IC38,II38) -> 0 | IP38: =SUM(IK38:IO38) -> 0 | IV38: =SUM(IQ38:IU38) -> 0 | JB38: =SUM(IW38:JA38) -> 0 | JH38: =SUM(JC38:JG38) -> 0 | JI38: =SUM(IQ38,IW38,JC38) -> 0 | JJ38: =SUM(IR38,IX38,JD38) -> 0 | JK38: =SUM(IS38,IY38,JE38) -> 0 | JL38: =SUM(IT38,IZ38,JF38) -> 0 | JM38: =SUM(IU38,JA38,JG38) -> 0 | JN38: =SUM(JI38:JM38) -> 0 | JP38: =SUM(T38,BE38,CE38,DN38,FK38,HM38,IK38,JI38) -> 0 | JQ38: =SUM(U38,BF38,CF38,DO38,FL38,HN38,IL38,JJ38) -> 0 | JR38: =SUM(V38,BG38,CG38,DP38,FM38,HO38,IM38,JK38) -> 0 | JS38: =SUM(W38,BH38,CH38,DQ38,FN38,HP38,IN38,JL38) -> 0 | JT38: =SUM(X38,BI38,CI38,DR38,FO38,HQ38,IO38,JM38) -> 0 | JU38: =SUM(DS38,BJ38,CJ38) -> 0 | JV38: =SUM(JP38:JU38) -> 0
A39: IDS=Conifer Sawflies | G39: =SUM(B39:F39) -> 0 | M39: =SUM(H39:L39) -> 0 | S39: =SUM(N39:R39) -> 0 | T39: =SUM(B39,H39,N39) -> 0 | U39: =SUM(C39,I39,O39) -> 0 | V39: =SUM(D39,J39,P39) -> 0 | W39: =SUM(E39,K39,Q39) -> 0 | X39: =SUM(F39,L39,R39) -> 0 | Y39: =SUM(T39:X39) -> 0 | AE39: =SUM(Z39:AD39) -> 0 | AK39: =SUM(AF39:AJ39) -> 0 | AQ39: =SUM(AL39:AP39) -> 0 | AX39: =SUM(AR39:AW39) -> 0 | BD39: =SUM(AY39:BC39) -> 0 | BE39: =SUM(Z39,AF39,AL39,AR39,AY39) -> 0 | BF39: =SUM(AA39,AG39,AM39,AS39,AZ39) -> 0 | BG39: =SUM(AB39,AH39,AN39,AT39,BA39) -> 0 | BH39: =SUM(AC39,AI39,AO39,AU39,BB39) -> 0 | BI39: =SUM(AD39,AJ39,AP39,AV39,BC39) -> 0 | BJ39: =SUM(AW39) -> 0 | BK39: =SUM(BE39:BJ39) -> 0 | BQ39: =SUM(BL39:BP39) -> 0 | BW39: =SUM(BR39:BV39) -> 0 | CD39: =SUM(BX39:CC39) -> 0 | CE39: =SUM(BL39,BR39,BX39) -> 0 | CF39: =SUM(BM39,BS39,BY39) -> 0 | CG39: =SUM(BN39,BT39,BZ39) -> 0 | CH39: =SUM(BO39,BU39,CA39) -> 0 | CI39: =SUM(BP39,BV39,CB39) -> 0 | CJ39: =SUM(CC39) -> 0 | CK39: =SUM(CE39:CJ39) -> 0 | CR39: =SUM(CL39:CQ39) -> 0 | CY39: =SUM(CS39:CX39) -> 0 | DF39: =SUM(CZ39:DE39) -> 0 | DM39: =SUM(DG39:DL39) -> 0 | DN39: =SUM(CL39,CS39,CZ39,DG39) -> 0 | DO39: =SUM(CM39,CT39,DA39,DH39) -> 0 | DP39: =SUM(CN39,CU39,DB39,DI39) -> 0 | DQ39: =SUM(CO39,CV39,DC39,DJ39) -> 0 | DR39: =SUM(CP39,CW39,DD39,DK39) -> 0 | DS39: =SUM(CQ39,CX39,DE39,DL39) -> 0 | DT39: =SUM(DN39:DS39) -> 0 | DZ39: =SUM(DU39:DY39) -> 0 | EF39: =SUM(EA39:EE39) -> 0 | EL39: =SUM(EG39:EK39) -> 0 | ER39: =SUM(EM39:EQ39) -> 0 | EX39: =SUM(ES39:EW39) -> 0 | FD39: =SUM(EY39:FC39) -> 0 | FJ39: =SUM(FE39:FI39) -> 0 | FK39: =SUM(DU39,EA39,EG39,EM39,ES39,EY39,FE39) -> 0 | FL39: =SUM(DV39,EB39,EH39,EN39,ET39,EZ39,FF39) -> 0 | FM39: =SUM(DW39,EC39,EI39,EO39,EU39,FA39,FG39) -> 0 | FN39: =SUM(DX39,ED39,EJ39,EP39,EV39,FB39,FH39) -> 0 | FO39: =SUM(DY39,EE39,EK39,EQ39,EW39,FC39,FI39) -> 0 | FP39: =SUM(FK39:FO39) -> 0 | FV39: =SUM(FQ39:FU39) -> 0 | GB39: =SUM(FW39:GA39) -> 0 | GH39: =SUM(GC39:GG39) -> 0 | GN39: =SUM(GI39:GM39) -> 0 | GT39: =SUM(GO39:GS39) -> 0 | GZ39: =SUM(GU39:GY39) -> 0 | HF39: =SUM(HA39:HE39) -> 0 | HL39: =SUM(HG39:HK39) -> 0 | HM39: =SUM(FQ39,FW39,GC39,GI39,GO39,GU39,HA39,HG39) -> 0 | HN39: =SUM(FR39,FX39,GD39,GJ39,GP39,GV39,HB39,HH39) -> 0 | HO39: =SUM(HI39,HC39,GW39,GQ39,GK39,GE39,FY39,FS39) -> 0 | HP39: =SUM(HJ39,HD39,GX39,GR39,GL39,GF39,FZ39,FT39) -> 0 | HQ39: =SUM(HK39,HE39,GY39,GS39,GM39,GG39,GA39,FU39) -> 0 | HR39: =SUM(HM39:HQ39) -> 0 | HX39: =SUM(HS39:HW39) -> 0 | ID39: =SUM(HY39:IC39) -> 0 | IJ39: =SUM(IE39:II39) -> 0 | IK39: =SUM(HS39,HY39,IE39) -> 0 | IL39: =SUM(HT39,HZ39,IF39) -> 0 | IM39: =SUM(HU39,IA39,IG39) -> 0 | IN39: =SUM(HV39,IB39,IH39) -> 0 | IO39: =SUM(HW39,IC39,II39) -> 0 | IP39: =SUM(IK39:IO39) -> 0 | IV39: =SUM(IQ39:IU39) -> 0 | JB39: =SUM(IW39:JA39) -> 0 | JH39: =SUM(JC39:JG39) -> 0 | JI39: =SUM(IQ39,IW39,JC39) -> 0 | JJ39: =SUM(IR39,IX39,JD39) -> 0 | JK39: =SUM(IS39,IY39,JE39) -> 0 | JL39: =SUM(IT39,IZ39,JF39) -> 0 | JM39: =SUM(IU39,JA39,JG39) -> 0 | JN39: =SUM(JI39:JM39) -> 0 | JP39: =SUM(T39,BE39,CE39,DN39,FK39,HM39,IK39,JI39) -> 0 | JQ39: =SUM(U39,BF39,CF39,DO39,FL39,HN39,IL39,JJ39) -> 0 | JR39: =SUM(V39,BG39,CG39,DP39,FM39,HO39,IM39,JK39) -> 0 | JS39: =SUM(W39,BH39,CH39,DQ39,FN39,HP39,IN39,JL39) -> 0 | JT39: =SUM(X39,BI39,CI39,DR39,FO39,HQ39,IO39,JM39) -> 0 | JU39: =SUM(DS39,BJ39,CJ39) -> 0 | JV39: =SUM(JP39:JU39) -> 0
A40: IDT=Douglas-fir Tussock Moth | G40: =SUM(B40:F40) -> 0 | M40: =SUM(H40:L40) -> 0 | S40: =SUM(N40:R40) -> 0 | T40: =SUM(B40,H40,N40) -> 0 | U40: =SUM(C40,I40,O40) -> 0 | V40: =SUM(D40,J40,P40) -> 0 | W40: =SUM(E40,K40,Q40) -> 0 | X40: =SUM(F40,L40,R40) -> 0 | Y40: =SUM(T40:X40) -> 0 | AE40: =SUM(Z40:AD40) -> 0 | AK40: =SUM(AF40:AJ40) -> 0 | AQ40: =SUM(AL40:AP40) -> 0 | AX40: =SUM(AR40:AW40) -> 0 | BD40: =SUM(AY40:BC40) -> 0 | BE40: =SUM(Z40,AF40,AL40,AR40,AY40) -> 0 | BF40: =SUM(AA40,AG40,AM40,AS40,AZ40) -> 0 | BG40: =SUM(AB40,AH40,AN40,AT40,BA40) -> 0 | BH40: =SUM(AC40,AI40,AO40,AU40,BB40) -> 0 | BI40: =SUM(AD40,AJ40,AP40,AV40,BC40) -> 0 | BJ40: =SUM(AW40) -> 0 | BK40: =SUM(BE40:BJ40) -> 0 | BQ40: =SUM(BL40:BP40) -> 0 | BW40: =SUM(BR40:BV40) -> 0 | CD40: =SUM(BX40:CC40) -> 0 | CE40: =SUM(BL40,BR40,BX40) -> 0 | CF40: =SUM(BM40,BS40,BY40) -> 0 | CG40: =SUM(BN40,BT40,BZ40) -> 0 | CH40: =SUM(BO40,BU40,CA40) -> 0 | CI40: =SUM(BP40,BV40,CB40) -> 0 | CJ40: =SUM(CC40) -> 0 | CK40: =SUM(CE40:CJ40) -> 0 | CR40: =SUM(CL40:CQ40) -> 0 | CY40: =SUM(CS40:CX40) -> 0 | DF40: =SUM(CZ40:DE40) -> 0 | DM40: =SUM(DG40:DL40) -> 0 | DN40: =SUM(CL40,CS40,CZ40,DG40) -> 0 | DO40: =SUM(CM40,CT40,DA40,DH40) -> 0 | DP40: =SUM(CN40,CU40,DB40,DI40) -> 0 | DQ40: =SUM(CO40,CV40,DC40,DJ40) -> 0 | DR40: =SUM(CP40,CW40,DD40,DK40) -> 0 | DS40: =SUM(CQ40,CX40,DE40,DL40) -> 0 | DT40: =SUM(DN40:DS40) -> 0 | DZ40: =SUM(DU40:DY40) -> 0 | EF40: =SUM(EA40:EE40) -> 0 | EL40: =SUM(EG40:EK40) -> 0 | ER40: =SUM(EM40:EQ40) -> 0 | EX40: =SUM(ES40:EW40) -> 0 | FD40: =SUM(EY40:FC40) -> 0 | FJ40: =SUM(FE40:FI40) -> 0 | FK40: =SUM(DU40,EA40,EG40,EM40,ES40,EY40,FE40) -> 0 | FL40: =SUM(DV40,EB40,EH40,EN40,ET40,EZ40,FF40) -> 0 | FM40: =SUM(DW40,EC40,EI40,EO40,EU40,FA40,FG40) -> 0 | FN40: =SUM(DX40,ED40,EJ40,EP40,EV40,FB40,FH40) -> 0 | FO40: =SUM(DY40,EE40,EK40,EQ40,EW40,FC40,FI40) -> 0 | FP40: =SUM(FK40:FO40) -> 0 | FV40: =SUM(FQ40:FU40) -> 0 | GB40: =SUM(FW40:GA40) -> 0 | GH40: =SUM(GC40:GG40) -> 0 | GN40: =SUM(GI40:GM40) -> 0 | GT40: =SUM(GO40:GS40) -> 0 | GZ40: =SUM(GU40:GY40) -> 0 | HF40: =SUM(HA40:HE40) -> 0 | HL40: =SUM(HG40:HK40) -> 0 | HM40: =SUM(FQ40,FW40,GC40,GI40,GO40,GU40,HA40,HG40) -> 0 | HN40: =SUM(FR40,FX40,GD40,GJ40,GP40,GV40,HB40,HH40) -> 0 | HO40: =SUM(HI40,HC40,GW40,GQ40,GK40,GE40,FY40,FS40) -> 0 | HP40: =SUM(HJ40,HD40,GX40,GR40,GL40,GF40,FZ40,FT40) -> 0 | HQ40: =SUM(HK40,HE40,GY40,GS40,GM40,GG40,GA40,FU40) -> 0 | HR40: =SUM(HM40:HQ40) -> 0 | HX40: =SUM(HS40:HW40) -> 0 | ID40: =SUM(HY40:IC40) -> 0 | IJ40: =SUM(IE40:II40) -> 0 | IK40: =SUM(HS40,HY40,IE40) -> 0 | IL40: =SUM(HT40,HZ40,IF40) -> 0 | IM40: =SUM(HU40,IA40,IG40) -> 0 | IN40: =SUM(HV40,IB40,IH40) -> 0 | IO40: =SUM(HW40,IC40,II40) -> 0 | IP40: =SUM(IK40:IO40) -> 0 | IV40: =SUM(IQ40:IU40) -> 0 | JB40: =SUM(IW40:JA40) -> 0 | JH40: =SUM(JC40:JG40) -> 0 | JI40: =SUM(IQ40,IW40,JC40) -> 0 | JJ40: =SUM(IR40,IX40,JD40) -> 0 | JK40: =SUM(IS40,IY40,JE40) -> 0 | JL40: =SUM(IT40,IZ40,JF40) -> 0 | JM40: =SUM(IU40,JA40,JG40) -> 0 | JN40: =SUM(JI40:JM40) -> 0 | JP40: =SUM(T40,BE40,CE40,DN40,FK40,HM40,IK40,JI40) -> 0 | JQ40: =SUM(U40,BF40,CF40,DO40,FL40,HN40,IL40,JJ40) -> 0 | JR40: =SUM(V40,BG40,CG40,DP40,FM40,HO40,IM40,JK40) -> 0 | JS40: =SUM(W40,BH40,CH40,DQ40,FN40,HP40,IN40,JL40) -> 0 | JT40: =SUM(X40,BI40,CI40,DR40,FO40,HQ40,IO40,JM40) -> 0 | JU40: =SUM(DS40,BJ40,CJ40) -> 0 | JV40: =SUM(JP40:JU40) -> 0
A41: IDU=Satin Moth | G41: =SUM(B41:F41) -> 0 | M41: =SUM(H41:L41) -> 0 | S41: =SUM(N41:R41) -> 0 | T41: =SUM(B41,H41,N41) -> 0 | U41: =SUM(C41,I41,O41) -> 0 | V41: =SUM(D41,J41,P41) -> 0 | W41: =SUM(E41,K41,Q41) -> 0 | X41: =SUM(F41,L41,R41) -> 0 | Y41: =SUM(T41:X41) -> 0 | AE41: =SUM(Z41:AD41) -> 0 | AK41: =SUM(AF41:AJ41) -> 0 | AQ41: =SUM(AL41:AP41) -> 0 | AX41: =SUM(AR41:AW41) -> 0 | BD41: =SUM(AY41:BC41) -> 0 | BE41: =SUM(Z41,AF41,AL41,AR41,AY41) -> 0 | BF41: =SUM(AA41,AG41,AM41,AS41,AZ41) -> 0 | BG41: =SUM(AB41,AH41,AN41,AT41,BA41) -> 0 | BH41: =SUM(AC41,AI41,AO41,AU41,BB41) -> 0 | BI41: =SUM(AD41,AJ41,AP41,AV41,BC41) -> 0 | BJ41: =SUM(AW41) -> 0 | BK41: =SUM(BE41:BJ41) -> 0 | BN41: 8.6188379 | BO41: 16.930228 | BQ41: =SUM(BL41:BP41) -> 25.549066 | BW41: =SUM(BR41:BV41) -> 0 | CD41: =SUM(BX41:CC41) -> 0 | CE41: =SUM(BL41,BR41,BX41) -> 0 | CF41: =SUM(BM41,BS41,BY41) -> 0 | CG41: =SUM(BN41,BT41,BZ41) -> 8.6188379 | CH41: =SUM(BO41,BU41,CA41) -> 16.930228 | CI41: =SUM(BP41,BV41,CB41) -> 0 | CJ41: =SUM(CC41) -> 0 | CK41: =SUM(CE41:CJ41) -> 25.549066 | CN41: 20.062244 | CR41: =SUM(CL41:CQ41) -> 20.062244 | CY41: =SUM(CS41:CX41) -> 0 | DA41: 19.032023 | DF41: =SUM(CZ41:DE41) -> 19.032023 | DI41: 124.28872 | DJ41: 44.758132 | DM41: =SUM(DG41:DL41) -> 169.04685 | DN41: =SUM(CL41,CS41,CZ41,DG41) -> 0 | DO41: =SUM(CM41,CT41,DA41,DH41) -> 19.032023 | DP41: =SUM(CN41,CU41,DB41,DI41) -> 144.35096 | DQ41: =SUM(CO41,CV41,DC41,DJ41) -> 44.758132 | DR41: =SUM(CP41,CW41,DD41,DK41) -> 0 | DS41: =SUM(CQ41,CX41,DE41,DL41) -> 0 | DT41: =SUM(DN41:DS41) -> 208.14112 | DZ41: =SUM(DU41:DY41) -> 0 | EF41: =SUM(EA41:EE41) -> 0 | EL41: =SUM(EG41:EK41) -> 0 | ER41: =SUM(EM41:EQ41) -> 0 | EX41: =SUM(ES41:EW41) -> 0 | FD41: =SUM(EY41:FC41) -> 0 | FJ41: =SUM(FE41:FI41) -> 0 | FK41: =SUM(DU41,EA41,EG41,EM41,ES41,EY41,FE41) -> 0 | FL41: =SUM(DV41,EB41,EH41,EN41,ET41,EZ41,FF41) -> 0 | FM41: =SUM(DW41,EC41,EI41,EO41,EU41,FA41,FG41) -> 0 | FN41: =SUM(DX41,ED41,EJ41,EP41,EV41,FB41,FH41) -> 0 | FO41: =SUM(DY41,EE41,EK41,EQ41,EW41,FC41,FI41) -> 0 | FP41: =SUM(FK41:FO41) -> 0 | FV41: =SUM(FQ41:FU41) -> 0 | GB41: =SUM(FW41:GA41) -> 0 | GH41: =SUM(GC41:GG41) -> 0 | GN41: =SUM(GI41:GM41) -> 0 | GT41: =SUM(GO41:GS41) -> 0 | GZ41: =SUM(GU41:GY41) -> 0 | HF41: =SUM(HA41:HE41) -> 0 | HL41: =SUM(HG41:HK41) -> 0 | HM41: =SUM(FQ41,FW41,GC41,GI41,GO41,GU41,HA41,HG41) -> 0 | HN41: =SUM(FR41,FX41,GD41,GJ41,GP41,GV41,HB41,HH41) -> 0 | HO41: =SUM(HI41,HC41,GW41,GQ41,GK41,GE41,FY41,FS41) -> 0 | HP41: =SUM(HJ41,HD41,GX41,GR41,GL41,GF41,FZ41,FT41) -> 0 | HQ41: =SUM(HK41,HE41,GY41,GS41,GM41,GG41,GA41,FU41) -> 0 | HR41: =SUM(HM41:HQ41) -> 0 | HX41: =SUM(HS41:HW41) -> 0 | ID41: =SUM(HY41:IC41) -> 0 | IJ41: =SUM(IE41:II41) -> 0 | IK41: =SUM(HS41,HY41,IE41) -> 0 | IL41: =SUM(HT41,HZ41,IF41) -> 0 | IM41: =SUM(HU41,IA41,IG41) -> 0 | IN41: =SUM(HV41,IB41,IH41) -> 0 | IO41: =SUM(HW41,IC41,II41) -> 0 | IP41: =SUM(IK41:IO41) -> 0 | IV41: =SUM(IQ41:IU41) -> 0 | JB41: =SUM(IW41:JA41) -> 0 | JH41: =SUM(JC41:JG41) -> 0 | JI41: =SUM(IQ41,IW41,JC41) -> 0 | JJ41: =SUM(IR41,IX41,JD41) -> 0 | JK41: =SUM(IS41,IY41,JE41) -> 0 | JL41: =SUM(IT41,IZ41,JF41) -> 0 | JM41: =SUM(IU41,JA41,JG41) -> 0 | JN41: =SUM(JI41:JM41) -> 0 | JP41: =SUM(T41,BE41,CE41,DN41,FK41,HM41,IK41,JI41) -> 0 | JQ41: =SUM(U41,BF41,CF41,DO41,FL41,HN41,IL41,JJ41) -> 19.032023 | JR41: =SUM(V41,BG41,CG41,DP41,FM41,HO41,IM41,JK41) -> 152.9698 | JS41: =SUM(W41,BH41,CH41,DQ41,FN41,HP41,IN41,JL41) -> 61.68836 | JT41: =SUM(X41,BI41,CI41,DR41,FO41,HQ41,IO41,JM41) -> 0 | JU41: =SUM(DS41,BJ41,CJ41) -> 0 | JV41: =SUM(JP41:JU41) -> 233.69018
A42: IDW=Western Spruce Budworm | G42: =SUM(B42:F42) -> 0 | I42: 58.944707 | M42: =SUM(H42:L42) -> 58.944707 | S42: =SUM(N42:R42) -> 0 | T42: =SUM(B42,H42,N42) -> 0 | U42: =SUM(C42,I42,O42) -> 58.944707 | V42: =SUM(D42,J42,P42) -> 0 | W42: =SUM(E42,K42,Q42) -> 0 | X42: =SUM(F42,L42,R42) -> 0 | Y42: =SUM(T42:X42) -> 58.944707 | AE42: =SUM(Z42:AD42) -> 0 | AK42: =SUM(AF42:AJ42) -> 0 | AQ42: =SUM(AL42:AP42) -> 0 | AX42: =SUM(AR42:AW42) -> 0 | BD42: =SUM(AY42:BC42) -> 0 | BE42: =SUM(Z42,AF42,AL42,AR42,AY42) -> 0 | BF42: =SUM(AA42,AG42,AM42,AS42,AZ42) -> 0 | BG42: =SUM(AB42,AH42,AN42,AT42,BA42) -> 0 | BH42: =SUM(AC42,AI42,AO42,AU42,BB42) -> 0 | BI42: =SUM(AD42,AJ42,AP42,AV42,BC42) -> 0 | BJ42: =SUM(AW42) -> 0 | BK42: =SUM(BE42:BJ42) -> 0 | BM42: 47260.772 | BN42: 2839.5974 | BO42: 104.33752 | BQ42: =SUM(BL42:BP42) -> 50204.706 | BS42: 48.562975 | BW42: =SUM(BR42:BV42) -> 48.562975 | BZ42: 39219.194 | CA42: 474.49054 | CD42: =SUM(BX42:CC42) -> 39693.685 | CE42: =SUM(BL42,BR42,BX42) -> 0 | CF42: =SUM(BM42,BS42,BY42) -> 47309.334 | CG42: =SUM(BN42,BT42,BZ42) -> 42058.792 | CH42: =SUM(BO42,BU42,CA42) -> 578.82806 | CI42: =SUM(BP42,BV42,CB42) -> 0 | CJ42: =SUM(CC42) -> 0 | CK42: =SUM(CE42:CJ42) -> 89946.954 | CM42: 27874.768 | CN42: 3536.571 | CR42: =SUM(CL42:CQ42) -> 31411.339 | CT42: 1660.3524 | CY42: =SUM(CS42:CX42) -> 1660.3524 | DA42: 1678.3969 | DF42: =SUM(CZ42:DE42) -> 1678.3969 | DH42: 1764.333 | DM42: =SUM(DG42:DL42) -> 1764.333 | DN42: =SUM(CL42,CS42,CZ42,DG42) -> 0 | DO42: =SUM(CM42,CT42,DA42,DH42) -> 32977.85 | DP42: =SUM(CN42,CU42,DB42,DI42) -> 3536.571 | DQ42: =SUM(CO42,CV42,DC42,DJ42) -> 0 | DR42: =SUM(CP42,CW42,DD42,DK42) -> 0 | DS42: =SUM(CQ42,CX42,DE42,DL42) -> 0 | DT42: =SUM(DN42:DS42) -> 36514.421 | DW42: 79.913901 | DZ42: =SUM(DU42:DY42) -> 79.913901 | EB42: 521.53739 | EC42: 728.7604 | EF42: =SUM(EA42:EE42) -> 1250.2978 | EH42: 172.43447 | EL42: =SUM(EG42:EK42) -> 172.43447 | ER42: =SUM(EM42:EQ42) -> 0 | EX42: =SUM(ES42:EW42) -> 0 | FD42: =SUM(EY42:FC42) -> 0 | FF42: 14.919681 | FJ42: =SUM(FE42:FI42) -> 14.919681 | FK42: =SUM(DU42,EA42,EG42,EM42,ES42,EY42,FE42) -> 0 | FL42: =SUM(DV42,EB42,EH42,EN42,ET42,EZ42,FF42) -> 708.89154 | FM42: =SUM(DW42,EC42,EI42,EO42,EU42,FA42,FG42) -> 808.6743 | FN42: =SUM(DX42,ED42,EJ42,EP42,EV42,FB42,FH42) -> 0 | FO42: =SUM(DY42,EE42,EK42,EQ42,EW42,FC42,FI42) -> 0 | FP42: =SUM(FK42:FO42) -> 1517.5658 | FV42: =SUM(FQ42:FU42) -> 0 | GB42: =SUM(FW42:GA42) -> 0 | GH42: =SUM(GC42:GG42) -> 0 | GN42: =SUM(GI42:GM42) -> 0 | GT42: =SUM(GO42:GS42) -> 0 | GZ42: =SUM(GU42:GY42) -> 0 | HF42: =SUM(HA42:HE42) -> 0 | HL42: =SUM(HG42:HK42) -> 0 | HM42: =SUM(FQ42,FW42,GC42,GI42,GO42,GU42,HA42,HG42) -> 0 | HN42: =SUM(FR42,FX42,GD42,GJ42,GP42,GV42,HB42,HH42) -> 0 | HO42: =SUM(HI42,HC42,GW42,GQ42,GK42,GE42,FY42,FS42) -> 0 | HP42: =SUM(HJ42,HD42,GX42,GR42,GL42,GF42,FZ42,FT42) -> 0 | HQ42: =SUM(HK42,HE42,GY42,GS42,GM42,GG42,GA42,FU42) -> 0 | HR42: =SUM(HM42:HQ42) -> 0 | HX42: =SUM(HS42:HW42) -> 0 | ID42: =SUM(HY42:IC42) -> 0 | IJ42: =SUM(IE42:II42) -> 0 | IK42: =SUM(HS42,HY42,IE42) -> 0 | IL42: =SUM(HT42,HZ42,IF42) -> 0 | IM42: =SUM(HU42,IA42,IG42) -> 0 | IN42: =SUM(HV42,IB42,IH42) -> 0 | IO42: =SUM(HW42,IC42,II42) -> 0 | IP42: =SUM(IK42:IO42) -> 0 | IV42: =SUM(IQ42:IU42) -> 0 | JB42: =SUM(IW42:JA42) -> 0 | JH42: =SUM(JC42:JG42) -> 0 | JI42: =SUM(IQ42,IW42,JC42) -> 0 | JJ42: =SUM(IR42,IX42,JD42) -> 0 | JK42: =SUM(IS42,IY42,JE42) -> 0 | JL42: =SUM(IT42,IZ42,JF42) -> 0 | JM42: =SUM(IU42,JA42,JG42) -> 0 | JN42: =SUM(JI42:JM42) -> 0 | JP42: =SUM(T42,BE42,CE42,DN42,FK42,HM42,IK42,JI42) -> 0 | JQ42: =SUM(U42,BF42,CF42,DO42,FL42,HN42,IL42,JJ42) -> 81055.021 | JR42: =SUM(V42,BG42,CG42,DP42,FM42,HO42,IM42,JK42) -> 46404.037 | JS42: =SUM(W42,BH42,CH42,DQ42,FN42,HP42,IN42,JL42) -> 578.82806 | JT42: =SUM(X42,BI42,CI42,DR42,FO42,HQ42,IO42,JM42) -> 0 | JU42: =SUM(DS42,BJ42,CJ42) -> 0 | JV42: =SUM(JP42:JU42) -> 128037.89
A43: IDX=Large Aspen Tortrix | G43: =SUM(B43:F43) -> 0 | M43: =SUM(H43:L43) -> 0 | S43: =SUM(N43:R43) -> 0 | T43: =SUM(B43,H43,N43) -> 0 | U43: =SUM(C43,I43,O43) -> 0 | V43: =SUM(D43,J43,P43) -> 0 | W43: =SUM(E43,K43,Q43) -> 0 | X43: =SUM(F43,L43,R43) -> 0 | Y43: =SUM(T43:X43) -> 0 | AE43: =SUM(Z43:AD43) -> 0 | AK43: =SUM(AF43:AJ43) -> 0 | AQ43: =SUM(AL43:AP43) -> 0 | AX43: =SUM(AR43:AW43) -> 0 | BD43: =SUM(AY43:BC43) -> 0 | BE43: =SUM(Z43,AF43,AL43,AR43,AY43) -> 0 | BF43: =SUM(AA43,AG43,AM43,AS43,AZ43) -> 0 | BG43: =SUM(AB43,AH43,AN43,AT43,BA43) -> 0 | BH43: =SUM(AC43,AI43,AO43,AU43,BB43) -> 0 | BI43: =SUM(AD43,AJ43,AP43,AV43,BC43) -> 0 | BJ43: =SUM(AW43) -> 0 | BK43: =SUM(BE43:BJ43) -> 0 | BQ43: =SUM(BL43:BP43) -> 0 | BW43: =SUM(BR43:BV43) -> 0 | CD43: =SUM(BX43:CC43) -> 0 | CE43: =SUM(BL43,BR43,BX43) -> 0 | CF43: =SUM(BM43,BS43,BY43) -> 0 | CG43: =SUM(BN43,BT43,BZ43) -> 0 | CH43: =SUM(BO43,BU43,CA43) -> 0 | CI43: =SUM(BP43,BV43,CB43) -> 0 | CJ43: =SUM(CC43) -> 0 | CK43: =SUM(CE43:CJ43) -> 0 | CR43: =SUM(CL43:CQ43) -> 0 | CY43: =SUM(CS43:CX43) -> 0 | DF43: =SUM(CZ43:DE43) -> 0 | DM43: =SUM(DG43:DL43) -> 0 | DN43: =SUM(CL43,CS43,CZ43,DG43) -> 0 | DO43: =SUM(CM43,CT43,DA43,DH43) -> 0 | DP43: =SUM(CN43,CU43,DB43,DI43) -> 0 | DQ43: =SUM(CO43,CV43,DC43,DJ43) -> 0 | DR43: =SUM(CP43,CW43,DD43,DK43) -> 0 | DS43: =SUM(CQ43,CX43,DE43,DL43) -> 0 | DT43: =SUM(DN43:DS43) -> 0 | DZ43: =SUM(DU43:DY43) -> 0 | EF43: =SUM(EA43:EE43) -> 0 | EL43: =SUM(EG43:EK43) -> 0 | ER43: =SUM(EM43:EQ43) -> 0 | EX43: =SUM(ES43:EW43) -> 0 | FD43: =SUM(EY43:FC43) -> 0 | FJ43: =SUM(FE43:FI43) -> 0 | FK43: =SUM(DU43,EA43,EG43,EM43,ES43,EY43,FE43) -> 0 | FL43: =SUM(DV43,EB43,EH43,EN43,ET43,EZ43,FF43) -> 0 | FM43: =SUM(DW43,EC43,EI43,EO43,EU43,FA43,FG43) -> 0 | FN43: =SUM(DX43,ED43,EJ43,EP43,EV43,FB43,FH43) -> 0 | FO43: =SUM(DY43,EE43,EK43,EQ43,EW43,FC43,FI43) -> 0 | FP43: =SUM(FK43:FO43) -> 0 | FV43: =SUM(FQ43:FU43) -> 0 | GB43: =SUM(FW43:GA43) -> 0 | GH43: =SUM(GC43:GG43) -> 0 | GN43: =SUM(GI43:GM43) -> 0 | GT43: =SUM(GO43:GS43) -> 0 | GZ43: =SUM(GU43:GY43) -> 0 | HF43: =SUM(HA43:HE43) -> 0 | HL43: =SUM(HG43:HK43) -> 0 | HM43: =SUM(FQ43,FW43,GC43,GI43,GO43,GU43,HA43,HG43) -> 0 | HN43: =SUM(FR43,FX43,GD43,GJ43,GP43,GV43,HB43,HH43) -> 0 | HO43: =SUM(HI43,HC43,GW43,GQ43,GK43,GE43,FY43,FS43) -> 0 | HP43: =SUM(HJ43,HD43,GX43,GR43,GL43,GF43,FZ43,FT43) -> 0 | HQ43: =SUM(HK43,HE43,GY43,GS43,GM43,GG43,GA43,FU43) -> 0 | HR43: =SUM(HM43:HQ43) -> 0 | HX43: =SUM(HS43:HW43) -> 0 | ID43: =SUM(HY43:IC43) -> 0 | IJ43: =SUM(IE43:II43) -> 0 | IK43: =SUM(HS43,HY43,IE43) -> 0 | IL43: =SUM(HT43,HZ43,IF43) -> 0 | IM43: =SUM(HU43,IA43,IG43) -> 0 | IN43: =SUM(HV43,IB43,IH43) -> 0 | IO43: =SUM(HW43,IC43,II43) -> 0 | IP43: =SUM(IK43:IO43) -> 0 | IV43: =SUM(IQ43:IU43) -> 0 | IY43: 296.65964 | IZ43: 1887.426 | JB43: =SUM(IW43:JA43) -> 2184.0856 | JH43: =SUM(JC43:JG43) -> 0 | JI43: =SUM(IQ43,IW43,JC43) -> 0 | JJ43: =SUM(IR43,IX43,JD43) -> 0 | JK43: =SUM(IS43,IY43,JE43) -> 296.65964 | JL43: =SUM(IT43,IZ43,JF43) -> 1887.426 | JM43: =SUM(IU43,JA43,JG43) -> 0 | JN43: =SUM(JI43:JM43) -> 2184.0856 | JP43: =SUM(T43,BE43,CE43,DN43,FK43,HM43,IK43,JI43) -> 0 | JQ43: =SUM(U43,BF43,CF43,DO43,FL43,HN43,IL43,JJ43) -> 0 | JR43: =SUM(V43,BG43,CG43,DP43,FM43,HO43,IM43,JK43) -> 296.65964 | JS43: =SUM(W43,BH43,CH43,DQ43,FN43,HP43,IN43,JL43) -> 1887.426 | JT43: =SUM(X43,BI43,CI43,DR43,FO43,HQ43,IO43,JM43) -> 0 | JU43: =SUM(DS43,BJ43,CJ43) -> 0 | JV43: =SUM(JP43:JU43) -> 2184.0856
A44: IDZ=False Hemlock Looper | G44: =SUM(B44:F44) -> 0 | M44: =SUM(H44:L44) -> 0 | S44: =SUM(N44:R44) -> 0 | T44: =SUM(B44,H44,N44) -> 0 | U44: =SUM(C44,I44,O44) -> 0 | V44: =SUM(D44,J44,P44) -> 0 | W44: =SUM(E44,K44,Q44) -> 0 | X44: =SUM(F44,L44,R44) -> 0 | Y44: =SUM(T44:X44) -> 0 | AE44: =SUM(Z44:AD44) -> 0 | AK44: =SUM(AF44:AJ44) -> 0 | AQ44: =SUM(AL44:AP44) -> 0 | AX44: =SUM(AR44:AW44) -> 0 | BD44: =SUM(AY44:BC44) -> 0 | BE44: =SUM(Z44,AF44,AL44,AR44,AY44) -> 0 | BF44: =SUM(AA44,AG44,AM44,AS44,AZ44) -> 0 | BG44: =SUM(AB44,AH44,AN44,AT44,BA44) -> 0 | BH44: =SUM(AC44,AI44,AO44,AU44,BB44) -> 0 | BI44: =SUM(AD44,AJ44,AP44,AV44,BC44) -> 0 | BJ44: =SUM(AW44) -> 0 | BK44: =SUM(BE44:BJ44) -> 0 | BQ44: =SUM(BL44:BP44) -> 0 | BW44: =SUM(BR44:BV44) -> 0 | CD44: =SUM(BX44:CC44) -> 0 | CE44: =SUM(BL44,BR44,BX44) -> 0 | CF44: =SUM(BM44,BS44,BY44) -> 0 | CG44: =SUM(BN44,BT44,BZ44) -> 0 | CH44: =SUM(BO44,BU44,CA44) -> 0 | CI44: =SUM(BP44,BV44,CB44) -> 0 | CJ44: =SUM(CC44) -> 0 | CK44: =SUM(CE44:CJ44) -> 0 | CR44: =SUM(CL44:CQ44) -> 0 | CY44: =SUM(CS44:CX44) -> 0 | DF44: =SUM(CZ44:DE44) -> 0 | DM44: =SUM(DG44:DL44) -> 0 | DN44: =SUM(CL44,CS44,CZ44,DG44) -> 0 | DO44: =SUM(CM44,CT44,DA44,DH44) -> 0 | DP44: =SUM(CN44,CU44,DB44,DI44) -> 0 | DQ44: =SUM(CO44,CV44,DC44,DJ44) -> 0 | DR44: =SUM(CP44,CW44,DD44,DK44) -> 0 | DS44: =SUM(CQ44,CX44,DE44,DL44) -> 0 | DT44: =SUM(DN44:DS44) -> 0 | DZ44: =SUM(DU44:DY44) -> 0 | EF44: =SUM(EA44:EE44) -> 0 | EL44: =SUM(EG44:EK44) -> 0 | ER44: =SUM(EM44:EQ44) -> 0 | EX44: =SUM(ES44:EW44) -> 0 | FD44: =SUM(EY44:FC44) -> 0 | FJ44: =SUM(FE44:FI44) -> 0 | FK44: =SUM(DU44,EA44,EG44,EM44,ES44,EY44,FE44) -> 0 | FL44: =SUM(DV44,EB44,EH44,EN44,ET44,EZ44,FF44) -> 0 | FM44: =SUM(DW44,EC44,EI44,EO44,EU44,FA44,FG44) -> 0 | FN44: =SUM(DX44,ED44,EJ44,EP44,EV44,FB44,FH44) -> 0 | FO44: =SUM(DY44,EE44,EK44,EQ44,EW44,FC44,FI44) -> 0 | FP44: =SUM(FK44:FO44) -> 0 | FV44: =SUM(FQ44:FU44) -> 0 | GB44: =SUM(FW44:GA44) -> 0 | GH44: =SUM(GC44:GG44) -> 0 | GN44: =SUM(GI44:GM44) -> 0 | GT44: =SUM(GO44:GS44) -> 0 | GZ44: =SUM(GU44:GY44) -> 0 | HF44: =SUM(HA44:HE44) -> 0 | HL44: =SUM(HG44:HK44) -> 0 | HM44: =SUM(FQ44,FW44,GC44,GI44,GO44,GU44,HA44,HG44) -> 0 | HN44: =SUM(FR44,FX44,GD44,GJ44,GP44,GV44,HB44,HH44) -> 0 | HO44: =SUM(HI44,HC44,GW44,GQ44,GK44,GE44,FY44,FS44) -> 0 | HP44: =SUM(HJ44,HD44,GX44,GR44,GL44,GF44,FZ44,FT44) -> 0 | HQ44: =SUM(HK44,HE44,GY44,GS44,GM44,GG44,GA44,FU44) -> 0 | HR44: =SUM(HM44:HQ44) -> 0 | HX44: =SUM(HS44:HW44) -> 0 | ID44: =SUM(HY44:IC44) -> 0 | IJ44: =SUM(IE44:II44) -> 0 | IK44: =SUM(HS44,HY44,IE44) -> 0 | IL44: =SUM(HT44,HZ44,IF44) -> 0 | IM44: =SUM(HU44,IA44,IG44) -> 0 | IN44: =SUM(HV44,IB44,IH44) -> 0 | IO44: =SUM(HW44,IC44,II44) -> 0 | IP44: =SUM(IK44:IO44) -> 0 | IV44: =SUM(IQ44:IU44) -> 0 | JB44: =SUM(IW44:JA44) -> 0 | JH44: =SUM(JC44:JG44) -> 0 | JI44: =SUM(IQ44,IW44,JC44) -> 0 | JJ44: =SUM(IR44,IX44,JD44) -> 0 | JK44: =SUM(IS44,IY44,JE44) -> 0 | JL44: =SUM(IT44,IZ44,JF44) -> 0 | JM44: =SUM(IU44,JA44,JG44) -> 0 | JN44: =SUM(JI44:JM44) -> 0 | JP44: =SUM(T44,BE44,CE44,DN44,FK44,HM44,IK44,JI44) -> 0 | JQ44: =SUM(U44,BF44,CF44,DO44,FL44,HN44,IL44,JJ44) -> 0 | JR44: =SUM(V44,BG44,CG44,DP44,FM44,HO44,IM44,JK44) -> 0 | JS44: =SUM(W44,BH44,CH44,DQ44,FN44,HP44,IN44,JL44) -> 0 | JT44: =SUM(X44,BI44,CI44,DR44,FO44,HQ44,IO44,JM44) -> 0 | JU44: =SUM(DS44,BJ44,CJ44) -> 0 | JV44: =SUM(JP44:JU44) -> 0
A45: IEB=Hemlock Sawfly | G45: =SUM(B45:F45) -> 0 | M45: =SUM(H45:L45) -> 0 | S45: =SUM(N45:R45) -> 0 | T45: =SUM(B45,H45,N45) -> 0 | U45: =SUM(C45,I45,O45) -> 0 | V45: =SUM(D45,J45,P45) -> 0 | W45: =SUM(E45,K45,Q45) -> 0 | X45: =SUM(F45,L45,R45) -> 0 | Y45: =SUM(T45:X45) -> 0 | AE45: =SUM(Z45:AD45) -> 0 | AK45: =SUM(AF45:AJ45) -> 0 | AQ45: =SUM(AL45:AP45) -> 0 | AX45: =SUM(AR45:AW45) -> 0 | BD45: =SUM(AY45:BC45) -> 0 | BE45: =SUM(Z45,AF45,AL45,AR45,AY45) -> 0 | BF45: =SUM(AA45,AG45,AM45,AS45,AZ45) -> 0 | BG45: =SUM(AB45,AH45,AN45,AT45,BA45) -> 0 | BH45: =SUM(AC45,AI45,AO45,AU45,BB45) -> 0 | BI45: =SUM(AD45,AJ45,AP45,AV45,BC45) -> 0 | BJ45: =SUM(AW45) -> 0 | BK45: =SUM(BE45:BJ45) -> 0 | BQ45: =SUM(BL45:BP45) -> 0 | BW45: =SUM(BR45:BV45) -> 0 | CD45: =SUM(BX45:CC45) -> 0 | CE45: =SUM(BL45,BR45,BX45) -> 0 | CF45: =SUM(BM45,BS45,BY45) -> 0 | CG45: =SUM(BN45,BT45,BZ45) -> 0 | CH45: =SUM(BO45,BU45,CA45) -> 0 | CI45: =SUM(BP45,BV45,CB45) -> 0 | CJ45: =SUM(CC45) -> 0 | CK45: =SUM(CE45:CJ45) -> 0 | CR45: =SUM(CL45:CQ45) -> 0 | CY45: =SUM(CS45:CX45) -> 0 | DF45: =SUM(CZ45:DE45) -> 0 | DM45: =SUM(DG45:DL45) -> 0 | DN45: =SUM(CL45,CS45,CZ45,DG45) -> 0 | DO45: =SUM(CM45,CT45,DA45,DH45) -> 0 | DP45: =SUM(CN45,CU45,DB45,DI45) -> 0 | DQ45: =SUM(CO45,CV45,DC45,DJ45) -> 0 | DR45: =SUM(CP45,CW45,DD45,DK45) -> 0 | DS45: =SUM(CQ45,CX45,DE45,DL45) -> 0 | DT45: =SUM(DN45:DS45) -> 0 | DZ45: =SUM(DU45:DY45) -> 0 | EF45: =SUM(EA45:EE45) -> 0 | EL45: =SUM(EG45:EK45) -> 0 | ER45: =SUM(EM45:EQ45) -> 0 | EX45: =SUM(ES45:EW45) -> 0 | FD45: =SUM(EY45:FC45) -> 0 | FJ45: =SUM(FE45:FI45) -> 0 | FK45: =SUM(DU45,EA45,EG45,EM45,ES45,EY45,FE45) -> 0 | FL45: =SUM(DV45,EB45,EH45,EN45,ET45,EZ45,FF45) -> 0 | FM45: =SUM(DW45,EC45,EI45,EO45,EU45,FA45,FG45) -> 0 | FN45: =SUM(DX45,ED45,EJ45,EP45,EV45,FB45,FH45) -> 0 | FO45: =SUM(DY45,EE45,EK45,EQ45,EW45,FC45,FI45) -> 0 | FP45: =SUM(FK45:FO45) -> 0 | FV45: =SUM(FQ45:FU45) -> 0 | GB45: =SUM(FW45:GA45) -> 0 | GH45: =SUM(GC45:GG45) -> 0 | GN45: =SUM(GI45:GM45) -> 0 | GT45: =SUM(GO45:GS45) -> 0 | GZ45: =SUM(GU45:GY45) -> 0 | HF45: =SUM(HA45:HE45) -> 0 | HL45: =SUM(HG45:HK45) -> 0 | HM45: =SUM(FQ45,FW45,GC45,GI45,GO45,GU45,HA45,HG45) -> 0 | HN45: =SUM(FR45,FX45,GD45,GJ45,GP45,GV45,HB45,HH45) -> 0 | HO45: =SUM(HI45,HC45,GW45,GQ45,GK45,GE45,FY45,FS45) -> 0 | HP45: =SUM(HJ45,HD45,GX45,GR45,GL45,GF45,FZ45,FT45) -> 0 | HQ45: =SUM(HK45,HE45,GY45,GS45,GM45,GG45,GA45,FU45) -> 0 | HR45: =SUM(HM45:HQ45) -> 0 | HX45: =SUM(HS45:HW45) -> 0 | ID45: =SUM(HY45:IC45) -> 0 | IJ45: =SUM(IE45:II45) -> 0 | IK45: =SUM(HS45,HY45,IE45) -> 0 | IL45: =SUM(HT45,HZ45,IF45) -> 0 | IM45: =SUM(HU45,IA45,IG45) -> 0 | IN45: =SUM(HV45,IB45,IH45) -> 0 | IO45: =SUM(HW45,IC45,II45) -> 0 | IP45: =SUM(IK45:IO45) -> 0 | IV45: =SUM(IQ45:IU45) -> 0 | JB45: =SUM(IW45:JA45) -> 0 | JH45: =SUM(JC45:JG45) -> 0 | JI45: =SUM(IQ45,IW45,JC45) -> 0 | JJ45: =SUM(IR45,IX45,JD45) -> 0 | JK45: =SUM(IS45,IY45,JE45) -> 0 | JL45: =SUM(IT45,IZ45,JF45) -> 0 | JM45: =SUM(IU45,JA45,JG45) -> 0 | JN45: =SUM(JI45:JM45) -> 0 | JP45: =SUM(T45,BE45,CE45,DN45,FK45,HM45,IK45,JI45) -> 0 | JQ45: =SUM(U45,BF45,CF45,DO45,FL45,HN45,IL45,JJ45) -> 0 | JR45: =SUM(V45,BG45,CG45,DP45,FM45,HO45,IM45,JK45) -> 0 | JS45: =SUM(W45,BH45,CH45,DQ45,FN45,HP45,IN45,JL45) -> 0 | JT45: =SUM(X45,BI45,CI45,DR45,FO45,HQ45,IO45,JM45) -> 0 | JU45: =SUM(DS45,BJ45,CJ45) -> 0 | JV45: =SUM(JP45:JU45) -> 0
A46: IEG=Lodgepole Pine Sawfly | G46: =SUM(B46:F46) -> 0 | M46: =SUM(H46:L46) -> 0 | S46: =SUM(N46:R46) -> 0 | T46: =SUM(B46,H46,N46) -> 0 | U46: =SUM(C46,I46,O46) -> 0 | V46: =SUM(D46,J46,P46) -> 0 | W46: =SUM(E46,K46,Q46) -> 0 | X46: =SUM(F46,L46,R46) -> 0 | Y46: =SUM(T46:X46) -> 0 | AE46: =SUM(Z46:AD46) -> 0 | AK46: =SUM(AF46:AJ46) -> 0 | AQ46: =SUM(AL46:AP46) -> 0 | AS46: 916.22514 | AT46: 118.23181 | AX46: =SUM(AR46:AW46) -> 1034.457 | BD46: =SUM(AY46:BC46) -> 0 | BE46: =SUM(Z46,AF46,AL46,AR46,AY46) -> 0 | BF46: =SUM(AA46,AG46,AM46,AS46,AZ46) -> 916.22514 | BG46: =SUM(AB46,AH46,AN46,AT46,BA46) -> 118.23181 | BH46: =SUM(AC46,AI46,AO46,AU46,BB46) -> 0 | BI46: =SUM(AD46,AJ46,AP46,AV46,BC46) -> 0 | BJ46: =SUM(AW46) -> 0 | BK46: =SUM(BE46:BJ46) -> 1034.457 | BQ46: =SUM(BL46:BP46) -> 0 | BW46: =SUM(BR46:BV46) -> 0 | CD46: =SUM(BX46:CC46) -> 0 | CE46: =SUM(BL46,BR46,BX46) -> 0 | CF46: =SUM(BM46,BS46,BY46) -> 0 | CG46: =SUM(BN46,BT46,BZ46) -> 0 | CH46: =SUM(BO46,BU46,CA46) -> 0 | CI46: =SUM(BP46,BV46,CB46) -> 0 | CJ46: =SUM(CC46) -> 0 | CK46: =SUM(CE46:CJ46) -> 0 | CR46: =SUM(CL46:CQ46) -> 0 | CY46: =SUM(CS46:CX46) -> 0 | DF46: =SUM(CZ46:DE46) -> 0 | DM46: =SUM(DG46:DL46) -> 0 | DN46: =SUM(CL46,CS46,CZ46,DG46) -> 0 | DO46: =SUM(CM46,CT46,DA46,DH46) -> 0 | DP46: =SUM(CN46,CU46,DB46,DI46) -> 0 | DQ46: =SUM(CO46,CV46,DC46,DJ46) -> 0 | DR46: =SUM(CP46,CW46,DD46,DK46) -> 0 | DS46: =SUM(CQ46,CX46,DE46,DL46) -> 0 | DT46: =SUM(DN46:DS46) -> 0 | DZ46: =SUM(DU46:DY46) -> 0 | EF46: =SUM(EA46:EE46) -> 0 | EL46: =SUM(EG46:EK46) -> 0 | ER46: =SUM(EM46:EQ46) -> 0 | EX46: =SUM(ES46:EW46) -> 0 | FD46: =SUM(EY46:FC46) -> 0 | FJ46: =SUM(FE46:FI46) -> 0 | FK46: =SUM(DU46,EA46,EG46,EM46,ES46,EY46,FE46) -> 0 | FL46: =SUM(DV46,EB46,EH46,EN46,ET46,EZ46,FF46) -> 0 | FM46: =SUM(DW46,EC46,EI46,EO46,EU46,FA46,FG46) -> 0 | FN46: =SUM(DX46,ED46,EJ46,EP46,EV46,FB46,FH46) -> 0 | FO46: =SUM(DY46,EE46,EK46,EQ46,EW46,FC46,FI46) -> 0 | FP46: =SUM(FK46:FO46) -> 0 | FV46: =SUM(FQ46:FU46) -> 0 | GB46: =SUM(FW46:GA46) -> 0 | GH46: =SUM(GC46:GG46) -> 0 | GN46: =SUM(GI46:GM46) -> 0 | GT46: =SUM(GO46:GS46) -> 0 | GZ46: =SUM(GU46:GY46) -> 0 | HF46: =SUM(HA46:HE46) -> 0 | HH46: 664.52892 | HI46: 31.116292 | HL46: =SUM(HG46:HK46) -> 695.64521 | HM46: =SUM(FQ46,FW46,GC46,GI46,GO46,GU46,HA46,HG46) -> 0 | HN46: =SUM(FR46,FX46,GD46,GJ46,GP46,GV46,HB46,HH46) -> 664.52892 | HO46: =SUM(HI46,HC46,GW46,GQ46,GK46,GE46,FY46,FS46) -> 31.116292 | HP46: =SUM(HJ46,HD46,GX46,GR46,GL46,GF46,FZ46,FT46) -> 0 | HQ46: =SUM(HK46,HE46,GY46,GS46,GM46,GG46,GA46,FU46) -> 0 | HR46: =SUM(HM46:HQ46) -> 695.64521 | HX46: =SUM(HS46:HW46) -> 0 | ID46: =SUM(HY46:IC46) -> 0 | IJ46: =SUM(IE46:II46) -> 0 | IK46: =SUM(HS46,HY46,IE46) -> 0 | IL46: =SUM(HT46,HZ46,IF46) -> 0 | IM46: =SUM(HU46,IA46,IG46) -> 0 | IN46: =SUM(HV46,IB46,IH46) -> 0 | IO46: =SUM(HW46,IC46,II46) -> 0 | IP46: =SUM(IK46:IO46) -> 0 | IV46: =SUM(IQ46:IU46) -> 0 | JB46: =SUM(IW46:JA46) -> 0 | JH46: =SUM(JC46:JG46) -> 0 | JI46: =SUM(IQ46,IW46,JC46) -> 0 | JJ46: =SUM(IR46,IX46,JD46) -> 0 | JK46: =SUM(IS46,IY46,JE46) -> 0 | JL46: =SUM(IT46,IZ46,JF46) -> 0 | JM46: =SUM(IU46,JA46,JG46) -> 0 | JN46: =SUM(JI46:JM46) -> 0 | JP46: =SUM(T46,BE46,CE46,DN46,FK46,HM46,IK46,JI46) -> 0 | JQ46: =SUM(U46,BF46,CF46,DO46,FL46,HN46,IL46,JJ46) -> 1580.7541 | JR46: =SUM(V46,BG46,CG46,DP46,FM46,HO46,IM46,JK46) -> 149.3481 | JS46: =SUM(W46,BH46,CH46,DQ46,FN46,HP46,IN46,JL46) -> 0 | JT46: =SUM(X46,BI46,CI46,DR46,FO46,HQ46,IO46,JM46) -> 0 | JU46: =SUM(DS46,BJ46,CJ46) -> 0 | JV46: =SUM(JP46:JU46) -> 1730.1022
A47: Total Defoliators= | B47: =SUM(B21:B46) -> 0 | C47: =SUM(C21:C46) -> 23.939966 | D47: =SUM(D21:D46) -> 17.436838 | E47: =SUM(E21:E46) -> 423.67467 | F47: =SUM(F21:F46) -> 0 | G47: =SUM(G21:G46) -> 465.05147 | H47: =SUM(H21:H46) -> 0 | I47: =SUM(I21:I46) -> 58.944707 | ... S47: =SUM(S21:S46) -> 39.444485 | T47: =SUM(B47,H47,N47) -> 6.8388052 | U47: =SUM(C47,I47,O47) -> 115.49035 | V47: =SUM(D47,J47,P47) -> 17.436838 | W47: =SUM(E47,K47,Q47) -> 423.67467 | X47: =SUM(F47,L47,R47) -> 0 | Y47: =SUM(Y21:Y45) -> 563.44066 | Z47: =SUM(Z21:Z46) -> 0 | AA47: =SUM(AA21:AA46) -> 26.493926 | AB47: =SUM(AB21:AB46) -> 0 | AC47: =SUM(AC21:AC46) -> 2.25 | AD47: =SUM(AD21:AD46) -> 0 | AE47: =SUM(AE21:AE46) -> 28.743926 | AF47: =SUM(AF21:AF46) -> 0 | AG47: =SUM(AG21:AG46) -> 13019.367 | ... BD47: =SUM(BD21:BD46) -> 1330.8404 | BE47: =SUM(Z47,AF47,AL47,AR47,AY47) -> 0 | BF47: =SUM(AA47,AG47,AM47,AS47,AZ47) -> 17143.478 | BG47: =SUM(AB47,AH47,AN47,AT47,BA47) -> 11213.129 | BH47: =SUM(AC47,AI47,AO47,AU47,BB47) -> 5209.7658 | BI47: =SUM(AD47,AJ47,AP47,AV47,BC47) -> 0 | BJ47: =SUM(AW47) -> 225.61739 | BK47: =SUM(BK21:BK46) -> 33791.99 | BL47: =SUM(BL21:BL46) -> 0 | BM47: =SUM(BM21:BM46) -> 54464.838 | BN47: =SUM(BN21:BN46) -> 5320.6676 | BO47: =SUM(BO21:BO46) -> 121.26775 | BP47: =SUM(BP21:BP46) -> 0 | BQ47: =SUM(BQ21:BQ46) -> 59906.773 | BR47: =SUM(BR21:BR46) -> 0 | ... CD47: =SUM(CD21:CD46) -> 90592.884 | CE47: =SUM(BL47,BR47,BX47) -> 0 | CF47: =SUM(BM47,BS47,BY47) -> 180879.47 | CG47: =SUM(BN47,BT47,BZ47) -> 47292.268 | CH47: =SUM(BO47,BU47,CA47) -> 600.73761 | CI47: =SUM(BP47,BV47,CB47) -> 0 | CJ47: =SUM(CC47) -> 1093.7469 | CK47: =SUM(CK21:CK46) -> 229866.22 | CL47: =SUM(CL21:CL46) -> 0 | CM47: =SUM(CM21:CM46) -> 50812.969 | CN47: =SUM(CN21:CN46) -> 26686.668 | CO47: =SUM(CO21:CO46) -> 970.11427 | CP47: =SUM(CP21:CP46) -> 0 | CQ47: =SUM(CQ21:CQ46) -> 0 | CR47: =SUM(CR21:CR46) -> 78469.751 | ... DM47: =SUM(DM21:DM46) -> 13712.075 | DN47: =SUM(CL47,CS47,CZ47,DG47) -> 0 | DO47: =SUM(CM47,CT47,DA47,DH47) -> 64234.328 | DP47: =SUM(CN47,CU47,DB47,DI47) -> 32037.553 | DQ47: =SUM(CO47,CV47,DC47,DJ47) -> 1776.9473 | DR47: =SUM(CP47,CW47,DD47,DK47) -> 0 | DS47: =SUM(CQ47,CX47,DE47,DL47) -> 84.404641 | DT47: =SUM(DT21:DT45) -> 98133.233 | DU47: =SUM(DU21:DU46) -> 0 | DV47: =SUM(DV21:DV46) -> 1259.2579 | DW47: =SUM(DW21:DW46) -> 1130.901 | DX47: =SUM(DX21:DX46) -> 81.721555 | DY47: =SUM(DY21:DY46) -> 0 | DZ47: =SUM(DZ21:DZ46) -> 2471.8804 | EA47: =SUM(EA21:EA46) -> 0 | EB47: =SUM(EB21:EB46) -> 521.53739 | ... FJ47: =SUM(FJ21:FJ46) -> 2164.1549 | FK47: =SUM(DU47,EA47,EG47,EM47,ES47,EY47,FE47) -> 0 | FL47: =SUM(DV47,EB47,EH47,EN47,ET47,EZ47,FF47) -> 7294.5114 | FM47: =SUM(DW47,EC47,EI47,EO47,EU47,FA47,FG47) -> 6182.757 | FN47: =SUM(DX47,ED47,EJ47,EP47,EV47,FB47,FH47) -> 218.87855 | FO47: =SUM(DY47,EE47,EK47,EQ47,EW47,FC47,FI47) -> 0 | FP47: =SUM(FP21:FP45) -> 13696.147 | FQ47: =SUM(FQ21:FQ46) -> 0 | FR47: =SUM(FR21:FR46) -> 127921.21 | FS47: =SUM(FS21:FS46) -> 72771.161 | FT47: =SUM(FT21:FT46) -> 3527.695 | FU47: =SUM(FU21:FU46) -> 0 | FV47: =SUM(FV21:FV46) -> 204220.07 | FW47: =SUM(FW21:FW46) -> 0 | FX47: =SUM(FX21:FX46) -> 342621.93 | ... HL47: =SUM(HL21:HL46) -> 6260.5342 | HM47: =SUM(FQ47,FW47,GC47,GI47,GO47,GU47,HA47,HG47) -> 0 | HN47: =SUM(FR47,FX47,GD47,GJ47,GP47,GV47,HB47,HH47) -> 1004391.1 | HO47: =SUM(HI47,HC47,GW47,GQ47,GK47,GE47,FY47,FS47) -> 463917.1 | HP47: =SUM(HJ47,HD47,GX47,GR47,GL47,GF47,FZ47,FT47) -> 113622.7 | HQ47: =SUM(HK47,HE47,GY47,GS47,GM47,GG47,GA47,FU47) -> 0 | HR47: =SUM(HR21:HR45) -> 1581235.2 | HS47: =SUM(HS21:HS46) -> 0 | HT47: =SUM(HT21:HT46) -> 39424.476 | HU47: =SUM(HU21:HU46) -> 81411.826 | HV47: =SUM(HV21:HV46) -> 14484.16 | HW47: =SUM(HW21:HW46) -> 0 | HX47: =SUM(HX21:HX46) -> 135320.46 | HY47: =SUM(HY21:HY46) -> 115.23487 | HZ47: =SUM(HZ21:HZ46) -> 14370.701 | ... IJ47: =SUM(IJ21:IJ46) -> 840109.62 | IK47: =SUM(HS47,HY47,IE47) -> 115.23487 | IL47: =SUM(HT47,HZ47,IF47) -> 249963.94 | IM47: =SUM(HU47,IA47,IG47) -> 535799.32 | IN47: =SUM(HV47,IB47,IH47) -> 205362.3 | IO47: =SUM(HW47,IC47,II47) -> 0 | IP47: =SUM(IK47:IO47) -> 991240.8 | IQ47: =SUM(IQ21:IQ46) -> 0 | IR47: =SUM(IR21:IR46) -> 20657.638 | IS47: =SUM(IS21:IS46) -> 36880.043 | IT47: =SUM(IT21:IT46) -> 20731.714 | IU47: =SUM(IU21:IU46) -> 0 | IV47: =SUM(IV21:IV46) -> 78269.395 | IW47: =SUM(IW21:IW46) -> 0 | IX47: =SUM(IX21:IX46) -> 18259.164 | ... JH47: =SUM(JH21:JH46) -> 9305.3659 | JI47: =SUM(IQ47,IW47,JC47) -> 0 | JJ47: =SUM(IR47,IX47,JD47) -> 46052.163 | JK47: =SUM(IS47,IY47,JE47) -> 182907.45 | JL47: =SUM(IT47,IZ47,JF47) -> 245519.14 | JM47: =SUM(IU47,JA47,JG47) -> 0 | JN47: =SUM(JI47:JM47) -> 474478.75 | JP47: =SUM(T47,BE47,CE47,DN47,FK47,HM47,IK47,JI47) -> 122.07368 | JQ47: =SUM(U47,BF47,CF47,DO47,FL47,HN47,IL47,JJ47) -> 1570074.5 | JR47: =SUM(V47,BG47,CG47,DP47,FM47,HO47,IM47,JK47) -> 1279367 | JS47: =SUM(W47,BH47,CH47,DQ47,FN47,HP47,IN47,JL47) -> 572734.15 | JT47: =SUM(X47,BI47,CI47,DR47,FO47,HQ47,IO47,JM47) -> 0 | JU47: =SUM(DS47,BJ47,CJ47) -> 1403.7689 | JV47: =SUM(JV21:JV45) -> 3421971.3
A49: Other
A50: N | G50: =SUM(B50:F50) -> 0 | M50: =SUM(H50:L50) -> 0 | S50: =SUM(N50:R50) -> 0 | T50: =SUM(B50,H50,N50) -> 0 | U50: =SUM(C50,I50,O50) -> 0 | V50: =SUM(D50,J50,P50) -> 0 | W50: =SUM(E50,K50,Q50) -> 0 | X50: =SUM(F50,L50,R50) -> 0 | Y50: =SUM(T50:X50) -> 0 | AE50: =SUM(Z50:AD50) -> 0 | AK50: =SUM(AF50:AJ50) -> 0 | AQ50: =SUM(AL50:AP50) -> 0 | AX50: =SUM(AR50:AW50) -> 0 | BD50: =SUM(AY50:BC50) -> 0 | BE50: =SUM(Z50,AF50,AL50,AR50,AY50) -> 0 | BF50: =SUM(AA50,AG50,AM50,AS50,AZ50) -> 0 | BG50: =SUM(AB50,AH50,AN50,AT50,BA50) -> 0 | BH50: =SUM(AC50,AI50,AO50,AU50,BB50) -> 0 | BI50: =SUM(AD50,AJ50,AP50,AV50,BC50) -> 0 | BJ50: =SUM(AW50) -> 0 | BK50: =SUM(BE50:BJ50) -> 0 | BQ50: =SUM(BL50:BP50) -> 0 | BW50: =SUM(BR50:BV50) -> 0 | CD50: =SUM(BX50:CC50) -> 0 | CE50: =SUM(BL50,BR50,BX50) -> 0 | CF50: =SUM(BM50,BS50,BY50) -> 0 | CG50: =SUM(BN50,BT50,BZ50) -> 0 | CH50: =SUM(BO50,BU50,CA50) -> 0 | CI50: =SUM(BP50,BV50,CB50) -> 0 | CJ50: =SUM(CC50) -> 0 | CK50: =SUM(CE50:CJ50) -> 0 | CR50: =SUM(CL50:CQ50) -> 0 | CY50: =SUM(CS50:CX50) -> 0 | DF50: =SUM(CZ50:DE50) -> 0 | DM50: =SUM(DG50:DL50) -> 0 | DN50: =SUM(CL50,CS50,CZ50,DG50) -> 0 | DO50: =SUM(CM50,CT50,DA50,DH50) -> 0 | DP50: =SUM(CN50,CU50,DB50,DI50) -> 0 | DQ50: =SUM(CO50,CV50,DC50,DJ50) -> 0 | DR50: =SUM(CP50,CW50,DD50,DK50) -> 0 | DS50: =SUM(CQ50,CX50,DE50,DL50) -> 0 | DT50: =SUM(DN50:DS50) -> 0 | DW50: 48.162663 | DZ50: =SUM(DU50:DY50) -> 48.162663 | EF50: =SUM(EA50:EE50) -> 0 | EL50: =SUM(EG50:EK50) -> 0 | ER50: =SUM(EM50:EQ50) -> 0 | EX50: =SUM(ES50:EW50) -> 0 | FD50: =SUM(EY50:FC50) -> 0 | FJ50: =SUM(FE50:FI50) -> 0 | FK50: =SUM(DU50,EA50,EG50,EM50,ES50,EY50,FE50) -> 0 | FL50: =SUM(DV50,EB50,EH50,EN50,ET50,EZ50,FF50) -> 0 | FM50: =SUM(DW50,EC50,EI50,EO50,EU50,FA50,FG50) -> 48.162663 | FN50: =SUM(DX50,ED50,EJ50,EP50,EV50,FB50,FH50) -> 0 | FO50: =SUM(DY50,EE50,EK50,EQ50,EW50,FC50,FI50) -> 0 | FP50: =SUM(FK50:FO50) -> 48.162663 | FV50: =SUM(FQ50:FU50) -> 0 | GB50: =SUM(FW50:GA50) -> 0 | GH50: =SUM(GC50:GG50) -> 0 | GN50: =SUM(GI50:GM50) -> 0 | GT50: =SUM(GO50:GS50) -> 0 | GZ50: =SUM(GU50:GY50) -> 0 | HF50: =SUM(HA50:HE50) -> 0 | HL50: =SUM(HG50:HK50) -> 0 | HM50: =SUM(FQ50,FW50,GC50,GI50,GO50,GU50,HA50,HG50) -> 0 | HN50: =SUM(FR50,FX50,GD50,GJ50,GP50,GV50,HB50,HH50) -> 0 | HO50: =SUM(HI50,HC50,GW50,GQ50,GK50,GE50,FY50,FS50) -> 0 | HP50: =SUM(HJ50,HD50,GX50,GR50,GL50,GF50,FZ50,FT50) -> 0 | HQ50: =SUM(HK50,HE50,GY50,GS50,GM50,GG50,GA50,FU50) -> 0 | HR50: =SUM(HM50:HQ50) -> 0 | HX50: =SUM(HS50:HW50) -> 0 | ID50: =SUM(HY50:IC50) -> 0 | IJ50: =SUM(IE50:II50) -> 0 | IK50: =SUM(HS50,HY50,IE50) -> 0 | IL50: =SUM(HT50,HZ50,IF50) -> 0 | IM50: =SUM(HU50,IA50,IG50) -> 0 | IN50: =SUM(HV50,IB50,IH50) -> 0 | IO50: =SUM(HW50,IC50,II50) -> 0 | IP50: =SUM(IK50:IO50) -> 0 | IV50: =SUM(IQ50:IU50) -> 0 | JB50: =SUM(IW50:JA50) -> 0 | JH50: =SUM(JC50:JG50) -> 0 | JI50: =SUM(IQ50,IW50,JC50) -> 0 | JJ50: =SUM(IR50,IX50,JD50) -> 0 | JK50: =SUM(IS50,IY50,JE50) -> 0 | JL50: =SUM(IT50,IZ50,JF50) -> 0 | JM50: =SUM(IU50,JA50,JG50) -> 0 | JN50: =SUM(JI50:JM50) -> 0 | JP50: =SUM(T50,BE50,CE50,DN50,FK50,HM50,IK50,JI50) -> 0 | JQ50: =SUM(U50,BF50,CF50,DO50,FL50,HN50,IL50,JJ50) -> 0 | JR50: =SUM(V50,BG50,CG50,DP50,FM50,HO50,IM50,JK50) -> 48.162663 | JS50: =SUM(W50,BH50,CH50,DQ50,FN50,HP50,IN50,JL50) -> 0 | JT50: =SUM(X50,BI50,CI50,DR50,FO50,HQ50,IO50,JM50) -> 0 | JU50: =SUM(DS50,BJ50,CJ50) -> 0 | JV50: =SUM(JP50:JU50) -> 48.162663
A51: NAV=Avalanche or snow slide | G51: =SUM(B51:F51) -> 0 | M51: =SUM(H51:L51) -> 0 | Q51: 0.25 | S51: =SUM(N51:R51) -> 0.25 | T51: =SUM(B51,H51,N51) -> 0 | U51: =SUM(C51,I51,O51) -> 0 | V51: =SUM(D51,J51,P51) -> 0 | W51: =SUM(E51,K51,Q51) -> 0.25 | X51: =SUM(F51,L51,R51) -> 0 | Y51: =SUM(T51:X51) -> 0.25 | AE51: =SUM(Z51:AD51) -> 0 | AI51: 4.4104152 | AK51: =SUM(AF51:AJ51) -> 4.4104152 | AN51: 13.689013 | AO51: 94.035003 | AQ51: =SUM(AL51:AP51) -> 107.72402 | AX51: =SUM(AR51:AW51) -> 0 | BD51: =SUM(AY51:BC51) -> 0 | BE51: =SUM(Z51,AF51,AL51,AR51,AY51) -> 0 | BF51: =SUM(AA51,AG51,AM51,AS51,AZ51) -> 0 | BG51: =SUM(AB51,AH51,AN51,AT51,BA51) -> 13.689013 | BH51: =SUM(AC51,AI51,AO51,AU51,BB51) -> 98.445418 | BI51: =SUM(AD51,AJ51,AP51,AV51,BC51) -> 0 | BJ51: =SUM(AW51) -> 0 | BK51: =SUM(BE51:BJ51) -> 112.13443 | BQ51: =SUM(BL51:BP51) -> 0 | BW51: =SUM(BR51:BV51) -> 0 | CA51: 4.3581057 | CD51: =SUM(BX51:CC51) -> 4.3581057 | CE51: =SUM(BL51,BR51,BX51) -> 0 | CF51: =SUM(BM51,BS51,BX51) -> 0 | CG51: =SUM(BN51,BT51,BY51) -> 0 | CH51: =SUM(BO51,BU51,BZ51) -> 0 | CI51: =SUM(BP51,BV51,CA51) -> 4.3581057 | CJ51: =SUM(CC51) -> 0 | CK51: =SUM(CE51:CJ51) -> 4.3581057 | CR51: =SUM(CL51:CQ51) -> 0 | CY51: =SUM(CS51:CX51) -> 0 | DF51: =SUM(CZ51:DE51) -> 0 | DM51: =SUM(DG51:DL51) -> 0 | DN51: =SUM(CL51,CS51,CZ51,DG51) -> 0 | DO51: =SUM(CM51,CT51,DA51,DH51) -> 0 | DP51: =SUM(CN51,CU51,DB51,DI51) -> 0 | DQ51: =SUM(CO51,CV51,DC51,DJ51) -> 0 | DR51: =SUM(CP51,CW51,DD51,DK51) -> 0 | DS51: =SUM(CQ51,CX51,DE51,DL51) -> 0 | DT51: =SUM(DN51:DS51) -> 0 | DZ51: =SUM(DU51:DY51) -> 0 | EF51: =SUM(EA51:EE51) -> 0 | EL51: =SUM(EG51:EK51) -> 0 | ER51: =SUM(EM51:EQ51) -> 0 | EX51: =SUM(ES51:EW51) -> 0 | FD51: =SUM(EY51:FC51) -> 0 | FJ51: =SUM(FE51:FI51) -> 0 | FK51: =SUM(DU51,EA51,EG51,EM51,ES51,EY51,FE51) -> 0 | FL51: =SUM(DV51,EB51,EH51,EN51,ET51,EZ51,FF51) -> 0 | FM51: =SUM(DW51,EC51,EI51,EO51,EU51,FA51,FG51) -> 0 | FN51: =SUM(DX51,ED51,EJ51,EP51,EV51,FB51,FH51) -> 0 | FO51: =SUM(DY51,EE51,EK51,EQ51,EW51,FC51,FI51) -> 0 | FP51: =SUM(FK51:FO51) -> 0 | FV51: =SUM(FQ51:FU51) -> 0 | GB51: =SUM(FW51:GA51) -> 0 | GF51: 21.141283 | GH51: =SUM(GC51:GG51) -> 21.141283 | GN51: =SUM(GI51:GM51) -> 0 | GT51: =SUM(GO51:GS51) -> 0 | GZ51: =SUM(GU51:GY51) -> 0 | HF51: =SUM(HA51:HE51) -> 0 | HL51: =SUM(HG51:HK51) -> 0 | HM51: =SUM(FQ51,FW51,GC51,GI51,GO51,GU51,HA51,HG51) -> 0 | HN51: =SUM(FR51,FX51,GD51,GJ51,GP51,GV51,HB51,HH51) -> 0 | HO51: =SUM(HI51,HC51,GW51,GQ51,GK51,GE51,FY51,FS51) -> 0 | HP51: =SUM(HJ51,HD51,GX51,GR51,GL51,GF51,FZ51,FT51) -> 21.141283 | HQ51: =SUM(HK51,HE51,GY51,GS51,GM51,GG51,GA51,FU51) -> 0 | HR51: =SUM(HM51:HQ51) -> 21.141283 | HX51: =SUM(HS51:HW51) -> 0 | IB51: 82.213801 | ID51: =SUM(HY51:IC51) -> 82.213801 | IJ51: =SUM(IE51:II51) -> 0 | IK51: =SUM(HS51,HY51,IE51) -> 0 | IL51: =SUM(HT51,HZ51,IF51) -> 0 | IM51: =SUM(HU51,IA51,IG51) -> 0 | IN51: =SUM(HV51,IB51,IH51) -> 82.213801 | IO51: =SUM(HW51,IC51,II51) -> 0 | IP51: =SUM(IK51:IO51) -> 82.213801 | IV51: =SUM(IQ51:IU51) -> 0 | JB51: =SUM(IW51:JA51) -> 0 | JH51: =SUM(JC51:JG51) -> 0 | JI51: =SUM(IQ51,IW51,JC51) -> 0 | JJ51: =SUM(IR51,IX51,JD51) -> 0 | JK51: =SUM(IS51,IY51,JE51) -> 0 | JL51: =SUM(IT51,IZ51,JF51) -> 0 | JM51: =SUM(IU51,JA51,JG51) -> 0 | JN51: =SUM(JI51:JM51) -> 0 | JP51: =SUM(T51,BE51,CE51,DN51,FK51,HM51,IK51,JI51) -> 0 | JQ51: =SUM(U51,BF51,CF51,DO51,FL51,HN51,IL51,JJ51) -> 0 | JR51: =SUM(V51,BG51,CG51,DP51,FM51,HO51,IM51,JK51) -> 13.689013 | JS51: =SUM(W51,BH51,CH51,DQ51,FN51,HP51,IN51,JL51) -> 202.0505 | JT51: =SUM(X51,BI51,CI51,DR51,FO51,HQ51,IO51,JM51) -> 4.3581057 | JU51: =SUM(DS51,BJ51,CJ51) -> 0 | JV51: =SUM(JP51:JU51) -> 220.09762
A52: NB=Fire | E52: 112.30824 | G52: =SUM(B52:F52) -> 112.30824 | K52: 100.10958 | M52: =SUM(H52:L52) -> 100.10958 | Q52: 27.406655 | S52: =SUM(N52:R52) -> 27.406655 | T52: =SUM(B52,H52,N52) -> 0 | U52: =SUM(C52,I52,O52) -> 0 | V52: =SUM(D52,J52,P52) -> 0 | W52: =SUM(E52,K52,Q52) -> 239.82448 | X52: =SUM(F52,L52,R52) -> 0 | Y52: =SUM(T52:X52) -> 239.82448 | AC52: 137.98543 | AE52: =SUM(Z52:AD52) -> 137.98543 | AI52: 6.5361834 | AK52: =SUM(AF52:AJ52) -> 6.5361834 | AN52: 6.9686703 | AO52: 234.56355 | AQ52: =SUM(AL52:AP52) -> 241.53222 | AX52: =SUM(AR52:AW52) -> 0 | BB52: 179.82805 | BD52: =SUM(AY52:BC52) -> 179.82805 | BE52: =SUM(Z52,AF52,AL52,AR52,AY52) -> 0 | BF52: =SUM(AA52,AG52,AM52,AS52,AZ52) -> 0 | BG52: =SUM(AB52,AH52,AN52,AT52,BA52) -> 6.9686703 | BH52: =SUM(AC52,AI52,AO52,AU52,BB52) -> 558.91321 | BI52: =SUM(AD52,AJ52,AP52,AV52,BC52) -> 0 | BJ52: =SUM(AW52) -> 0 | BK52: =SUM(BE52:BJ52) -> 565.88188 | BO52: 47.666115 | BQ52: =SUM(BL52:BP52) -> 47.666115 | BU52: 265.97898 | BW52: =SUM(BR52:BV52) -> 265.97898 | CA52: 2487.717 | CD52: =SUM(BX52:CC52) -> 2487.717 | CE52: =SUM(BL52,BR52,BX52) -> 0 | CF52: =SUM(BM52,BS52,BX52) -> 0 | CG52: =SUM(BN52,BT52,BY52) -> 0 | CH52: =SUM(BO52,BU52,BZ52) -> 313.6451 | CI52: =SUM(BP52,BV52,CA52) -> 2487.717 | CJ52: =SUM(CC52) -> 0 | CK52: =SUM(CE52:CJ52) -> 2801.3621 | CN52: 66.459702 | CO52: 1452.2695 | CP52: 1424.8218 | CR52: =SUM(CL52:CQ52) -> 2943.551 | CV52: 34.599917 | CY52: =SUM(CS52:CX52) -> 34.599917 | DC52: 181.6789 | DF52: =SUM(CZ52:DE52) -> 181.6789 | DJ52: 212.18551 | DM52: =SUM(DG52:DL52) -> 212.18551 | DN52: =SUM(CL52,CS52,CZ52,DG52) -> 0 | DO52: =SUM(CM52,CT52,DA52,DH52) -> 0 | DP52: =SUM(CN52,CU52,DB52,DI52) -> 66.459702 | DQ52: =SUM(CO52,CV52,DC52,DJ52) -> 1880.7338 | DR52: =SUM(CP52,CW52,DD52,DK52) -> 1424.8218 | DS52: =SUM(CQ52,CX52,DE52,DL52) -> 0 | DT52: =SUM(DN52:DS52) -> 3372.0154 | DX52: 276.47893 | DZ52: =SUM(DU52:DY52) -> 276.47893 | ED52: 0.59694235 | EF52: =SUM(EA52:EE52) -> 0.59694235 | EJ52: 175.63629 | EL52: =SUM(EG52:EK52) -> 175.63629 | EP52: 92.492576 | ER52: =SUM(EM52:EQ52) -> 92.492576 | EV52: 25.560385 | EX52: =SUM(ES52:EW52) -> 25.560385 | FB52: 262.23472 | FD52: =SUM(EY52:FC52) -> 262.23472 | FH52: 50.792528 | FJ52: =SUM(FE52:FI52) -> 50.792528 | FK52: =SUM(DU52,EA52,EG52,EM52,ES52,EY52,FE52) -> 0 | FL52: =SUM(DV52,EB52,EH52,EN52,ET52,EZ52,FF52) -> 0 | FM52: =SUM(DW52,EC52,EI52,EO52,EU52,FA52,FG52) -> 0 | FN52: =SUM(DX52,ED52,EJ52,EP52,EV52,FB52,FH52) -> 883.79237 | FO52: =SUM(DY52,EE52,EK52,EQ52,EW52,FC52,FI52) -> 0 | FP52: =SUM(FK52:FO52) -> 883.79237 | FT52: 16.144508 | FV52: =SUM(FQ52:FU52) -> 16.144508 | FZ52: 3255.3559 | GB52: =SUM(FW52:GA52) -> 3255.3559 | GF52: 182.05507 | GH52: =SUM(GC52:GG52) -> 182.05507 | GL52: 128.85031 | GN52: =SUM(GI52:GM52) -> 128.85031 | GR52: 3434.8543 | GT52: =SUM(GO52:GS52) -> 3434.8543 | GX52: 87.75048 | GZ52: =SUM(GU52:GY52) -> 87.75048 | HD52: 13.127815 | HF52: =SUM(HA52:HE52) -> 13.127815 | HL52: =SUM(HG52:HK52) -> 0 | HM52: =SUM(FQ52,FW52,GC52,GI52,GO52,GU52,HA52,HG52) -> 0 | HN52: =SUM(FR52,FX52,GD52,GJ52,GP52,GV52,HB52,HH52) -> 0 | HO52: =SUM(HI52,HC52,GW52,GQ52,GK52,GE52,FY52,FS52) -> 0 | HP52: =SUM(HJ52,HD52,GX52,GR52,GL52,GF52,FZ52,FT52) -> 7118.1384 | HQ52: =SUM(HK52,HE52,GY52,GS52,GM52,GG52,GA52,FU52) -> 0 | HR52: =SUM(HM52:HQ52) -> 7118.1384 | HU52: 74.334783 | HV52: 300.95349 | HX52: =SUM(HS52:HW52) -> 375.28827 | IB52: 556.8412 | ID52: =SUM(HY52:IC52) -> 556.8412 | IG52: 57.28687 | IH52: 1112.2021 | IJ52: =SUM(IE52:II52) -> 1169.4889 | IK52: =SUM(HS52,HY52,IE52) -> 0 | IL52: =SUM(HT52,HZ52,IF52) -> 0 | IM52: =SUM(HU52,IA52,IG52) -> 131.62165 | IN52: =SUM(HV52,IB52,IH52) -> 1969.9968 | IO52: =SUM(HW52,IC52,II52) -> 0 | IP52: =SUM(IK52:IO52) -> 2101.6184 | IT52: 569.69185 | IV52: =SUM(IQ52:IU52) -> 569.69185 | IY52: 6470.1318 | IZ52: 2664.2947 | JB52: =SUM(IW52:JA52) -> 9134.4265 | JF52: 503.81396 | JH52: =SUM(JC52:JG52) -> 503.81396 | JI52: =SUM(IQ52,IW52,JC52) -> 0 | JJ52: =SUM(IR52,IX52,JD52) -> 0 | JK52: =SUM(IS52,IY52,JE52) -> 6470.1318 | JL52: =SUM(IT52,IZ52,JF52) -> 3737.8005 | JM52: =SUM(IU52,JA52,JG52) -> 0 | JN52: =SUM(JI52:JM52) -> 10207.932 | JP52: =SUM(T52,BE52,CE52,DN52,FK52,HM52,IK52,JI52) -> 0 | JQ52: =SUM(U52,BF52,CF52,DO52,FL52,HN52,IL52,JJ52) -> 0 | JR52: =SUM(V52,BG52,CG52,DP52,FM52,HO52,IM52,JK52) -> 6675.1819 | JS52: =SUM(W52,BH52,CH52,DQ52,FN52,HP52,IN52,JL52) -> 16702.845 | JT52: =SUM(X52,BI52,CI52,DR52,FO52,HQ52,IO52,JM52) -> 3912.5389 | JU52: =SUM(DS52,BJ52,CJ52) -> 0 | JV52: =SUM(JP52:JU52) -> 27290.565
A53: NBP=Post Fire | G53: =SUM(B53:F53) -> 0 | M53: =SUM(H53:L53) -> 0 | S53: =SUM(N53:R53) -> 0 | T53: =SUM(B53,H53,N53) -> 0 | U53: =SUM(C53,I53,O53) -> 0 | V53: =SUM(D53,J53,P53) -> 0 | W53: =SUM(E53,K53,Q53) -> 0 | X53: =SUM(F53,L53,R53) -> 0 | Y53: =SUM(T53:X53) -> 0 | AE53: =SUM(Z53:AD53) -> 0 | AK53: =SUM(AF53:AJ53) -> 0 | AM53: 54.12992 | AN53: 77.606894 | AO53: 0.25 | AQ53: =SUM(AL53:AP53) -> 131.98681 | AX53: =SUM(AR53:AW53) -> 0 | BD53: =SUM(AY53:BC53) -> 0 | BE53: =SUM(Z53,AF53,AL53,AR53,AY53) -> 0 | BF53: =SUM(AA53,AG53,AM53,AS53,AZ53) -> 54.12992 | BG53: =SUM(AB53,AH53,AN53,AT53,BA53) -> 77.606894 | BH53: =SUM(AC53,AI53,AO53,AU53,BB53) -> 0.25 | BI53: =SUM(AD53,AJ53,AP53,AV53,BC53) -> 0 | BJ53: =SUM(AW53) -> 0 | BK53: =SUM(BE53:BJ53) -> 131.98681 | BM53: 304.99337 | BN53: 37.571736 | BO53: 134.7205 | BQ53: =SUM(BL53:BP53) -> 477.28561 | BR53: 31.552768 | BS53: 466.21811 | BT53: 495.85259 | BU53: 0.75 | BW53: =SUM(BR53:BV53) -> 994.37348 | BX53: 639.57966 | BY53: 2830.885 | BZ53: 825.76455 | CA53: 160.83856 | CD53: =SUM(BX53:CC53) -> 4457.0677 | CE53: =SUM(BL53,BR53,BX53) -> 671.13243 | CF53: =SUM(BM53,BS53,BY53) -> 3602.0965 | CG53: =SUM(BZ53,BT53,BN53) -> 1359.1889 | CH53: =SUM(BO53,BU53,CA53) -> 296.30906 | CI53: =SUM(BP53,BV53,CB53) -> 0 | CJ53: =SUM(CC53) -> 0 | CK53: =SUM(CE53:CJ53) -> 5928.7268 | CM53: 64.374949 | CR53: =SUM(CL53:CQ53) -> 64.374949 | CT53: 74.220045 | CU53: 25.247203 | CY53: =SUM(CS53:CX53) -> 99.467248 | DF53: =SUM(CZ53:DE53) -> 0 | DM53: =SUM(DG53:DL53) -> 0 | DN53: =SUM(CL53,CS53,CZ53,DG53) -> 0 | DO53: =SUM(CM53,CT53,DA53,DH53) -> 138.59499 | DP53: =SUM(CN53,CU53,DB53,DI53) -> 25.247203 | DQ53: =SUM(CO53,CV53,DC53,DJ53) -> 0 | DR53: =SUM(CP53,CW53,DD53,DK53) -> 0 | DS53: =SUM(CQ53,CX53,DE53,DL53) -> 0 | DT53: =SUM(DN53:DS53) -> 163.8422 | DZ53: =SUM(DU53:DY53) -> 0 | EF53: =SUM(EA53:EE53) -> 0 | EL53: =SUM(EG53:EK53) -> 0 | ER53: =SUM(EM53:EQ53) -> 0 | EX53: =SUM(ES53:EW53) -> 0 | FD53: =SUM(EY53:FC53) -> 0 | FJ53: =SUM(FE53:FI53) -> 0 | FK53: =SUM(DU53,EA53,EG53,EM53,ES53,EY53,FE53) -> 0 | FL53: =SUM(DV53,EB53,EH53,EN53,ET53,EZ53,FF53) -> 0 | FM53: =SUM(DW53,EC53,EI53,EO53,EU53,FA53,FG53) -> 0 | FN53: =SUM(DX53,ED53,EJ53,EP53,EV53,FB53,FH53) -> 0 | FO53: =SUM(DY53,EE53,EK53,EQ53,EW53,FC53,FI53) -> 0 | FP53: =SUM(FK53:FO53) -> 0 | FV53: =SUM(FQ53:FU53) -> 0 | FX53: 113.43457 | FY53: 2268.4178 | FZ53: 1310.1906 | GB53: =SUM(FW53:GA53) -> 3692.0429 | GH53: =SUM(GC53:GG53) -> 0 | GN53: =SUM(GI53:GM53) -> 0 | GP53: 81.207558 | GQ53: 844.27388 | GR53: 459.93975 | GT53: =SUM(GO53:GS53) -> 1385.4212 | GX53: 301.6909 | GZ53: =SUM(GU53:GY53) -> 301.6909 | HF53: =SUM(HA53:HE53) -> 0 | HL53: =SUM(HG53:HK53) -> 0 | HM53: =SUM(FQ53,FW53,GC53,GI53,GO53,GU53,HA53,HG53) -> 0 | HN53: =SUM(FR53,FX53,GD53,GJ53,GP53,GV53,HB53,HH53) -> 194.64212 | HO53: =SUM(HI53,HC53,GW53,GQ53,GK53,GE53,FY53,FS53) -> 3112.6917 | HP53: =SUM(HJ53,HD53,GX53,GR53,GL53,GF53,FZ53,FT53) -> 2071.8212 | HQ53: =SUM(HK53,HE53,GY53,GS53,GM53,GG53,GA53,FU53) -> 0 | HR53: =SUM(HM53:HQ53) -> 5379.155 | HX53: =SUM(HS53:HW53) -> 0 | ID53: =SUM(HY53:IC53) -> 0 | IF53: 684.16186 | IG53: 61.513501 | IH53: 839.55867 | IJ53: =SUM(IE53:II53) -> 1585.234 | IK53: =SUM(HS53,HY53,IE53) -> 0 | IL53: =SUM(HT53,HZ53,IF53) -> 684.16186 | IM53: =SUM(HU53,IA53,IG53) -> 61.513501 | IN53: =SUM(HV53,IB53,IH53) -> 839.55867 | IO53: =SUM(HW53,IC53,II53) -> 0 | IP53: =SUM(IK53:IO53) -> 1585.234 | IV53: =SUM(IQ53:IU53) -> 0 | IZ53: 1507.4472 | JB53: =SUM(IW53:JA53) -> 1507.4472 | JH53: =SUM(JC53:JG53) -> 0 | JI53: =SUM(IQ53,IW53,JC53) -> 0 | JJ53: =SUM(IR53,IX53,JD53) -> 0 | JK53: =SUM(IS53,IY53,JE53) -> 0 | JL53: =SUM(IT53,IZ53,JF53) -> 1507.4472 | JM53: =SUM(IU53,JA53,JG53) -> 0 | JN53: =SUM(JI53:JM53) -> 1507.4472 | JP53: =SUM(T53,BE53,CE53,DN53,FK53,HM53,IK53,JI53) -> 671.13243 | JQ53: =SUM(U53,BF53,CF53,DO53,FL53,HN53,IL53,JJ53) -> 4673.6254 | JR53: =SUM(V53,BG53,CG53,DP53,FM53,HO53,IM53,JK53) -> 4636.2481 | JS53: =SUM(W53,BH53,CH53,DQ53,FN53,HP53,IN53,JL53) -> 4715.3861 | JT53: =SUM(X53,BI53,CI53,DR53,FO53,HQ53,IO53,JM53) -> 0 | JU53: =SUM(DS53,BJ53,CJ53) -> 0 | JV53: =SUM(JP53:JU53) -> 14696.392
A54: NCA=Aspen decline | G54: =SUM(B54:F54) -> 0 | M54: =SUM(H54:L54) -> 0 | S54: =SUM(N54:R54) -> 0 | T54: =SUM(B54,H54,N54) -> 0 | U54: =SUM(C54,I54,O54) -> 0 | V54: =SUM(D54,J54,P54) -> 0 | W54: =SUM(E54,K54,Q54) -> 0 | X54: =SUM(F54,L54,R54) -> 0 | Y54: =SUM(T54:X54) -> 0 | AE54: =SUM(Z54:AD54) -> 0 | AK54: =SUM(AF54:AJ54) -> 0 | AQ54: =SUM(AL54:AP54) -> 0 | AX54: =SUM(AR54:AW54) -> 0 | BD54: =SUM(AY54:BC54) -> 0 | BE54: =SUM(Z54,AF54,AL54,AR54,AY54) -> 0 | BF54: =SUM(AA54,AG54,AM54,AS54,AZ54) -> 0 | BG54: =SUM(AB54,AH54,AN54,AT54,BA54) -> 0 | BH54: =SUM(AC54,AI54,AO54,AU54,BB54) -> 0 | BI54: =SUM(AD54,AJ54,AP54,AV54,BC54) -> 0 | BJ54: =SUM(AW54) -> 0 | BK54: =SUM(BE54:BJ54) -> 0 | BM54: 42.740841 | BN54: 27.682753 | BQ54: =SUM(BL54:BP54) -> 70.423594 | BW54: =SUM(BR54:BV54) -> 0 | CA54: 12.063712 | CD54: =SUM(BX54:CC54) -> 12.063712 | CE54: =SUM(BL54,BR54,BX54) -> 0 | CF54: =SUM(BM54,BS54,BY54) -> 42.740841 | CG54: =SUM(BN54,BT54,BZ54) -> 27.682753 | CH54: =SUM(BO54,BU54,CA54) -> 12.063712 | CI54: =SUM(BP54,BV54,CB54) -> 0 | CJ54: =SUM(CC54) -> 0 | CK54: =SUM(CE54:CJ54) -> 82.487306 | CM54: 55.308719 | CN54: 82.026147 | CO54: 13.175205 | CR54: =SUM(CL54:CQ54) -> 150.51007 | CT54: 41.961323 | CU54: 68.126387 | CY54: =SUM(CS54:CX54) -> 110.08771 | DA54: 906.61073 | DB54: 627.10905 | DC54: 46.073675 | DF54: =SUM(CZ54:DE54) -> 1579.7935 | DH54: 12.019011 | DI54: 5.2306068 | DJ54: 9.6753779 | DM54: =SUM(DG54:DL54) -> 26.924995 | DN54: =SUM(CL54,CS54,CZ54,DG54) -> 0 | DO54: =SUM(CM54,CT54,DA54,DH54) -> 1015.8998 | DP54: =SUM(CN54,CU54,DB54,DI54) -> 782.49219 | DQ54: =SUM(CO54,CV54,DC54,DJ54) -> 68.924258 | DR54: =SUM(CP54,CW54,DD54,DK54) -> 0 | DS54: =SUM(CQ54,CX54,DE54,DL54) -> 0 | DT54: =SUM(DN54:DS54) -> 1867.3162 | DZ54: =SUM(DU54:DY54) -> 0 | EF54: =SUM(EA54:EE54) -> 0 | EL54: =SUM(EG54:EK54) -> 0 | ER54: =SUM(EM54:EQ54) -> 0 | EX54: =SUM(ES54:EW54) -> 0 | FD54: =SUM(EY54:FC54) -> 0 | FJ54: =SUM(FE54:FI54) -> 0 | FK54: =SUM(DU54,EA54,EG54,EM54,ES54,EY54,FE54) -> 0 | FL54: =SUM(DV54,EB54,EH54,EN54,ET54,EZ54,FF54) -> 0 | FM54: =SUM(DW54,EC54,EI54,EO54,EU54,FA54,FG54) -> 0 | FN54: =SUM(DX54,ED54,EJ54,EP54,EV54,FB54,FH54) -> 0 | FO54: =SUM(DY54,EE54,EK54,EQ54,EW54,FC54,FI54) -> 0 | FP54: =SUM(FK54:FO54) -> 0 | FV54: =SUM(FQ54:FU54) -> 0 | GB54: =SUM(FW54:GA54) -> 0 | GH54: =SUM(GC54:GG54) -> 0 | GN54: =SUM(GI54:GM54) -> 0 | GT54: =SUM(GO54:GS54) -> 0 | GZ54: =SUM(GU54:GY54) -> 0 | HF54: =SUM(HA54:HE54) -> 0 | HL54: =SUM(HG54:HK54) -> 0 | HM54: =SUM(FQ54,FW54,GC54,GI54,GO54,GU54,HA54,HG54) -> 0 | HN54: =SUM(FR54,FX54,GD54,GJ54,GP54,GV54,HB54,HH54) -> 0 | HO54: =SUM(HI54,HC54,GW54,GQ54,GK54,GE54,FY54,FS54) -> 0 | HP54: =SUM(HJ54,HD54,GX54,GR54,GL54,GF54,FZ54,FT54) -> 0 | HQ54: =SUM(HK54,HE54,GY54,GS54,GM54,GG54,GA54,FU54) -> 0 | HR54: =SUM(HM54:HQ54) -> 0 | HX54: =SUM(HS54:HW54) -> 0 | ID54: =SUM(HY54:IC54) -> 0 | IJ54: =SUM(IE54:II54) -> 0 | IK54: =SUM(HS54,HY54,IE54) -> 0 | IL54: =SUM(HT54,HZ54,IF54) -> 0 | IM54: =SUM(HU54,IA54,IG54) -> 0 | IN54: =SUM(HV54,IB54,IH54) -> 0 | IO54: =SUM(HW54,IC54,II54) -> 0 | IP54: =SUM(IK54:IO54) -> 0 | IR54: 927.59475 | IT54: 76.635591 | IV54: =SUM(IQ54:IU54) -> 1004.2303 | JB54: =SUM(IW54:JA54) -> 0 | JE54: 171.28121 | JF54: 153.90129 | JH54: =SUM(JC54:JG54) -> 325.18249 | JI54: =SUM(IQ54,IW54,JC54) -> 0 | JJ54: =SUM(IR54,IX54,JD54) -> 927.59475 | JK54: =SUM(IS54,IY54,JE54) -> 171.28121 | JL54: =SUM(IT54,IZ54,JF54) -> 230.53688 | JM54: =SUM(IU54,JA54,JG54) -> 0 | JN54: =SUM(JI54:JM54) -> 1329.4128 | JP54: =SUM(T54,BE54,CE54,DN54,FK54,HM54,IK54,JI54) -> 0 | JQ54: =SUM(U54,BF54,CF54,DO54,FL54,HN54,IL54,JJ54) -> 1986.2354 | JR54: =SUM(V54,BG54,CG54,DP54,FM54,HO54,IM54,JK54) -> 981.45616 | JS54: =SUM(W54,BH54,CH54,DQ54,FN54,HP54,IN54,JL54) -> 311.52485 | JT54: =SUM(X54,BI54,CI54,DR54,FO54,HQ54,IO54,JM54) -> 0 | JU54: =SUM(DS54,BJ54,CJ54) -> 0 | JV54: =SUM(JP54:JU54) -> 3279.2164
A55: NCB=Birch decline | G55: =SUM(B55:F55) -> 0 | M55: =SUM(H55:L55) -> 0 | S55: =SUM(N55:R55) -> 0 | T55: =SUM(B55,H55,N55) -> 0 | U55: =SUM(C55,I55,O55) -> 0 | V55: =SUM(D55,J55,P55) -> 0 | W55: =SUM(E55,K55,Q55) -> 0 | X55: =SUM(F55,L55,R55) -> 0 | Y55: =SUM(T55:X55) -> 0 | AE55: =SUM(Z55:AD55) -> 0 | AK55: =SUM(AF55:AJ55) -> 0 | AQ55: =SUM(AL55:AP55) -> 0 | AX55: =SUM(AR55:AW55) -> 0 | BD55: =SUM(AY55:BC55) -> 0 | BE55: =SUM(Z55,AF55,AL55,AR55,AY55) -> 0 | BF55: =SUM(AA55,AG55,AM55,AS55,AZ55) -> 0 | BG55: =SUM(AB55,AH55,AN55,AT55,BA55) -> 0 | BH55: =SUM(AC55,AI55,AO55,AU55,BB55) -> 0 | BI55: =SUM(AD55,AJ55,AP55,AV55,BC55) -> 0 | BJ55: =SUM(AW55) -> 0 | BK55: =SUM(BE55:BJ55) -> 0 | BQ55: =SUM(BL55:BP55) -> 0 | BW55: =SUM(BR55:BV55) -> 0 | CD55: =SUM(BX55:CC55) -> 0 | CE55: =SUM(BL55,BR55,BX55) -> 0 | CF55: =SUM(BM55,BS55,BY55) -> 0 | CG55: =SUM(BN55,BT55,BZ55) -> 0 | CH55: =SUM(BO55,BU55,CA55) -> 0 | CI55: =SUM(BP55,BV55,CB55) -> 0 | CJ55: =SUM(CC55) -> 0 | CK55: =SUM(CE55:CJ55) -> 0 | CR55: =SUM(CL55:CQ55) -> 0 | CY55: =SUM(CS55:CX55) -> 0 | DF55: =SUM(CZ55:DE55) -> 0 | DM55: =SUM(DG55:DL55) -> 0 | DN55: =SUM(CL55,CS55,CZ55,DG55) -> 0 | DO55: =SUM(CM55,CT55,DA55,DH55) -> 0 | DP55: =SUM(CN55,CU55,DB55,DI55) -> 0 | DQ55: =SUM(CO55,CV55,DC55,DJ55) -> 0 | DR55: =SUM(CP55,CW55,DD55,DK55) -> 0 | DS55: =SUM(CQ55,CX55,DE55,DL55) -> 0 | DT55: =SUM(DN55:DS55) -> 0 | DZ55: =SUM(DU55:DY55) -> 0 | EF55: =SUM(EA55:EE55) -> 0 | EL55: =SUM(EG55:EK55) -> 0 | ER55: =SUM(EM55:EQ55) -> 0 | EX55: =SUM(ES55:EW55) -> 0 | FD55: =SUM(EY55:FC55) -> 0 | FJ55: =SUM(FE55:FI55) -> 0 | FK55: =SUM(DU55,EA55,EG55,EM55,ES55,EY55,FE55) -> 0 | FL55: =SUM(DV55,EB55,EH55,EN55,ET55,EZ55,FF55) -> 0 | FM55: =SUM(DW55,EC55,EI55,EO55,EU55,FA55,FG55) -> 0 | FN55: =SUM(DX55,ED55,EJ55,EP55,EV55,FB55,FH55) -> 0 | FO55: =SUM(DY55,EE55,EK55,EQ55,EW55,FC55,FI55) -> 0 | FP55: =SUM(FK55:FO55) -> 0 | FV55: =SUM(FQ55:FU55) -> 0 | GB55: =SUM(FW55:GA55) -> 0 | GH55: =SUM(GC55:GG55) -> 0 | GN55: =SUM(GI55:GM55) -> 0 | GT55: =SUM(GO55:GS55) -> 0 | GZ55: =SUM(GU55:GY55) -> 0 | HF55: =SUM(HA55:HE55) -> 0 | HL55: =SUM(HG55:HK55) -> 0 | HM55: =SUM(FQ55,FW55,GC55,GI55,GO55,GU55,HA55,HG55) -> 0 | HN55: =SUM(FR55,FX55,GD55,GJ55,GP55,GV55,HB55,HH55) -> 0 | HO55: =SUM(HI55,HC55,GW55,GQ55,GK55,GE55,FY55,FS55) -> 0 | HP55: =SUM(HJ55,HD55,GX55,GR55,GL55,GF55,FZ55,FT55) -> 0 | HQ55: =SUM(HK55,HE55,GY55,GS55,GM55,GG55,GA55,FU55) -> 0 | HR55: =SUM(HM55:HQ55) -> 0 | HX55: =SUM(HS55:HW55) -> 0 | ID55: =SUM(HY55:IC55) -> 0 | IJ55: =SUM(IE55:II55) -> 0 | IK55: =SUM(HS55,HY55,IE55) -> 0 | IL55: =SUM(HT55,HZ55,IF55) -> 0 | IM55: =SUM(HU55,IA55,IG55) -> 0 | IN55: =SUM(HV55,IB55,IH55) -> 0 | IO55: =SUM(HW55,IC55,II55) -> 0 | IP55: =SUM(IK55:IO55) -> 0 | IV55: =SUM(IQ55:IU55) -> 0 | JB55: =SUM(IW55:JA55) -> 0 | JH55: =SUM(JC55:JG55) -> 0 | JI55: =SUM(IQ55,IW55,JC55) -> 0 | JJ55: =SUM(IR55,IX55,JD55) -> 0 | JK55: =SUM(IS55,IY55,JE55) -> 0 | JL55: =SUM(IT55,IZ55,JF55) -> 0 | JM55: =SUM(IU55,JA55,JG55) -> 0 | JN55: =SUM(JI55:JM55) -> 0 | JP55: =SUM(T55,BE55,CE55,DN55,FK55,HM55,IK55,JI55) -> 0 | JQ55: =SUM(U55,BF55,CF55,DO55,FL55,HN55,IL55,JJ55) -> 0 | JR55: =SUM(V55,BG55,CG55,DP55,FM55,HO55,IM55,JK55) -> 0 | JS55: =SUM(W55,BH55,CH55,DQ55,FN55,HP55,IN55,JL55) -> 0 | JT55: =SUM(X55,BI55,CI55,DR55,FO55,HQ55,IO55,JM55) -> 0 | JU55: =SUM(DS55,BJ55,CJ55) -> 0 | JV55: =SUM(JP55:JU55) -> 0
A56: NCF=Douglas-fir decline | G56: =SUM(B56:F56) -> 0 | M56: =SUM(H56:L56) -> 0 | S56: =SUM(N56:R56) -> 0 | T56: =SUM(B56,H56,N56) -> 0 | U56: =SUM(C56,I56,O56) -> 0 | V56: =SUM(D56,J56,P56) -> 0 | W56: =SUM(E56,K56,Q56) -> 0 | X56: =SUM(F56,L56,R56) -> 0 | Y56: =SUM(T56:X56) -> 0 | AE56: =SUM(Z56:AD56) -> 0 | AK56: =SUM(AF56:AJ56) -> 0 | AQ56: =SUM(AL56:AP56) -> 0 | AX56: =SUM(AR56:AW56) -> 0 | BD56: =SUM(AY56:BC56) -> 0 | BE56: =SUM(Z56,AF56,AL56,AR56,AY56) -> 0 | BF56: =SUM(AA56,AG56,AM56,AS56,AZ56) -> 0 | BG56: =SUM(AB56,AH56,AN56,AT56,BA56) -> 0 | BH56: =SUM(AC56,AI56,AO56,AU56,BB56) -> 0 | BI56: =SUM(AD56,AJ56,AP56,AV56,BC56) -> 0 | BJ56: =SUM(AW56) -> 0 | BK56: =SUM(BE56:BJ56) -> 0 | BQ56: =SUM(BL56:BP56) -> 0 | BW56: =SUM(BR56:BV56) -> 0 | CD56: =SUM(BX56:CC56) -> 0 | CE56: =SUM(BL56,BR56,BX56) -> 0 | CF56: =SUM(BM56,BS56,BY56) -> 0 | CG56: =SUM(BN56,BT56,BZ56) -> 0 | CH56: =SUM(BO56,BU56,CA56) -> 0 | CI56: =SUM(BP56,BV56,CB56) -> 0 | CJ56: =SUM(CC56) -> 0 | CK56: =SUM(CE56:CJ56) -> 0 | CR56: =SUM(CL56:CQ56) -> 0 | CY56: =SUM(CS56:CX56) -> 0 | DF56: =SUM(CZ56:DE56) -> 0 | DH56: 129.54536 | DM56: =SUM(DG56:DL56) -> 129.54536 | DN56: =SUM(CL56,CS56,CZ56,DG56) -> 0 | DO56: =SUM(CM56,CT56,DA56,DH56) -> 129.54536 | DP56: =SUM(CN56,CU56,DB56,DI56) -> 0 | DQ56: =SUM(CO56,CV56,DC56,DJ56) -> 0 | DR56: =SUM(CP56,CW56,DD56,DK56) -> 0 | DS56: =SUM(CQ56,CX56,DE56,DL56) -> 0 | DT56: =SUM(DN56:DS56) -> 129.54536 | DZ56: =SUM(DU56:DY56) -> 0 | EF56: =SUM(EA56:EE56) -> 0 | EL56: =SUM(EG56:EK56) -> 0 | ER56: =SUM(EM56:EQ56) -> 0 | EX56: =SUM(ES56:EW56) -> 0 | FD56: =SUM(EY56:FC56) -> 0 | FJ56: =SUM(FE56:FI56) -> 0 | FK56: =SUM(DU56,EA56,EG56,EM56,ES56,EY56,FE56) -> 0 | FL56: =SUM(DV56,EB56,EH56,EN56,ET56,EZ56,FF56) -> 0 | FM56: =SUM(DW56,EC56,EI56,EO56,EU56,FA56,FG56) -> 0 | FN56: =SUM(DX56,ED56,EJ56,EP56,EV56,FB56,FH56) -> 0 | FO56: =SUM(DY56,EE56,EK56,EQ56,EW56,FC56,FI56) -> 0 | FP56: =SUM(FK56:FO56) -> 0 | FV56: =SUM(FQ56:FU56) -> 0 | GB56: =SUM(FW56:GA56) -> 0 | GH56: =SUM(GC56:GG56) -> 0 | GN56: =SUM(GI56:GM56) -> 0 | GT56: =SUM(GO56:GS56) -> 0 | GZ56: =SUM(GU56:GY56) -> 0 | HF56: =SUM(HA56:HE56) -> 0 | HL56: =SUM(HG56:HK56) -> 0 | HM56: =SUM(FQ56,FW56,GC56,GI56,GO56,GU56,HA56,HG56) -> 0 | HN56: =SUM(FR56,FX56,GD56,GJ56,GP56,GV56,HB56,HH56) -> 0 | HO56: =SUM(HI56,HC56,GW56,GQ56,GK56,GE56,FY56,FS56) -> 0 | HP56: =SUM(HJ56,HD56,GX56,GR56,GL56,GF56,FZ56,FT56) -> 0 | HQ56: =SUM(HK56,HE56,GY56,GS56,GM56,GG56,GA56,FU56) -> 0 | HR56: =SUM(HM56:HQ56) -> 0 | HX56: =SUM(HS56:HW56) -> 0 | ID56: =SUM(HY56:IC56) -> 0 | IJ56: =SUM(IE56:II56) -> 0 | IK56: =SUM(HS56,HY56,IE56) -> 0 | IL56: =SUM(HT56,HZ56,IF56) -> 0 | IM56: =SUM(HU56,IA56,IG56) -> 0 | IN56: =SUM(HV56,IB56,IH56) -> 0 | IO56: =SUM(HW56,IC56,II56) -> 0 | IP56: =SUM(IK56:IO56) -> 0 | IV56: =SUM(IQ56:IU56) -> 0 | JB56: =SUM(IW56:JA56) -> 0 | JH56: =SUM(JC56:JG56) -> 0 | JI56: =SUM(IQ56,IW56,JC56) -> 0 | JJ56: =SUM(IR56,IX56,JD56) -> 0 | JK56: =SUM(IS56,IY56,JE56) -> 0 | JL56: =SUM(IT56,IZ56,JF56) -> 0 | JM56: =SUM(IU56,JA56,JG56) -> 0 | JN56: =SUM(JI56:JM56) -> 0 | JP56: =SUM(T56,BE56,CE56,DN56,FK56,HM56,IK56,JI56) -> 0 | JQ56: =SUM(U56,BF56,CF56,DO56,FL56,HN56,IL56,JJ56) -> 129.54536 | JR56: =SUM(V56,BG56,CG56,DP56,FM56,HO56,IM56,JK56) -> 0 | JS56: =SUM(W56,BH56,CH56,DQ56,FN56,HP56,IN56,JL56) -> 0 | JT56: =SUM(X56,BI56,CI56,DR56,FO56,HQ56,IO56,JM56) -> 0 | JU56: =SUM(DS56,BJ56,CJ56) -> 0 | JV56: =SUM(JP56:JU56) -> 129.54536
