Workbook
Name fhdata_Query: #REF!
Name PARKS_Query: #REF!
Name sum_data: #REF!
Name sum_data: #REF!

Sheet Annual Report
A1: 2013 Aerial Overview Summary for British Columbia
B2: Forest Regions | J2: Provincial
B3: South Coast | C3: West Coast | D3: Cariboo | E3: Thompson/ Okanagan | F3: Kootenay/ Boundary | G3: Skeena | H3: Omineca | I3: Northeast | J3: Total
A5: Bark Beetles
A6: IBM=Mountain Pine Beetle | B6: =Master!Y6 -> 4793.6548 | C6: =Master!BK6 -> 0.75 | D6: =Master!CK6 -> 2622.0327 | E6: =Master!DT6 -> 19250.797 | F6: =Master!FP6 -> 41997.131 | G6: =Master!HR6 -> 224696.43 | H6: =Master!IP6 -> 1275432.6 | I6: =Master!JN6 -> 1405142.6 | J6: =SUM(B6:I6) -> 2973936
A7: IBS=Spruce Beetle | B7: =Master!Y7 -> 896.88666 | C7: =Master!BK7 -> 91.446364 | D7: =Master!CK7 -> 4686.1716 | E7: =Master!DT7 -> 3010.5562 | F7: =Master!FP7 -> 2194.0576 | G7: =Master!HR7 -> 89.931931 | H7: =Master!IP7 -> 7653.434 | I7: =Master!JN7 -> 71.354637 | J7: =SUM(B7:I7) -> 18693.839
A8: IBB=Western Balsam Bark Beetle | B8: =Master!Y8 -> 13998.316 | C8: =Master!BK8 -> 8710.0818 | D8: =Master!CK8 -> 25898.178 | E8: =Master!DT8 -> 135532.73 | F8: =Master!FP8 -> 11293.641 | G8: =Master!HR8 -> 833002.7 | H8: =Master!IP8 -> 250613.62 | I8: =Master!JN8 -> 41524.353 | J8: =SUM(B8:I8) -> 1320573.6
A9: IBD=Douglas-fir Beetle | B9: =Master!Y9 -> 1360.45 | C9: =Master!BK9 -> 1550.5331 | D9: =Master!CK9 -> 2658.795 | E9: =Master!DT9 -> 1938.0913 | F9: =Master!FP9 -> 1713.6058 | G9: =Master!HR9 -> 527.45352 | H9: =Master!IP9 -> 610.60191 | I9: =Master!JN9 -> 0 | J9: =SUM(B9:I9) -> 10359.531
A10: IBF=Fir engraver beetle | B10: =Master!Y10 -> 0 | C10: =Master!BK10 -> 0 | D10: =Master!CK10 -> 0 | E10: =Master!DT10 -> 0 | F10: =Master!FP10 -> 0 | G10: =Master!HR10 -> 0 | H10: =Master!IP10 -> 0 | I10: =Master!JN10 -> 0 | J10: =SUM(B10:I10) -> 0
A11: IBP=Twig beetle | B11: =Master!Y11 -> 0 | C11: =Master!BK11 -> 0 | D11: =Master!CK11 -> 0 | E11: =Master!DT11 -> 0 | F11: =Master!FP11 -> 0 | G11: =Master!HR11 -> 0 | H11: =Master!IP11 -> 0 | I11: =Master!JN11 -> 0 | J11: =SUM(B11:I11) -> 0
A12: IBI=Engraver Beetle (Ips species) | B12: =Master!Y12 -> 0 | C12: =Master!BK12 -> 0 | D12: =Master!CK12 -> 23.52006 | E12: =Master!DT12 -> 4.4361969 | F12: =Master!FP12 -> 0 | G12: =Master!HR12 -> 0 | H12: =Master!IP12 -> 0 | I12: =Master!JN12 -> 0 | J12: =SUM(B12:I12) -> 27.956257
A13: IBW=Western Pine Beetle | B13: =Master!Y13 -> 0 | C13: =Master!BK13 -> 0 | D13: =Master!CK13 -> 0 | E13: =Master!DT13 -> 0 | F13: =Master!FP13 -> 0 | G13: =Master!HR13 -> 0 | H13: =Master!IP13 -> 0 | I13: =Master!JN13 -> 0 | J13: =SUM(B13:I13) -> 0
A14: IBL=Lodgepole Pine Beetle | B14: =Master!Y14 -> 0 | C14: =Master!BK14 -> 0 | D14: =Master!CK14 -> 0 | E14: =Master!DT14 -> 0 | F14: =Master!FP14 -> 0 | G14: =Master!HR14 -> 1.25 | H14: =Master!IP14 -> 0 | I14: =Master!JN14 -> 2.75 | J14: =SUM(B14:I14) -> 4
A15: IBT=Red Turpentine Beetle | B15: =Master!Y15 -> 0 | C15: =Master!BK15 -> 0 | D15: =Master!CK15 -> 0 | E15: =Master!DT15 -> 0 | F15: =Master!FP15 -> 0 | G15: =Master!HR15 -> 0 | H15: =Master!IP15 -> 0 | I15: =Master!JN15 -> 0 | J15: =SUM(B15:I15) -> 0
A16: I?B=Young pine mortality | B16: =Master!Y16 -> 0 | C16: =Master!BK16 -> 0 | D16: =Master!CK16 -> 0 | E16: =Master!DT16 -> 0 | F16: =Master!FP16 -> 0 | G16: =Master!HR16 -> 231.29071 | H16: =Master!IP16 -> 772.42405 | I16: =Master!JN16 -> 380.17601 | J16: =SUM(B16:I16) -> 1383.8908
A17: IWW=Warrens Root Collar Weevil | B17: =Master!Y17 -> 0 | C17: =Master!BK17 -> 0 | D17: =Master!CK17 -> 0 | E17: =Master!DT17 -> 0 | F17: =Master!FP17 -> 0 | G17: =Master!HR17 -> 0 | H17: =Master!IP17 -> 0 | I17: =Master!JN17 -> 0 | J17: =SUM(B17:I17) -> 0
A18: Total All BB= | B18: =Master!Y18 -> 21049.308 | C18: =Master!BK18 -> 10352.811 | D18: =Master!CK18 -> 35888.697 | E18: =Master!DT18 -> 159736.61 | F18: =Master!FP18 -> 57198.435 | G18: =Master!HR18 -> 1058549.1 | H18: =Master!IP18 -> 1535082.7 | I18: =Master!JN18 -> 1447121.2 | J18: =SUM(B18:I18) -> 4324978.8
A20: Defoliators
A21: ID=Defoliators | B21: =Master!Y21 -> 0 | C21: =Master!BK21 -> 0 | D21: =Master!CK21 -> 0 | E21: =Master!DT21 -> 0 | F21: =Master!FP21 -> 0 | G21: =Master!HR21 -> 8590.2016 | H21: =Master!IP21 -> 0 | I21: =Master!JN21 -> 0 | J21: =SUM(B21:I21) -> 8590.2016
A22: IAB=Balsam Woolly Adelgid | B22: =Master!Y22 -> 63.384451 | C22: =Master!BK22 -> 21.825857 | D22: =Master!CK22 -> 0 | E22: =Master!DT22 -> 0 | F22: =Master!FP22 -> 0 | G22: =Master!HR22 -> 0 | H22: =Master!IP22 -> 0 | I22: =Master!JN22 -> 0 | J22: =SUM(B22:I22) -> 85.210308
A23: IAS=Green Spruce Aphid | B23: =Master!Y23 -> 0 | C23: =Master!BK23 -> 0 | D23: =Master!CK23 -> 0 | E23: =Master!DT23 -> 0 | F23: =Master!FP23 -> 0 | G23: =Master!HR23 -> 0 | H23: =Master!IP23 -> 0 | I23: =Master!JN23 -> 0 | J23: =SUM(B23:I23) -> 0
A24: ID1=Leaf Beetles | B24: =Master!Y24 -> 0 | C24: =Master!BK24 -> 0 | D24: =Master!CK24 -> 0 | E24: =Master!DT24 -> 0 | F24: =Master!FP24 -> 49.9735 | G24: =Master!HR24 -> 0 | H24: =Master!IP24 -> 0 | I24: =Master!JN24 -> 0 | J24: =SUM(B24:I24) -> 49.9735
A25: ID2=Bruce spanworm | B25: =Master!Y25 -> 0 | C25: =Master!BK25 -> 0 | D25: =Master!CK25 -> 0 | E25: =Master!DT25 -> 0 | F25: =Master!FP25 -> 0 | G25: =Master!HR25 -> 0 | H25: =Master!IP25 -> 0 | I25: =Master!JN25 -> 0 | J25: =SUM(B25:I25) -> 0
A26: ID6=Aspen Leaf Miner | B26: =Master!Y26 -> 441.1115 | C26: =Master!BK26 -> 2028.5045 | D26: =Master!CK26 -> 49407.559 | E26: =Master!DT26 -> 54787.082 | F26: =Master!FP26 -> 10271.057 | G26: =Master!HR26 -> 1572645 | H26: =Master!IP26 -> 467574.63 | I26: =Master!JN26 -> 420547.76 | J26: =SUM(B26:I26) -> 2577702.7
A27: IDA=Black Army Cutworm | B27: =Master!Y27 -> 0 | C27: =Master!BK27 -> 0 | D27: =Master!CK27 -> 0 | E27: =Master!DT27 -> 0 | F27: =Master!FP27 -> 0 | G27: =Master!HR27 -> 0 | H27: =Master!IP27 -> 0 | I27: =Master!JN27 -> 0 | J27: =SUM(B27:I27) -> 0
A28: IDB=2-Year Budworm | B28: =Master!Y28 -> 0 | C28: =Master!BK28 -> 0 | D28: =Master!CK28 -> 71823.02 | E28: =Master!DT28 -> 1134.4598 | F28: =Master!FP28 -> 0 | G28: =Master!HR28 -> 0 | H28: =Master!IP28 -> 15802.986 | I28: =Master!JN28 -> 0 | J28: =SUM(B28:I28) -> 88760.466
A29: IDC=Larch casebearer | B29: =Master!Y29 -> 0 | C29: =Master!BK29 -> 0 | D29: =Master!CK29 -> 0 | E29: =Master!DT29 -> 0 | F29: =Master!FP29 -> 0 | G29: =Master!HR29 -> 0 | H29: =Master!IP29 -> 0 | I29: =Master!JN29 -> 0 | J29: =SUM(B29:I29) -> 0
A30: IDE=Spruce Budworm | B30: =Master!Y30 -> 0 | C30: =Master!BK30 -> 0 | D30: =Master!CK30 -> 0 | E30: =Master!DT30 -> 0 | F30: =Master!FP30 -> 0 | G30: =Master!HR30 -> 0 | H30: =Master!IP30 -> 0 | I30: =Master!JN30 -> 0 | J30: =SUM(B30:I30) -> 0
A31: IDF=Forest Tent Caterpillar | B31: =Master!Y31 -> 0 | C31: =Master!BK31 -> 6.9180696 | D31: =Master!CK31 -> 17569.39 | E31: =Master!DT31 -> 4723.725 | F31: =Master!FP31 -> 0 | G31: =Master!HR31 -> 0 | H31: =Master!IP31 -> 507863.18 | I31: =Master!JN31 -> 51746.905 | J31: =SUM(B31:I31) -> 581910.12
A32: IDH=Western Blackheaded Budworm | B32: =Master!Y32 -> 0 | C32: =Master!BK32 -> 30700.284 | D32: =Master!CK32 -> 0 | E32: =Master!DT32 -> 0 | F32: =Master!FP32 -> 0 | G32: =Master!HR32 -> 0 | H32: =Master!IP32 -> 0 | I32: =Master!JN32 -> 0 | J32: =SUM(B32:I32) -> 30700.284
... A47: Total Defoliators= | B47: =Master!Y47 -> 563.44066 | C47: =Master!BK47 -> 33791.99 | D47: =Master!CK47 -> 229866.22 | E47: =Master!DT47 -> 98133.233 | F47: =Master!FP47 -> 13696.147 | G47: =Master!HR47 -> 1581235.2 | H47: =Master!IP47 -> 991240.8 | I47: =Master!JN47 -> 474478.75 | J47: =SUM(B47:I47) -> 3423005.8
A49: Other
A50: N | B50: =Master!Y50 -> 0 | C50: =Master!BK50 -> 0 | D50: =Master!CK50 -> 0 | E50: =Master!DT50 -> 0 | F50: =Master!FP50 -> 48.162663 | G50: =Master!HR50 -> 0 | H50: =Master!IP50 -> 0 | I50: =Master!JN50 -> 0 | J50: =SUM(B50:I50) -> 48.162663
A51: NAV=Avalanche or snow slide | B51: =Master!Y51 -> 0.25 | C51: =Master!BK51 -> 112.13443 | D51: =Master!CK51 -> 4.3581057 | E51: =Master!DT51 -> 0 | F51: =Master!FP51 -> 0 | G51: =Master!HR51 -> 21.141283 | H51: =Master!IP51 -> 82.213801 | I51: =Master!JN51 -> 0 | J51: =SUM(B51:I51) -> 220.09762
A52: NB=Fire | B52: =Master!Y52 -> 239.82448 | C52: =Master!BK52 -> 565.88188 | D52: =Master!CK52 -> 2801.3621 | E52: =Master!DT52 -> 3372.0154 | F52: =Master!FP52 -> 883.79237 | G52: =Master!HR52 -> 7118.1384 | H52: =Master!IP52 -> 2101.6184 | I52: =Master!JN52 -> 10207.932 | J52: =SUM(B52:I52) -> 27290.565
A53: NBP=Post Fire | B53: =Master!Y53 -> 0 | C53: =Master!BK53 -> 131.98681 | D53: =Master!CK53 -> 5928.7268 | E53: =Master!DT53 -> 163.8422 | F53: =Master!FP53 -> 0 | G53: =Master!HR53 -> 5379.155 | H53: =Master!IP53 -> 1585.234 | I53: =Master!JN53 -> 1507.4472 | J53: =SUM(B53:I53) -> 14696.392
A54: NCA=Aspen decline | B54: =Master!Y54 -> 0 | C54: =Master!BK54 -> 0 | D54: =Master!CK54 -> 82.487306 | E54: =Master!DT54 -> 1867.3162 | F54: =Master!FP54 -> 0 | G54: =Master!HR54 -> 0 | H54: =Master!IP54 -> 0 | I54: =Master!JN54 -> 1329.4128 | J54: =SUM(B54:I54) -> 3279.2164
A55: NCB=Birch decline | B55: =Master!Y55 -> 0 | C55: =Master!BK55 -> 0 | D55: =Master!CK55 -> 0 | E55: =Master!DT55 -> 0 | F55: =Master!FP55 -> 0 | G55: =Master!HR55 -> 0 | H55: =Master!IP55 -> 0 | I55: =Master!JN55 -> 0 | J55: =SUM(B55:I55) -> 0
A56: NCF=Douglas-fir decline | B56: =Master!Y56 -> 0 | C56: =Master!BK56 -> 0 | D56: =Master!CK56 -> 0 | E56: =Master!DT56 -> 129.54536 | F56: =Master!FP56 -> 0 | G56: =Master!HR56 -> 0 | H56: =Master!IP56 -> 0 | I56: =Master!JN56 -> 0 | J56: =SUM(B56:I56) -> 129.54536
A57: NCY=Yellow cedar decline | B57: =Master!Y57 -> 0 | C57: =Master!BK57 -> 8059.2529 | D57: =Master!CK57 -> 0 | E57: =Master!DT57 -> 0 | F57: =Master!FP57 -> 0 | G57: =Master!HR57 -> 10607.587 | H57: =Master!IP57 -> 0 | I57: =Master!JN57 -> 0 | J57: =SUM(B57:I57) -> 18666.84
...

Sheet Master
A1: 2013Aerial Overview Summary for British Columbia by TSA's
A2: Regions | B2: South Coast Forest Region | Z2: West Coast Forest Region | BL2: Cariboo Forest Region | CL2: Thompson Okanagan Forest Region | DU2: Kootenay/Boundary Forest Region | FQ2: Skeena Forest Region | HS2: Omineca Forest Region | IQ2: Northeast Forest Region
A3: TSA's | B3: Fraser | C3: (TFR) | H3: Soo | I3: (TSO) | N3: Sunshine Coast | P3: (TSC) | T3: SOUTH COAST FOREST REGION TOTAL | Z3: Arrowsmith | AB3: (TAS) | AF3: Kingcome | AG3: (TKC) | AL3: Mid Coast | AM3: (TMC) | AR3: Haida Gwaii | AT3: (THG) | AY3: Strathcona | AZ3: (TST) | BE3: WEST COAST FOREST REGION TOTAL | BL3: 100 Mile House | BN3: (TMH) | BR3: Quesnel | BS3: (TQU) | BX3: Williams Lake | BY3: (TWL) | CE3: CARIBOO FOREST REGION TOTAL | CL3: Kamloops | CM3: (TKA) | CS3: Lillooet | CT3: (TLI) | CZ3: Merritt | DA3: (TME) | DG3: Okanagan | DH3: (TOK) | DN3: THOMPSON/OKANAGAN FOREST REGION TOTAL | DU3: Arrow | DV3: (TAR) | EA3: Boundary | EB3: (TBO) | EG3: Cranbrook | EH3: (TCB) | EM3: Golden | EN3: (TGO) | ES3: Invermere | ET3: (TIN) | EY3: Kootenay Lake | EZ3: (TKL) | FE3: Revelstoke | FF3: (TRE) | FK3: KOOTENAY/BOUNDRY FOREST REGION | FQ3: Bulkley | FR3: (TBU) | FW3: Cassiar | FX3: (TCA) | GC3: Kalum | GD3: (TKM) | GI3: Kispiox | GJ3: (TKI) | GO3: Lakes | GP3: (TLA) | GU3: Morice | GV3: (TMO) | HA3: Nass | HB3: (TNA) | HG3: North Coast | HH3: (TNC) | HM3: SKEENA FOREST REGION | HS3: MacKenzie | HT3: (TMK) | HY3: Robson Valley | IA3: (TRV) | IE3: Prince George | IG3: (TPG) | IK3: OMINECA FOREST REGION | IQ3: Dawson Creek | IS3: (TDC) | IW3: Fort Nelson | IX3: (TFN) | JC3: Fort St. John | JE3: (TJO) | JI3: NORTHEAST FOREST REGION | JP3: GRAND TOTAL
B4: Trace | C4: Light | D4: Moderate | E4: Severe | F4: Very Sev | G4: Total | H4: Trace | I4: Light | J4: Moderate | K4: Severe | L4: Very Sev | M4: Total | N4: Trace | O4: Light | P4: Moderate | Q4: Severe | R4: Very Sev | S4: Total | T4: Trace | U4: Light | V4: Moderate | W4: Severe | X4: Ver Sev | Y4: Total | Z4: Trace | AA4: Light | AB4: Moderate | AC4: Severe | AD4: Very Sev | AE4: Total | AF4: Trace | AG4: Light | AH4: Moderate | AI4: Severe | AJ4: Very Sev | AK4: Total | AL4: Trace | AM4: Light | AN4: Moderate | AO4: Severe | AP4: Very Sev | AQ4: Total | AR4: Trace | AS4: Light | AT4: Moderate | AU4: Severe | AV4: Very Sev | AW4: Grey | AX4: Total | AY4: Trace | AZ4: Light | BA4: Moderate | BB4: Severe | BC4: Very Sev | BD4: Total | BE4: Trace | BF4: Light | BG4: Moderate | BH4: Severe | BI4: Ver Sev | BJ4: Grey | BK4: Total | BL4: Trace | BM4: Light | BN4: Moderate | BO4: Severe | BP4: Very Sev | BQ4: Total | BR4: Trace | BS4: Light | BT4: Moderate | BU4: Severe | BV4: Very Sev | BW4: Total | BX4: Trace | BY4: Light | BZ4: Moderate | CA4: Severe | CB4: Very Sev | CC4: Grey | CD4: Total | CE4: Trace | CF4: Light | CG4: Moderate | CH4: Severe | CI4: Ver Sev | CJ4: Grey | CK4: Total | CL4: Trace | CM4: Light | CN4: Moderate | CO4: Severe | CP4: Very Sev | CQ4: Grey | CR4: Total | CS4: Trace | CT4: Light | CU4: Moderate | CV4: Severe | CW4: Very Sev | CX4: Grey | CY4: Total | CZ4: Trace | DA4: Light | DB4: Moderate | DC4: Severe | DD4: Very Sev | DE4: Grey | DF4: Total | DG4: Trace | DH4: Light | DI4: Moderate | DJ4: Severe | DK4: Very Sev | DL4: Grey | DM4: Total | DN4: Trace | DO4: Light | DP4: Moderate | DQ4: Severe | DR4: Ver Sev | DS4: Grey | DT4: Total | DU4: Trace | DV4: Light | DW4: Moderate | DX4: Severe | DY4: Very Sev | DZ4: Total | EA4: Trace | EB4: Light | EC4: Moderate | ED4: Severe | EE4: Very Sev | EF4: Total | EG4: Trace | EH4: Light | EI4: Moderate | EJ4: Severe | EK4: Very Sev | EL4: Total | EM4: Trace | EN4: Light | EO4: Moderate | EP4: Severe | EQ4: Very Sev | ER4: Total | ES4: Trace | ET4: Light | EU4: Moderate | EV4: Severe | EW4: Very Sev | EX4: Total | EY4: Trace | EZ4: Light | FA4: Moderate | FB4: Severe | FC4: Very Sev | FD4: Total | FE4: Trace | FF4: Light | FG4: Moderate | FH4: Severe | FI4: Very Sev | FJ4: Total | FK4: Trace | FL4: Light | FM4: Moderate | FN4: Severe | FO4: Very Sev | FP4: TOTAL | FQ4: Trace | FR4: Light | FS4: Moderate | FT4: Severe | FU4: Very Sev | FV4: Total | FW4: Trace | FX4: Light | FY4: Moderate | FZ4: Severe | GA4: Very Sev | GB4: Total | GC4: Trace | GD4: Light | GE4: Moderate | GF4: Severe | GG4: Very Sev | GH4: Total | GI4: Trace | GJ4: Light | GK4: Moderate | GL4: Severe | GM4: Very Sev | GN4: Total | GO4: Trace | GP4: Light | GQ4: Moderate | GR4: Severe | GS4: Very Sev | GT4: Total | GU4: Trace | GV4: Light | GW4: Moderate | GX4: Severe | GY4: Very Sev | GZ4: Total | HA4: Trace | HB4: Light | HC4: Moderate | HD4: Severe | HE4: Very Sev | HF4: Total | HG4: Trace | HH4: Light | HI4: Moderate | HJ4: Severe | HK4: Very Sev | HL4: Total | HM4: Trace | HN4: Light | HO4: Moderate | HP4: Severe | HQ4: Very Sev | HR4: TOTAL | HS4: Trace | HT4: Light | HU4: Moderate | HV4: Severe | HW4: Very Sev | HX4: Total | HY4: Trace | HZ4: Light | IA4: Moderate | IB4: Severe | IC4: Very Sev | ID4: Total | IE4: Trace | IF4: Light | IG4: Moderate | IH4: Severe | II4: Very Sev | IJ4: Total | IK4: Trace | IL4: Light | IM4: Moderate | IN4: Severe | IO4: Very Sev | IP4: TOTAL | IQ4: Trace | IR4: Light | IS4: Moderate | IT4: Severe | IU4: Very Sev | IV4: Total | IW4: Trace | IX4: Light | IY4: Moderate | IZ4: Severe | JA4: Very Sev | JB4: Total | JC4: Trace | JD4: Light | JE4: Moderate | JF4: Severe | JG4: Very Sev | JH4: Total | JI4: Trace | JJ4: Light | JK4: Moderate | JL4: Severe | JM4: Very Sev | JN4: TOTAL | JP4: Trace | JQ4: Light | JR4: Moderate | JS4: Severe | JT4: Very Sev | JU4: Grey | JV4: TOTAL
A5: Bark Beetles
A6: IBM=Mountain Pine Beetle | B6: 4028.9799 | C6: 32.699686 | D6: 17.7975 | E6: 11.561401 | G6: =SUM(B6:F6) -> 4091.0385 | H6: 382.04131 | I6: 273.29792 | J6: 21.777092 | K6: 25 | M6: =SUM(H6:L6) -> 702.11631 | Q6: 0.5 | S6: =SUM(N6:R6) -> 0.5 | T6: =SUM(B6,H6,N6) -> 4411.0212 | U6: =SUM(C6,I6,O6) -> 305.9976 | V6: =SUM(D6,J6,P6) -> 39.574593 | W6: =SUM(E6,K6,Q6) -> 37.061401 | X6: =SUM(F6,L6,R6) -> 0 | Y6: =SUM(T6:X6) -> 4793.6548 | AC6: 0.5 | AE6: =SUM(Z6:AD6) -> 0.5 | AK6: =SUM(AF6:AJ6) -> 0 | AQ6: =SUM(AL6:AP6) -> 0 | AX6: =SUM(AR6:AW6) -> 0 | BB6: 0.25 | BD6: =SUM(AY6:BC6) -> 0.25 | BE6: =SUM(Z6,AF6,AL6,AR6,AY6) -> 0 | BF6: =SUM(AA6,AG6,AM6,AS6,AZ6) -> 0 | BG6: =SUM(AB6,AH6,AN6,AT6,BA6) -> 0 | BH6: =SUM(AC6,AI6,AO6,AU6,BB6) -> 0.75 | BI6: =SUM(AD6,AJ6,AP6,AV6,BC6) -> 0 | BJ6: =SUM(AW6) -> 0 | BK6: =SUM(BE6:BJ6) -> 0.75 | BO6: 0.5 | BQ6: =SUM(BL6:BP6) -> 0.5 | BU6: 1 | BW6: =SUM(BR6:BV6) -> 1 | BX6: 1898.1217 | BY6: 621.39995 | BZ6: 46.011044 | CA6: 55 | CD6: =SUM(BX6:CC6) -> 2620.5327 | CE6: =SUM(BL6,BR6,BX6) -> 1898.1217 | CF6: =SUM(BM6,BS6,BY6) -> 621.39995 | CG6: =SUM(BN6,BT6,BZ6) -> 46.011044 | CH6: =SUM(BO6,BU6,CA6) -> 56.5 | CI6: =SUM(BP6,BV6,CB6) -> 0 | CJ6: =SUM(CC6) -> 0 | CK6: =SUM(CE6:CJ6) -> 2622.0327 | CL6: 58.221661 | CM6: 8.4372176 | CO6: 3.75 | CR6: =SUM(CL6:CQ6) -> 70.408879 | CS6: 1494.1222 | CT6: 2936.119 | CU6: 421.09531 | CV6: 61 | CY6: =SUM(CS6:CX6) -> 4912.3365 | CZ6: 2133.1315 | DA6: 1344.9917 | DB6: 38.342467 | DC6: 30.25 | DF6: =SUM(CZ6:DE6) -> 3546.7157 | DG6: 1200.2457 | DH6: 8810.0074 | DI6: 571.56548 | DJ6: 139.51782 | DM6: =SUM(DG6:DL6) -> 10721.336 | DN6: =SUM(CL6,CS6,CZ6,DG6) -> 4885.721 | DO6: =SUM(CM6,CT6,DA6,DH6) -> 13099.555 | DP6: =SUM(CN6,CU6,DB6,DI6) -> 1031.0033 | DQ6: =SUM(CO6,CV6,DC6,DJ6) -> 234.51782 | DR6: =SUM(CP6,CW6,DD6,DK6) -> 0 | DS6: =SUM(CQ6,CX6,DE6,DL6) -> 0 | DT6: =SUM(DN6:DS6) -> 19250.797 | DU6: 438.43087 | DV6: 293.90637 | DW6: 96.206834 | DX6: 81.797223 | DZ6: =SUM(DU6:DY6) -> 910.3413 | EA6: 7981.8711 | EB6: 9627.506 | EC6: 3165.5771 | ED6: 673.602 | EF6: =SUM(EA6:EE6) -> 21448.556 | EG6: 1456.4366 | EH6: 814.78704 | EI6: 166.2978 | EJ6: 145.16892 | EL6: =SUM(EG6:EK6) -> 2582.6904 | EM6: 1572.857 | EN6: 1120.8595 | EO6: 366.92838 | EP6: 22.904378 | ER6: =SUM(EM6:EQ6) -> 3083.5493 | ES6: 4668.7931 | ET6: 3643.0017 | EU6: 1375.7794 | EV6: 316.32171 | EX6: =SUM(ES6:EW6) -> 10003.896 | EY6: 1424.2767 | EZ6: 1593.3938 | FA6: 605.90566 | FB6: 190.59635 | FD6: =SUM(EY6:FC6) -> 3814.1725 | FE6: 18.791918 | FG6: 132.13307 | FH6: 3 | FJ6: =SUM(FE6:FI6) -> 153.92499 | FK6: =SUM(DU6,EA6,EG6,EM6,ES6,EY6,FE6) -> 17561.457 | FL6: =SUM(DV6,EB6,EH6,EN6,ET6,EZ6,FF6) -> 17093.454 | FM6: =SUM(DW6,EC6,EI6,EO6,EU6,FA6,FG6) -> 5908.8282 | FN6: =SUM(DX6,ED6,EJ6,EP6,EV6,FB6,FH6) -> 1433.3906 | FO6: =SUM(DY6,EE6,EK6,EQ6,EW6,FC6,FI6) -> 0 | FP6: =SUM(FK6:FO6) -> 41997.131 | FQ6: 71468.186 | FR6: 17599.281 | FS6: 7520.1959 | FT6: 1745.6992 | FV6: =SUM(FQ6:FU6) -> 98333.362 | FW6: 1339.9643 | FX6: 117.77878 | FZ6: 62.698079 | GB6: =SUM(FW6:GA6) -> 1520.4411 | GC6: 150.39487 | GD6: 3882.2629 | GF6: 1.25 | GH6: =SUM(GC6:GG6) -> 4033.9078 | GI6: 11151.627 | GJ6: 3745.3833 | GK6: 151.07872 | GL6: 31.310604 | GN6: =SUM(GI6:GM6) -> 15079.4 | GO6: 3742.5401 | GR6: 1 | GT6: =SUM(GO6:GS6) -> 3743.5401 | GU6: 87456.909 | GV6: 14315.067 | GW6: 106.3767 | GX6: 14.25 | GZ6: =SUM(GU6:GY6) -> 101892.6 | HA6: 93.175533 | HF6: =SUM(HA6:HE6) -> 93.175533 | HL6: =SUM(HG6:HK6) -> 0 | HM6: =SUM(FQ6,FW6,GC6,GI6,GO6,GU6,HA6,HG6) -> 175402.8 | HN6: =SUM(FR6,FX6,GD6,GJ6,GP6,GV6,HB6,HH6) -> 39659.773 | HO6: =SUM(HI6,HC6,GW6,GQ6,GK6,GE6,FY6,FS6) -> 7777.6513 | HP6: =SUM(HJ6,HD6,GX6,GR6,GL6,GF6,FZ6,FT6) -> 1856.2079 | HQ6: =SUM(HK6,HE6,GY6,GS6,GM6,GG6,GA6,FU6) -> 0 | HR6: =SUM(HM6:HQ6) -> 224696.43 | HS6: 634188.44 | HT6: 188415.53 | HU6: 129425.95 | HV6: 8071.6086 | HX6: =SUM(HS6:HW6) -> 960101.52 | HY6: 9378.6439 | HZ6: 8177.2082 | IA6: 2788.7391 | IB6: 861.6895 | ID6: =SUM(HY6:IC6) -> 21206.281 | IE6: 233795.13 | IF6: 47309.406 | IG6: 12148.173 | IH6: 872.07176 | IJ6: =SUM(IE6:II6) -> 294124.78 | IK6: =SUM(HS6,HY6,IE6) -> 877362.2 | IL6: =SUM(HT6,HZ6,IF6) -> 243902.14 | IM6: =SUM(HU6,IA6,IG6) -> 144362.86 | IN6: =SUM(HV6,IB6,IH6) -> 9805.3699 | IO6: =SUM(HW6,IC6,II6) -> 0 | IP6: =SUM(IK6:IO6) -> 1275432.6 | IQ6: 156302.45 | IR6: 36461.878 | IS6: 3513.1857 | IT6: 421.08086 | IV6: =SUM(IQ6:IU6) -> 196698.6 | IW6: 111579.96 | IX6: 75614.7 | IY6: 32791.408 | IZ6: 2647.1524 | JA6: 19.55202 | JB6: =SUM(IW6:JA6) -> 222652.78 | JC6: 324846.47 | JD6: 440774.03 | JE6: 187659.35 | JF6: 31872.896 | JG6: 638.47154 | JH6: =SUM(JC6:JG6) -> 985791.21 | JI6: =SUM(IQ6,IW6,JC6) -> 592728.88 | JJ6: =SUM(IR6,IX6,JD6) -> 552850.61 | JK6: =SUM(IS6,IY6,JE6) -> 223963.94 | JL6: =SUM(IT6,IZ6,JF6) -> 34941.129 | JM6: =SUM(IU6,JA6,JG6) -> 658.02356 | JN6: =SUM(JI6:JM6) -> 1405142.6 | JP6: =SUM(T6,BE6,CE6,DN6,FK6,HM6,IK6,JI6) -> 1674250.2 | JQ6: =SUM(U6,BF6,CF6,DO6,FL6,HN6,IL6,JJ6) -> 867532.93 | JR6: =SUM(V6,BG6,CG6,DP6,FM6,HO6,IM6,JK6) -> 383129.87 | JS6: =SUM(W6,BH6,CH6,DQ6,FN6,HP6,IN6,JL6) -> 48364.926 | JT6: =SUM(X6,BI6,CI6,DR6,FO6,HQ6,IO6,JM6) -> 658.02356 | JU6: =SUM(DS6,BJ6,CJ6) -> 0 | JV6: =SUM(JP6:JU6) -> 2973936
A7: IBS=Spruce Beetle | B7: 164.37453 | C7: 712.14626 | E7: 2.5 | G7: =SUM(B7:F7) -> 879.02078 | I7: 17.115875 | K7: 0.75 | M7: =SUM(H7:L7) -> 17.865875 | S7: =SUM(N7:R7) -> 0 | T7: =SUM(B7,H7,N7) -> 164.37453 | U7: =SUM(C7,I7,O7) -> 729.26213 | V7: =SUM(D7,J7,P7) -> 0 | W7: =SUM(E7,K7,Q7) -> 3.25 | X7: =SUM(F7,L7,R7) -> 0 | Y7: =SUM(T7:X7) -> 896.88666 | AA7: 46.022318 | AC7: 0.75 | AE7: =SUM(Z7:AD7) -> 46.772318 | AI7: 1.25 | AK7: =SUM(AF7:AJ7) -> 1.25 | AL7: 36.127733 | AM7: 6.046314 | AO7: 1.25 | AQ7: =SUM(AL7:AP7) -> 43.424047 | AX7: =SUM(AR7:AW7) -> 0 | BD7: =SUM(AY7:BC7) -> 0 | BE7: =SUM(Z7,AF7,AL7,AR7,AY7) -> 36.127733 | BF7: =SUM(AA7,AG7,AM7,AS7,AZ7) -> 52.068632 | BG7: =SUM(AB7,AH7,AN7,AT7,BA7) -> 0 | BH7: =SUM(AC7,AI7,AO7,AU7,BB7) -> 3.25 | BI7: =SUM(AD7,AJ7,AP7,AV7,BC7) -> 0 | BJ7: =SUM(AW7) -> 0 | BK7: =SUM(BE7:BJ7) -> 91.446364 | BL7: 139.61861 | BM7: 147.13674 | BN7: 129.46898 | BO7: 0.5 | BQ7: =SUM(BL7:BP7) -> 416.72434 | BR7: 132.41178 | BS7: 37.754919 | BU7: 0.25 | BW7: =SUM(BR7:BV7) -> 170.4167 | BX7: 380.41787 | BY7: 2303.8193 | BZ7: 991.52525 | CA7: 423.26819 | CD7: =SUM(BX7:CC7) -> 4099.0306 | CE7: =SUM(BL7,BR7,BX7) -> 652.44826 | CF7: =SUM(BM7,BS7,BY7) -> 2488.7109 | CG7: =SUM(BN7,BT7,BZ7) -> 1120.9942 | CH7: =SUM(BO7,BU7,CA7) -> 424.01819 | CI7: =SUM(BP7,BV7,CB7) -> 0 | CJ7: =SUM(CC7) -> 0 | CK7: =SUM(CE7:CJ7) -> 4686.1716 | CM7: 1124.73 | CN7: 370.2868 | CO7: 7.193857 | CR7: =SUM(CL7:CQ7) -> 1502.2106 | CT7: 83.95143 | CU7: 205.98243 | CV7: 0.25 | CY7: =SUM(CS7:CX7) -> 290.18386 | DA7: 346.56527 | DB7: 501.20197 | DC7: 20.734041 | DF7: =SUM(CZ7:DE7) -> 868.50128 | DH7: 118.58618 | DI7: 230.82428 | DJ7: 0.25 | DM7: =SUM(DG7:DL7) -> 349.66046 | DN7: =SUM(CL7,CS7,CZ7,DG7) -> 0 | DO7: =SUM(CM7,CT7,DA7,DH7) -> 1673.8328 | DP7: =SUM(CN7,CU7,DB7,DI7) -> 1308.2955 | DQ7: =SUM(CO7,CV7,DC7,DJ7) -> 28.427898 | DR7: =SUM(CP7,CW7,DD7,DK7) -> 0 | DS7: =SUM(CQ7,CX7,DE7,DL7) -> 0 | DT7: =SUM(DN7:DS7) -> 3010.5562 | DZ7: =SUM(DU7:DY7) -> 0 | EF7: =SUM(EA7:EE7) -> 0 | EJ7: 0.25 | EL7: =SUM(EG7:EK7) -> 0.25 | EM7: 11.69806 | EO7: 51.640589 | EP7: 0.25 | ER7: =SUM(EM7:EQ7) -> 63.588649 | ES7: 37.537573 | ET7: 124.16862 | EU7: 1762.1586 | EV7: 206.35415 | EX7: =SUM(ES7:EW7) -> 2130.2189 | FD7: =SUM(EY7:FC7) -> 0 | FJ7: =SUM(FE7:FI7) -> 0 | FK7: =SUM(DU7,EA7,EG7,EM7,ES7,EY7,FE7) -> 49.235633 | FL7: =SUM(DV7,EB7,EH7,EN7,ET7,EZ7,FF7) -> 124.16862 | FM7: =SUM(DW7,EC7,EI7,EO7,EU7,FA7,FG7) -> 1813.7992 | FN7: =SUM(DX7,ED7,EJ7,EP7,EV7,FB7,FH7) -> 206.85415 | FO7: =SUM(DY7,EE7,EK7,EQ7,EW7,FC7,FI7) -> 0 | FP7: =SUM(FK7:FO7) -> 2194.0576 | FV7: =SUM(FQ7:FU7) -> 0 | FZ7: 2.75 | GB7: =SUM(FW7:GA7) -> 2.75 | GF7: 0.5 | GH7: =SUM(GC7:GG7) -> 0.5 | GJ7: 19.573077 | GN7: =SUM(GI7:GM7) -> 19.573077 | GO7: 44.210366 | GR7: 21.398488 | GT7: =SUM(GO7:GS7) -> 65.608854 | GX7: 1 | GZ7: =SUM(GU7:GY7) -> 1 | HD7: 0.5 | HF7: =SUM(HA7:HE7) -> 0.5 | HL7: =SUM(HG7:HK7) -> 0 | HM7: =SUM(FQ7,FW7,GC7,GI7,GO7,GU7,HA7,HG7) -> 44.210366 | HN7: =SUM(FR7,FX7,GD7,GJ7,GP7,GV7,HB7,HH7) -> 19.573077 | HO7: =SUM(HI7,HC7,GW7,GQ7,GK7,GE7,FY7,FS7) -> 0 | HP7: =SUM(HJ7,HD7,GX7,GR7,GL7,GF7,FZ7,FT7) -> 26.148488 | HQ7: =SUM(HK7,HE7,GY7,GS7,GM7,GG7,GA7,FU7) -> 0 | HR7: =SUM(HM7:HQ7) -> 89.931931 | HX7: =SUM(HS7:HW7) -> 0 | HY7: 103.82535 | HZ7: 76.184179 | IA7: 264.64575 | IB7: 0.75 | ID7: =SUM(HY7:IC7) -> 445.40528 | IE7: 7182.8488 | IF7: 22.929989 | IH7: 2.25 | IJ7: =SUM(IE7:II7) -> 7208.0288 | IK7: =SUM(HS7,HY7,IE7) -> 7286.6741 | IL7: =SUM(HT7,HZ7,IF7) -> 99.114168 | IM7: =SUM(HU7,IA7,IG7) -> 264.64575 | IN7: =SUM(HV7,IB7,IH7) -> 3 | IO7: =SUM(HW7,IC7,II7) -> 0 | IP7: =SUM(IK7:IO7) -> 7653.434 | IQ7: 68.854637 | IT7: 2.25 | IV7: =SUM(IQ7:IU7) -> 71.104637 | IZ7: 0.25 | JB7: =SUM(IW7:JA7) -> 0.25 | JH7: =SUM(JC7:JG7) -> 0 | JI7: =SUM(IQ7,IW7,JC7) -> 68.854637 | JJ7: =SUM(IR7,IX7,JD7) -> 0 | JK7: =SUM(IS7,IY7,JE7) -> 0 | JL7: =SUM(IT7,IZ7,JF7) -> 2.5 | JM7: =SUM(IU7,JA7,JG7) -> 0 | JN7: =SUM(JI7:JM7) -> 71.354637 | JP7: =SUM(T7,BE7,CE7,DN7,FK7,HM7,IK7,JI7) -> 8301.9253 | JQ7: =SUM(U7,BF7,CF7,DO7,FL7,HN7,IL7,JJ7) -> 5186.7304 | JR7: =SUM(V7,BG7,CG7,DP7,FM7,HO7,IM7,JK7) -> 4507.7346 | JS7: =SUM(W7,BH7,CH7,DQ7,FN7,HP7,IN7,JL7) -> 697.44873 | JT7: =SUM(X7,BI7,CI7,DR7,FO7,HQ7,IO7,JM7) -> 0 | JU7: =SUM(DS7,BJ7,CJ7) -> 0 | JV7: =SUM(JP7:JU7) -> 18693.839
A8: IBB=Western Balsam Bark Beetle | B8: 12955.269 | C8: 522.04408 | E8: 29.5 | G8: =SUM(B8:F8) -> 13506.813 | H8: 309.40724 | I8: 95.09143 | K8: 29.5 | M8: =SUM(H8:L8) -> 433.99867 | O8: 50.754576 | Q8: 6.75 | S8: =SUM(N8:R8) -> 57.504576 | T8: =SUM(B8,H8,N8) -> 13264.676 | U8: =SUM(C8,I8,O8) -> 667.89008 | V8: =SUM(D8,J8,P8) -> 0 | W8: =SUM(E8,K8,Q8) -> 65.75 | X8: =SUM(F8,L8,R8) -> 0 | Y8: =SUM(T8:X8) -> 13998.316 | AE8: =SUM(Z8:AD8) -> 0 | AF8: 219.98771 | AI8: 4.25 | AK8: =SUM(AF8:AJ8) -> 224.23771 | AL8: 8350.2404 | AM8: 131.1037 | AO8: 1.75 | AQ8: =SUM(AL8:AP8) -> 8483.0941 | AX8: =SUM(AR8:AW8) -> 0 | BB8: 2.75 | BD8: =SUM(AY8:BC8) -> 2.75 | BE8: =SUM(Z8,AF8,AL8,AR8,AY8) -> 8570.2281 | BF8: =SUM(AA8,AG8,AM8,AS8,AZ8) -> 131.1037 | BG8: =SUM(AB8,AH8,AN8,AT8,BA8) -> 0 | BH8: =SUM(AC8,AI8,AO8,AU8,BB8) -> 8.75 | BI8: =SUM(AD8,AJ8,AP8,AV8,BC8) -> 0 | BJ8: =SUM(AW8) -> 0 | BK8: =SUM(BE8:BJ8) -> 8710.0818 | BL8: 1802.3544 | BM8: 112.4849 | BO8: 3.25 | BQ8: =SUM(BL8:BP8) -> 1918.0893 | BR8: 4005.3572 | BS8: 937.43093 | BU8: 1 | BW8: =SUM(BR8:BV8) -> 4943.7882 | BX8: 13813.276 | BY8: 5218.2744 | CA8: 4.75 | CD8: =SUM(BX8:CC8) -> 19036.3 | CE8: =SUM(BL8,BR8,BX8) -> 19620.988 | CF8: =SUM(BM8,BS8,BY8) -> 6268.1903 | CG8: =SUM(BN8,BT8,BZ8) -> 0 | CH8: =SUM(BO8,BU8,CA8) -> 9 | CI8: =SUM(BP8,BV8,CB8) -> 0 | CJ8: =SUM(CC8) -> 0 | CK8: =SUM(CE8:CJ8) -> 25898.178 | CL8: 71417.302 | CM8: 365.63074 | CR8: =SUM(CL8:CQ8) -> 71782.933 | CS8: 2538.6445 | CT8: 86.77233 | CY8: =SUM(CS8:CX8) -> 2625.4169 | CZ8: 10309.565 | DA8: 42.223168 | DC8: 1.25 | DF8: =SUM(CZ8:DE8) -> 10353.038 | DG8: 50771.338 | DM8: =SUM(DG8:DL8) -> 50771.338 | DN8: =SUM(CL8,CS8,CZ8,DG8) -> 135036.85 | DO8: =SUM(CM8,CT8,DA8,DH8) -> 494.62624 | DP8: =SUM(CN8,CU8,DB8,DI8) -> 0 | DQ8: =SUM(CO8,CV8,DC8,DJ8) -> 1.25 | DR8: =SUM(CP8,CW8,DD8,DK8) -> 0 | DS8: =SUM(CQ8,CX8,DE8,DL8) -> 0 | DT8: =SUM(DN8:DS8) -> 135532.73 | DU8: 1398.6562 | DV8: 103.83575 | DW8: 12.516958 | DX8: 4.5 | DZ8: =SUM(DU8:DY8) -> 1519.5089 | EA8: 1032.8649 | EF8: =SUM(EA8:EE8) -> 1032.8649 | EG8: 965.93288 | EH8: 403.29591 | EJ8: 4.25 | EL8: =SUM(EG8:EK8) -> 1373.4788 | EM8: 2072.5433 | EN8: 505.30388 | EO8: 52.886945 | EP8: 3.25 | ER8: =SUM(EM8:EQ8) -> 2633.9841 | ES8: 3577.054 | ET8: 438.4511 | EU8: 5.0210369 | EV8: 4.25 | EX8: =SUM(ES8:EW8) -> 4024.7761 | EY8: 444.23667 | EZ8: 21.90351 | FB8: 7.25 | FD8: =SUM(EY8:FC8) -> 473.39018 | FE8: 233.13793 | FH8: 2.5 | FJ8: =SUM(FE8:FI8) -> 235.63793 | FK8: =SUM(DU8,EA8,EG8,EM8,ES8,EY8,FE8) -> 9724.4258 | FL8: =SUM(DV8,EB8,EH8,EN8,ET8,EZ8,FF8) -> 1472.7902 | FM8: =SUM(DW8,EC8,EI8,EO8,EU8,FA8,FG8) -> 70.42494 | FN8: =SUM(DX8,ED8,EJ8,EP8,EV8,FB8,FH8) -> 26 | FO8: =SUM(DY8,EE8,EK8,EQ8,EW8,FC8,FI8) -> 0 | FP8: =SUM(FK8:FO8) -> 11293.641 | FQ8: 196534.69 | FR8: 169.21939 | FS8: 196.83311 | FT8: 3 | FV8: =SUM(FQ8:FU8) -> 196903.74 | FW8: 132152.46 | FX8: 3510.8566 | FY8: 193.51573 | FZ8: 53.136871 | GB8: =SUM(FW8:GA8) -> 135909.97 | GC8: 7750.093 | GF8: 0.5 | GH8: =SUM(GC8:GG8) -> 7750.593 | GI8: 172580.48 | GJ8: 133.33588 | GL8: 9.75 | GN8: =SUM(GI8:GM8) -> 172723.56 | GO8: 72418.902 | GP8: 2706.9455 | GR8: 28.706523 | GT8: =SUM(GO8:GS8) -> 75154.554 | GU8: 183584.32 | GV8: 1535.1854 | GW8: 90.106675 | GX8: 15.5 | GZ8: =SUM(GU8:GY8) -> 185225.11 | HA8: 59087.516 | HB8: 208.28144 | HC8: 28.373545 | HD8: 11 | HF8: =SUM(HA8:HE8) -> 59335.171 | HL8: =SUM(HG8:HK8) -> 0 | HM8: =SUM(FQ8,FW8,GC8,GI8,GO8,GU8,HA8,HG8) -> 824108.46 | HN8: =SUM(FR8,FX8,GD8,GJ8,GP8,GV8,HB8,HH8) -> 8263.8242 | HO8: =SUM(HI8,HC8,GW8,GQ8,GK8,GE8,FY8,FS8) -> 508.82905 | HP8: =SUM(HJ8,HD8,GX8,GR8,GL8,GF8,FZ8,FT8) -> 121.59339 | HQ8: =SUM(HK8,HE8,GY8,GS8,GM8,GG8,GA8,FU8) -> 0 | HR8: =SUM(HM8:HQ8) -> 833002.7 | HS8: 108746.75 | HT8: 1858.625 | HU8: 449.62008 | HV8: 81.25 | HX8: =SUM(HS8:HW8) -> 111136.24 | HY8: 7134.4573 | HZ8: 438.75844 | IA8: 11.653441 | IB8: 6 | ID8: =SUM(HY8:IC8) -> 7590.8692 | IE8: 129820.87 | IF8: 1928.6437 | IH8: 137 | IJ8: =SUM(IE8:II8) -> 131886.51 | IK8: =SUM(HS8,HY8,IE8) -> 245702.07 | IL8: =SUM(HT8,HZ8,IF8) -> 4226.0271 | IM8: =SUM(HU8,IA8,IG8) -> 461.27352 | IN8: =SUM(HV8,IB8,IH8) -> 224.25 | IO8: =SUM(HW8,IC8,II8) -> 0 | IP8: =SUM(IK8:IO8) -> 250613.62 | IQ8: 13194.053 | IT8: 32.5 | IV8: =SUM(IQ8:IU8) -> 13226.553 | IW8: 24541.459 | IX8: 56.686328 | IZ8: 88.5 | JB8: =SUM(IW8:JA8) -> 24686.645 | JC8: 3607.4047 | JF8: 3.75 | JH8: =SUM(JC8:JG8) -> 3611.1547 | JI8: =SUM(IQ8,IW8,JC8) -> 41342.917 | JJ8: =SUM(IR8,IX8,JD8) -> 56.686328 | JK8: =SUM(IS8,IY8,JE8) -> 0 | JL8: =SUM(IT8,IZ8,JF8) -> 124.75 | JM8: =SUM(IU8,JA8,JG8) -> 0 | JN8: =SUM(JI8:JM8) -> 41524.353 | JP8: =SUM(T8,BE8,CE8,DN8,FK8,HM8,IK8,JI8) -> 1297370.6 | JQ8: =SUM(U8,BF8,CF8,DO8,FL8,HN8,IL8,JJ8) -> 21581.138 | JR8: =SUM(V8,BG8,CG8,DP8,FM8,HO8,IM8,JK8) -> 1040.5275 | JS8: =SUM(W8,BH8,CH8,DQ8,FN8,HP8,IN8,JL8) -> 581.34339 | JT8: =SUM(X8,BI8,CI8,DR8,FO8,HQ8,IO8,JM8) -> 0 | JU8: =SUM(DS8,BJ8,CJ8) -> 0 | JV8: =SUM(JP8:JU8) -> 1320573.6
A9: IBD=Douglas-fir Beetle | B9: 144.18363 | C9: 152.8419 | D9: 64.874829 | E9: 69.25 | G9: =SUM(B9:F9) -> 431.15035 | H9: 17.964337 | I9: 14.231243 | J9: 26.739631 | K9: 17.75 | M9: =SUM(H9:L9) -> 76.685212 | N9: 334.41344 | O9: 453.79524 | P9: 18.405781 | Q9: 46 | S9: =SUM(N9:R9) -> 852.61446 | T9: =SUM(B9,H9,N9) -> 496.56141 | U9: =SUM(C9,I9,O9) -> 620.86838 | V9: =SUM(D9,J9,P9) -> 110.02024 | W9: =SUM(E9,K9,Q9) -> 133 | X9: =SUM(F9,L9,R9) -> 0 | Y9: =SUM(T9:X9) -> 1360.45 | Z9: 77.85074 | AA9: 319.81553 | AB9: 351.22965 | AC9: 37 | AE9: =SUM(Z9:AD9) -> 785.89592 | AF9: 379.19356 | AG9: 68.56245 | AH9: 68.252431 | AI9: 63.673219 | AK9: =SUM(AF9:AJ9) -> 579.68166 | AM9: 29.290089 | AO9: 9.75 | AQ9: =SUM(AL9:AP9) -> 39.040089 | AX9: =SUM(AR9:AW9) -> 0 | AY9: 35.348861 | AZ9: 24.609314 | BA9: 60.20722 | BB9: 25.75 | BD9: =SUM(AY9:BC9) -> 145.91539 | BE9: =SUM(Z9,AF9,AL9,AR9,AY9) -> 492.39316 | BF9: =SUM(AA9,AG9,AM9,AS9,AZ9) -> 442.27738 | BG9: =SUM(AB9,AH9,AN9,AT9,BA9) -> 479.6893 | BH9: =SUM(AC9,AI9,AO9,AU9,BB9) -> 136.17322 | BI9: =SUM(AD9,AJ9,AP9,AV9,BC9) -> 0 | BJ9: =SUM(AW9) -> 0 | BK9: =SUM(BE9:BJ9) -> 1550.5331 | BL9: 157.19669 | BM9: 122.2315 | BN9: 7.0300746 | BO9: 25.209542 | BQ9: =SUM(BL9:BP9) -> 311.6678 | BR9: 43.246844 | BS9: 109.02024 | BT9: 7.2238596 | BU9: 5.75 | BW9: =SUM(BR9:BV9) -> 165.24094 | BX9: 876.19639 | BY9: 939.09697 | BZ9: 209.42774 | CA9: 157.16518 | CD9: =SUM(BX9:CC9) -> 2181.8863 | CE9: =SUM(BL9,BR9,BX9) -> 1076.6399 | CF9: =SUM(BM9,BS9,BY9) -> 1170.3487 | CG9: =SUM(BN9,BT9,BZ9) -> 223.68167 | CH9: =SUM(BO9,BU9,CA9) -> 188.12472 | CI9: =SUM(BP9,BV9,CB9) -> 0 | CJ9: =SUM(CC9) -> 0 | CK9: =SUM(CE9:CJ9) -> 2658.795 | CM9: 78.576553 | CN9: 82.184551 | CO9: 137.89685 | CR9: =SUM(CL9:CQ9) -> 298.65796 | CT9: 233.6837 | CU9: 185.71801 | CV9: 109.0214 | CY9: =SUM(CS9:CX9) -> 528.42311 | DA9: 45.879495 | DB9: 5.3347053 | DC9: 41.103893 | DF9: =SUM(CZ9:DE9) -> 92.318094 | DH9: 590.0126 | DI9: 285.52115 | DJ9: 143.15839 | DM9: =SUM(DG9:DL9) -> 1018.6921 | DN9: =SUM(CL9,CS9,CZ9,DG9) -> 0 | DO9: =SUM(CM9,CT9,DA9,DH9) -> 948.15235 | DP9: =SUM(CN9,CU9,DB9,DI9) -> 558.75841 | DQ9: =SUM(CO9,CV9,DC9,DJ9) -> 431.18053 | DR9: =SUM(CP9,CW9,DD9,DK9) -> 0 | DS9: =SUM(CQ9,CX9,DE9,DL9) -> 0 | DT9: =SUM(DN9:DS9) -> 1938.0913 | DU9: 128.08741 | DV9: 158.48857 | DW9: 89.712779 | DX9: 114.36706 | DZ9: =SUM(DU9:DY9) -> 490.65582 | EB9: 12.504373 | ED9: 8.5 | EF9: =SUM(EA9:EE9) -> 21.004373 | EG9: 56.401834 | EH9: 89.731599 | EJ9: 31.735793 | EL9: =SUM(EG9:EK9) -> 177.86923 | EM9: 164.2905 | EO9: 26.833781 | EP9: 4.5 | ER9: =SUM(EM9:EQ9) -> 195.62428 | ES9: 6.1967571 | ET9: 308.77271 | EU9: 174.46919 | EV9: 17.25 | EX9: =SUM(ES9:EW9) -> 506.68865 | EZ9: 213.63491 | FA9: 6.4800448 | FB9: 18.5 | FD9: =SUM(EY9:FC9) -> 238.61496 | FE9: 7.5958679 | FF9: 41.815549 | FG9: 27.737075 | FH9: 6 | FJ9: =SUM(FE9:FI9) -> 83.148492 | FK9: =SUM(DU9,EA9,EG9,EM9,ES9,EY9,FE9) -> 362.57236 | FL9: =SUM(DV9,EB9,EH9,EN9,ET9,EZ9,FF9) -> 824.94771 | FM9: =SUM(DW9,EC9,EI9,EO9,EU9,FA9,FG9) -> 325.23287 | FN9: =SUM(DX9,ED9,EJ9,EP9,EV9,FB9,FH9) -> 200.85285 | FO9: =SUM(DY9,EE9,EK9,EQ9,EW9,FC9,FI9) -> 0 | FP9: =SUM(FK9:FO9) -> 1713.6058 | FV9: =SUM(FQ9:FU9) -> 0 | GB9: =SUM(FW9:GA9) -> 0 | GH9: =SUM(GC9:GG9) -> 0 | GN9: =SUM(GI9:GM9) -> 0 | GP9: 527.45352 | GT9: =SUM(GO9:GS9) -> 527.45352 | GZ9: =SUM(GU9:GY9) -> 0 | HF9: =SUM(HA9:HE9) -> 0 | HL9: =SUM(HG9:HK9) -> 0 | HM9: =SUM(FQ9,FW9,GC9,GI9,GO9,GU9,HA9,HG9) -> 0 | HN9: =SUM(FR9,FX9,GD9,GJ9,GP9,GV9,HB9,HH9) -> 527.45352 | HO9: =SUM(HI9,HC9,GW9,GQ9,GK9,GE9,FY9,FS9) -> 0 | HP9: =SUM(HJ9,HD9,GX9,GR9,GL9,GF9,FZ9,FT9) -> 0 | HQ9: =SUM(HK9,HE9,GY9,GS9,GM9,GG9,GA9,FU9) -> 0 | HR9: =SUM(HM9:HQ9) -> 527.45352 | HX9: =SUM(HS9:HW9) -> 0 | ID9: =SUM(HY9:IC9) -> 0 | IE9: 163.04366 | IF9: 248.33919 | IG9: 14.380338 | IH9: 184.83872 | IJ9: =SUM(IE9:II9) -> 610.60191 | IK9: =SUM(HS9,HY9,IE9) -> 163.04366 | IL9: =SUM(HT9,HZ9,IF9) -> 248.33919 | IM9: =SUM(HU9,IA9,IG9) -> 14.380338 | IN9: =SUM(HV9,IB9,IH9) -> 184.83872 | IO9: =SUM(HW9,IC9,II9) -> 0 | IP9: =SUM(IK9:IO9) -> 610.60191 | IV9: =SUM(IQ9:IU9) -> 0 | JB9: =SUM(IW9:JA9) -> 0 | JH9: =SUM(JC9:JG9) -> 0 | JI9: =SUM(IQ9,IW9,JC9) -> 0 | JJ9: =SUM(IR9,IX9,JD9) -> 0 | JK9: =SUM(IS9,IY9,JE9) -> 0 | JL9: =SUM(IT9,IZ9,JF9) -> 0 | JM9: =SUM(IU9,JA9,JG9) -> 0 | JN9: =SUM(JI9:JM9) -> 0 | JP9: =SUM(T9,BE9,CE9,DN9,FK9,HM9,IK9,JI9) -> 2591.2105 | JQ9: =SUM(U9,BF9,CF9,DO9,FL9,HN9,IL9,JJ9) -> 4782.3872 | JR9: =SUM(V9,BG9,CG9,DP9,FM9,HO9,IM9,JK9) -> 1711.7628 | JS9: =SUM(W9,BH9,CH9,DQ9,FN9,HP9,IN9,JL9) -> 1274.17 | JT9: =SUM(X9,BI9,CI9,DR9,FO9,HQ9,IO9,JM9) -> 0 | JU9: =SUM(DS9,BJ9,CJ9) -> 0 | JV9: =SUM(JP9:JU9) -> 10359.531
A10: IBF = Fir engraver Beetle | G10: =SUM(B10:F10) -> 0 | M10: =SUM(H10:L10) -> 0 | S10: =SUM(N10:R10) -> 0 | T10: =SUM(B10,H10,N10) -> 0 | U10: =SUM(C10,I10,O10) -> 0 | V10: =SUM(D10,J10,P10) -> 0 | W10: =SUM(E10,K10,Q10) -> 0 | X10: =SUM(F10,L10,R10) -> 0 | Y10: =SUM(T10:X10) -> 0 | AE10: =SUM(Z10:AD10) -> 0 | AK10: =SUM(AF10:AJ10) -> 0 | AQ10: =SUM(AL10:AP10) -> 0 | AX10: =SUM(AR10:AW10) -> 0 | BD10: =SUM(AY10:BC10) -> 0 | BE10: =SUM(Z10,AF10,AL10,AR10,AY10) -> 0 | BF10: =SUM(AA10,AG10,AM10,AS10,AZ10) -> 0 | BG10: =SUM(AB10,AH10,AN10,AT10,BA10) -> 0 | BH10: =SUM(AC10,AI10,AO10,AU10,BB10) -> 0 | BI10: =SUM(AD10,AJ10,AP10,AV10,BC10) -> 0 | BJ10: =SUM(AW10) -> 0 | BK10: =SUM(BE10:BJ10) -> 0 | BQ10: =SUM(BL10:BP10) -> 0 | BW10: =SUM(BR10:BV10) -> 0 | CD10: =SUM(BX10:CC10) -> 0 | CE10: =SUM(BL10,BR10,BX10) -> 0 | CF10: =SUM(BM10,BS10,BY10) -> 0 | CG10: =SUM(BN10,BT10,BZ10) -> 0 | CH10: =SUM(BO10,BU10,CA10) -> 0 | CI10: =SUM(BP10,BV10,CB10) -> 0 | CJ10: =SUM(CC10) -> 0 | CK10: =SUM(CE10:CJ10) -> 0 | CR10: =SUM(CL10:CQ10) -> 0 | CY10: =SUM(CS10:CX10) -> 0 | DF10: =SUM(CZ10:DE10) -> 0 | DM10: =SUM(DG10:DL10) -> 0 | DN10: =SUM(CL10,CS10,CZ10,DG10) -> 0 | DO10: =SUM(CM10,CT10,DA10,DH10) -> 0 | DP10: =SUM(CN10,CU10,DB10,DI10) -> 0 | DQ10: =SUM(CO10,CV10,DC10,DJ10) -> 0 | DR10: =SUM(CP10,CW10,DD10,DK10) -> 0 | DS10: =SUM(CQ10,CX10,DE10,DL10) -> 0 | DT10: =SUM(DN10:DS10) -> 0 | DZ10: =SUM(DU10:DY10) -> 0 | EF10: =SUM(EA10:EE10) -> 0 | EL10: =SUM(EG10:EK10) -> 0 | ER10: =SUM(EM10:EQ10) -> 0 | EX10: =SUM(ES10:EW10) -> 0 | FD10: =SUM(EY10:FC10) -> 0 | FJ10: =SUM(FE10:FI10) -> 0 | FK10: =SUM(DU10,EA10,EG10,EM10,ES10,EY10,FE10) -> 0 | FL10: =SUM(DV10,EB10,EH10,EN10,ET10,EZ10,FF10) -> 0 | FM10: =SUM(DW10,EC10,EI10,EO10,EU10,FA10,FG10) -> 0 | FN10: =SUM(DX10,ED10,EJ10,EP10,EV10,FB10,FH10) -> 0 | FO10: =SUM(DY10,EE10,EK10,EQ10,EW10,FC10,FI10) -> 0 | FP10: =SUM(FK10:FO10) -> 0 | FV10: =SUM(FQ10:FU10) -> 0 | GB10: =SUM(FW10:GA10) -> 0 | GH10: =SUM(GC10:GG10) -> 0 | GN10: =SUM(GI10:GM10) -> 0 | GT10: =SUM(GO10:GS10) -> 0 | GZ10: =SUM(GU10:GY10) -> 0 | HF10: =SUM(HA10:HE10) -> 0 | HL10: =SUM(HG10:HK10) -> 0 | HM10: =SUM(FQ10,FW10,GC10,GI10,GO10,GU10,HA10,HG10) -> 0 | HN10: =SUM(FR10,FX10,GD10,GJ10,GP10,GV10,HB10,HH10) -> 0 | HO10: =SUM(HI10,HC10,GW10,GQ10,GK10,GE10,FY10,FS10) -> 0 | HP10: =SUM(HJ10,HD10,GX10,GR10,GL10,GF10,FZ10,FT10) -> 0 | HQ10: =SUM(HK10,HE10,GY10,GS10,GM10,GG10,GA10,FU10) -> 0 | HR10: =SUM(HM10:HQ10) -> 0 | HX10: =SUM(HS10:HW10) -> 0 | ID10: =SUM(HY10:IC10) -> 0 | IJ10: =SUM(IE10:II10) -> 0 | IK10: =SUM(HS10,HY10,IE10) -> 0 | IL10: =SUM(HT10,HZ10,IF10) -> 0 | IM10: =SUM(HU10,IA10,IG10) -> 0 | IN10: =SUM(HV10,IB10,IH10) -> 0 | IO10: =SUM(HW10,IC10,II10) -> 0 | IP10: =SUM(IK10:IO10) -> 0 | IV10: =SUM(IQ10:IU10) -> 0 | JB10: =SUM(IW10:JA10) -> 0 | JH10: =SUM(JC10:JG10) -> 0 | JI10: =SUM(IQ10,IW10,JC10) -> 0 | JJ10: =SUM(IR10,IX10,JD10) -> 0 | JK10: =SUM(IS10,IY10,JE10) -> 0 | JL10: =SUM(IT10,IZ10,JF10) -> 0 | JM10: =SUM(IU10,JA10,JG10) -> 0 | JN10: =SUM(JI10:JM10) -> 0 | JP10: =SUM(T10,BE10,CE10,DN10,FK10,HM10,IK10,JI10) -> 0 | JQ10: =SUM(U10,BF10,CF10,DO10,FL10,HN10,IL10,JJ10) -> 0 | JR10: =SUM(V10,BG10,CG10,DP10,FM10,HO10,IM10,JK10) -> 0 | JS10: =SUM(W10,BH10,CH10,DQ10,FN10,HP10,IN10,JL10) -> 0 | JT10: =SUM(X10,BI10,CI10,DR10,FO10,HQ10,IO10,JM10) -> 0 | JU10: =SUM(DS10,BJ10,CJ10) -> 0 | JV10: =SUM(JP10:JU10) -> 0
A11: IBP = Twig Beetle | G11: =SUM(B11:F11) -> 0 | M11: =SUM(H11:L11) -> 0 | S11: =SUM(N11:R11) -> 0 | T11: =SUM(B11,H11,N11) -> 0 | U11: =SUM(C11,I11,O11) -> 0 | V11: =SUM(D11,J11,P11) -> 0 | W11: =SUM(E11,K11,Q11) -> 0 | X11: =SUM(F11,L11,R11) -> 0 | Y11: =SUM(T11:X11) -> 0 | AE11: =SUM(Z11:AD11) -> 0 | AK11: =SUM(AF11:AJ11) -> 0 | AQ11: =SUM(AL11:AP11) -> 0 | AX11: =SUM(AR11:AW11) -> 0 | BD11: =SUM(AY11:BC11) -> 0 | BE11: =SUM(Z11,AF11,AL11,AR11,AY11) -> 0 | BF11: =SUM(AA11,AG11,AM11,AS11,AZ11) -> 0 | BG11: =SUM(AB11,AH11,AN11,AT11,BA11) -> 0 | BH11: =SUM(AC11,AI11,AO11,AU11,BB11) -> 0 | BI11: =SUM(AD11,AJ11,AP11,AV11,BC11) -> 0 | BJ11: =SUM(AW11) -> 0 | BK11: =SUM(BE11:BJ11) -> 0 | BQ11: =SUM(BL11:BP11) -> 0 | BW11: =SUM(BR11:BV11) -> 0 | CD11: =SUM(BX11:CC11) -> 0 | CE11: =SUM(BL11,BR11,BX11) -> 0 | CF11: =SUM(BM11,BS11,BY11) -> 0 | CG11: =SUM(BN11,BT11,BZ11) -> 0 | CH11: =SUM(BO11,BU11,CA11) -> 0 | CI11: =SUM(BP11,BV11,CB11) -> 0 | CJ11: =SUM(CC11) -> 0 | CK11: =SUM(CE11:CJ11) -> 0 | CR11: =SUM(CL11:CQ11) -> 0 | CY11: =SUM(CS11:CX11) -> 0 | DF11: =SUM(CZ11:DE11) -> 0 | DM11: =SUM(DG11:DL11) -> 0 | DN11: =SUM(CL11,CS11,CZ11,DG11) -> 0 | DO11: =SUM(CM11,CT11,DA11,DH11) -> 0 | DP11: =SUM(CN11,CU11,DB11,DI11) -> 0 | DQ11: =SUM(CO11,CV11,DC11,DJ11) -> 0 | DR11: =SUM(CP11,CW11,DD11,DK11) -> 0 | DS11: =SUM(CQ11,CX11,DE11,DL11) -> 0 | DT11: =SUM(DN11:DS11) -> 0 | DZ11: =SUM(DU11:DY11) -> 0 | EF11: =SUM(EA11:EE11) -> 0 | EL11: =SUM(EG11:EK11) -> 0 | ER11: =SUM(EM11:EQ11) -> 0 | EX11: =SUM(ES11:EW11) -> 0 | FD11: =SUM(EY11:FC11) -> 0 | FJ11: =SUM(FE11:FI11) -> 0 | FK11: =SUM(DU11,EA11,EG11,EM11,ES11,EY11,FE11) -> 0 | FL11: =SUM(DV11,EB11,EH11,EN11,ET11,EZ11,FF11) -> 0 | FM11: =SUM(DW11,EC11,EI11,EO11,EU11,FA11,FG11) -> 0 | FN11: =SUM(DX11,ED11,EJ11,EP11,EV11,FB11,FH11) -> 0 | FO11: =SUM(DY11,EE11,EK11,EQ11,EW11,FC11,FI11) -> 0 | FP11: =SUM(FK11:FO11) -> 0 | FV11: =SUM(FQ11:FU11) -> 0 | GB11: =SUM(FW11:GA11) -> 0 | GH11: =SUM(GC11:GG11) -> 0 | GN11: =SUM(GI11:GM11) -> 0 | GT11: =SUM(GO11:GS11) -> 0 | GZ11: =SUM(GU11:GY11) -> 0 | HF11: =SUM(HA11:HE11) -> 0 | HL11: =SUM(HG11:HK11) -> 0 | HM11: =SUM(FQ11,FW11,GC11,GI11,GO11,GU11,HA11,HG11) -> 0 | HN11: =SUM(FR11,FX11,GD11,GJ11,GP11,GV11,HB11,HH11) -> 0 | HO11: =SUM(HI11,HC11,GW11,GQ11,GK11,GE11,FY11,FS11) -> 0 | HP11: =SUM(HJ11,HD11,GX11,GR11,GL11,GF11,FZ11,FT11) -> 0 | HQ11: =SUM(HK11,HE11,GY11,GS11,GM11,GG11,GA11,FU11) -> 0 | HR11: =SUM(HM11:HQ11) -> 0 | HX11: =SUM(HS11:HW11) -> 0 | ID11: =SUM(HY11:IC11) -> 0 | IJ11: =SUM(IE11:II11) -> 0 | IK11: =SUM(HS11,HY11,IE11) -> 0 | IL11: =SUM(HT11,HZ11,IF11) -> 0 | IM11: =SUM(HU11,IA11,IG11) -> 0 | IN11: =SUM(HV11,IB11,IH11) -> 0 | IO11: =SUM(HW11,IC11,II11) -> 0 | IP11: =SUM(IK11:IO11) -> 0 | IV11: =SUM(IQ11:IU11) -> 0 | JB11: =SUM(IW11:JA11) -> 0 | JH11: =SUM(JC11:JG11) -> 0 | JI11: =SUM(IQ11,IW11,JC11) -> 0 | JJ11: =SUM(IR11,IX11,JD11) -> 0 | JK11: =SUM(IS11,IY11,JE11) -> 0 | JL11: =SUM(IT11,IZ11,JF11) -> 0 | JM11: =SUM(IU11,JA11,JG11) -> 0 | JN11: =SUM(JI11:JM11) -> 0 | JP11: =SUM(T11,BE11,CE11,DN11,FK11,HM11,IK11,JI11) -> 0 | JQ11: =SUM(U11,BF11,CF11,DO11,FL11,HN11,IL11,JJ11) -> 0 | JR11: =SUM(V11,BG11,CG11,DP11,FM11,HO11,IM11,JK11) -> 0 | JS11: =SUM(W11,BH11,CH11,DQ11,FN11,HP11,IN11,JL11) -> 0 | JT11: =SUM(X11,BI11,CI11,DR11,FO11,HQ11,IO11,JM11) -> 0 | JU11: =SUM(DS11,BJ11,CJ11) -> 0 | JV11: =SUM(JP11:JU11) -> 0
A12: IBI=Engraver Beetle (Ips species) | G12: =SUM(B12:F12) -> 0 | M12: =SUM(H12:L12) -> 0 | S12: =SUM(N12:R12) -> 0 | T12: =SUM(B12,H12,N12) -> 0 | U12: =SUM(C12,I12,O12) -> 0 | V12: =SUM(D12,J12,P12) -> 0 | W12: =SUM(E12,K12,Q12) -> 0 | X12: =SUM(F12,L12,R12) -> 0 | Y12: =SUM(T12:X12) -> 0 | AE12: =SUM(Z12:AD12) -> 0 | AK12: =SUM(AF12:AJ12) -> 0 | AQ12: =SUM(AL12:AP12) -> 0 | AX12: =SUM(AR12:AW12) -> 0 | BD12: =SUM(AY12:BC12) -> 0 | BE12: =SUM(Z12,AF12,AL12,AR12,AY12) -> 0 | BF12: =SUM(AA12,AG12,AM12,AS12,AZ12) -> 0 | BG12: =SUM(AB12,AH12,AN12,AT12,BA12) -> 0 | BH12: =SUM(AC12,AI12,AO12,AU12,BB12) -> 0 | BI12: =SUM(AD12,AJ12,AP12,AV12,BC12) -> 0 | BJ12: =SUM(AW12) -> 0 | BK12: =SUM(BE12:BJ12) -> 0 | BQ12: =SUM(BL12:BP12) -> 0 | BW12: =SUM(BR12:BV12) -> 0 | BX12: 14.296985 | BY12: 7.7230754 | CA12: 1.5 | CD12: =SUM(BX12:CC12) -> 23.52006 | CE12: =SUM(BL12,BR12,BX12) -> 14.296985 | CF12: =SUM(BM12,BS12,BY12) -> 7.7230754 | CG12: =SUM(BN12,BT12,BZ12) -> 0 | CH12: =SUM(BO12,BU12,CA12) -> 1.5 | CI12: =SUM(BP12,BV12,CB12) -> 0 | CJ12: =SUM(CC12) -> 0 | CK12: =SUM(CE12:CJ12) -> 23.52006 | CR12: =SUM(CL12:CQ12) -> 0 | CY12: =SUM(CS12:CX12) -> 0 | DF12: =SUM(CZ12:DE12) -> 0 | DH12: 4.4361969 | DM12: =SUM(DG12:DL12) -> 4.4361969 | DN12: =SUM(CL12,CS12,CZ12,DG12) -> 0 | DO12: =SUM(CM12,CT12,DA12,DH12) -> 4.4361969 | DP12: =SUM(CN12,CU12,DB12,DI12) -> 0 | DQ12: =SUM(CO12,CV12,DC12,DJ12) -> 0 | DR12: =SUM(CP12,CW12,DD12,DK12) -> 0 | DS12: =SUM(CQ12,CX12,DE12,DL12) -> 0 | DT12: =SUM(DN12:DS12) -> 4.4361969 | DZ12: =SUM(DU12:DY12) -> 0 | EF12: =SUM(EA12:EE12) -> 0 | EL12: =SUM(EG12:EK12) -> 0 | ER12: =SUM(EM12:EQ12) -> 0 | EX12: =SUM(ES12:EW12) -> 0 | FD12: =SUM(EY12:FC12) -> 0 | FJ12: =SUM(FE12:FI12) -> 0 | FK12: =SUM(DU12,EA12,EG12,EM12,ES12,EY12,FE12) -> 0 | FL12: =SUM(DV12,EB12,EH12,EN12,ET12,EZ12,FF12) -> 0 | FM12: =SUM(DW12,EC12,EI12,EO12,EU12,FA12,FG12) -> 0 | FN12: =SUM(DX12,ED12,EJ12,EP12,EV12,FB12,FH12) -> 0 | FO12: =SUM(DY12,EE12,EK12,EQ12,EW12,FC12,FI12) -> 0 | FP12: =SUM(FK12:FO12) -> 0 | FV12: =SUM(FQ12:FU12) -> 0 | GB12: =SUM(FW12:GA12) -> 0 | GH12: =SUM(GC12:GG12) -> 0 | GN12: =SUM(GI12:GM12) -> 0 | GT12: =SUM(GO12:GS12) -> 0 | GZ12: =SUM(GU12:GY12) -> 0 | HF12: =SUM(HA12:HE12) -> 0 | HL12: =SUM(HG12:HK12) -> 0 | HM12: =SUM(FQ12,FW12,GC12,GI12,GO12,GU12,HA12,HG12) -> 0 | HN12: =SUM(FR12,FX12,GD12,GJ12,GP12,GV12,HB12,HH12) -> 0 | HO12: =SUM(HI12,HC12,GW12,GQ12,GK12,GE12,FY12,FS12) -> 0 | HP12: =SUM(HJ12,HD12,GX12,GR12,GL12,GF12,FZ12,FT12) -> 0 | HQ12: =SUM(HK12,HE12,GY12,GS12,GM12,GG12,GA12,FU12) -> 0 | HR12: =SUM(HM12:HQ12) -> 0 | HX12: =SUM(HS12:HW12) -> 0 | ID12: =SUM(HY12:IC12) -> 0 | IJ12: =SUM(IE12:II12) -> 0 | IK12: =SUM(HS12,HY12,IE12) -> 0 | IL12: =SUM(HT12,HZ12,IF12) -> 0 | IM12: =SUM(HU12,IA12,IG12) -> 0 | IN12: =SUM(HV12,IB12,IH12) -> 0 | IO12: =SUM(HW12,IC12,II12) -> 0 | IP12: =SUM(IK12:IO12) -> 0 | IV12: =SUM(IQ12:IU12) -> 0 | JB12: =SUM(IW12:JA12) -> 0 | JH12: =SUM(JC12:JG12) -> 0 | JI12: =SUM(IQ12,IW12,JC12) -> 0 | JJ12: =SUM(IR12,IX12,JD12) -> 0 | JK12: =SUM(IS12,IY12,JE12) -> 0 | JL12: =SUM(IT12,IZ12,JF12) -> 0 | JM12: =SUM(IU12,JA12,JG12) -> 0 | JN12: =SUM(JI12:JM12) -> 0 | JP12: =SUM(T12,BE12,CE12,DN12,FK12,HM12,IK12,JI12) -> 14.296985 | JQ12: =SUM(U12,BF12,CF12,DO12,FL12,HN12,IL12,JJ12) -> 12.159272 | JR12: =SUM(V12,BG12,CG12,DP12,FM12,HO12,IM12,JK12) -> 0 | JS12: =SUM(W12,BH12,CH12,DQ12,FN12,HP12,IN12,JL12) -> 1.5 | JT12: =SUM(X12,BI12,CI12,DR12,FO12,HQ12,IO12,JM12) -> 0 | JU12: =SUM(DS12,BJ12,CJ12) -> 0 | JV12: =SUM(JP12:JU12) -> 27.956257
A13: IBW=Western Pine Beetle | G13: =SUM(B13:F13) -> 0 | M13: =SUM(H13:L13) -> 0 | S13: =SUM(N13:R13) -> 0 | T13: =SUM(B13,H13,N13) -> 0 | U13: =SUM(C13,I13,O13) -> 0 | V13: =SUM(D13,J13,P13) -> 0 | W13: =SUM(E13,K13,Q13) -> 0 | X13: =SUM(F13,L13,R13) -> 0 | Y13: =SUM(T13:X13) -> 0 | AE13: =SUM(Z13:AD13) -> 0 | AK13: =SUM(AF13:AJ13) -> 0 | AQ13: =SUM(AL13:AP13) -> 0 | AX13: =SUM(AR13:AW13) -> 0 | BD13: =SUM(AY13:BC13) -> 0 | BE13: =SUM(Z13,AF13,AL13,AR13,AY13) -> 0 | BF13: =SUM(AA13,AG13,AM13,AS13,AZ13) -> 0 | BG13: =SUM(AB13,AH13,AN13,AT13,BA13) -> 0 | BH13: =SUM(AC13,AI13,AO13,AU13,BB13) -> 0 | BI13: =SUM(AD13,AJ13,AP13,AV13,BC13) -> 0 | BJ13: =SUM(AW13) -> 0 | BK13: =SUM(BE13:BJ13) -> 0 | BQ13: =SUM(BL13:BP13) -> 0 | BW13: =SUM(BR13:BV13) -> 0 | CD13: =SUM(BX13:CC13) -> 0 | CE13: =SUM(BL13,BR13,BX13) -> 0 | CF13: =SUM(BM13,BS13,BY13) -> 0 | CG13: =SUM(BN13,BT13,BZ13) -> 0 | CH13: =SUM(BO13,BU13,CA13) -> 0 | CI13: =SUM(BP13,BV13,CB13) -> 0 | CJ13: =SUM(CC13) -> 0 | CK13: =SUM(CE13:CJ13) -> 0 | CR13: =SUM(CL13:CQ13) -> 0 | CY13: =SUM(CS13:CX13) -> 0 | DF13: =SUM(CZ13:DE13) -> 0 | DM13: =SUM(DG13:DL13) -> 0 | DN13: =SUM(CL13,CS13,CZ13,DG13) -> 0 | DO13: =SUM(CM13,CT13,DA13,DH13) -> 0 | DP13: =SUM(CN13,CU13,DB13,DI13) -> 0 | DQ13: =SUM(CO13,CV13,DC13,DJ13) -> 0 | DR13: =SUM(CP13,CW13,DD13,DK13) -> 0 | DS13: =SUM(CQ13,CX13,DE13,DL13) -> 0 | DT13: =SUM(DN13:DS13) -> 0 | DZ13: =SUM(DU13:DY13) -> 0 | EF13: =SUM(EA13:EE13) -> 0 | EL13: =SUM(EG13:EK13) -> 0 | ER13: =SUM(EM13:EQ13) -> 0 | EX13: =SUM(ES13:EW13) -> 0 | FD13: =SUM(EY13:FC13) -> 0 | FJ13: =SUM(FE13:FI13) -> 0 | FK13: =SUM(DU13,EA13,EG13,EM13,ES13,EY13,FE13) -> 0 | FL13: =SUM(DV13,EB13,EH13,EN13,ET13,EZ13,FF13) -> 0 | FM13: =SUM(DW13,EC13,EI13,EO13,EU13,FA13,FG13) -> 0 | FN13: =SUM(DX13,ED13,EJ13,EP13,EV13,FB13,FH13) -> 0 | FO13: =SUM(DY13,EE13,EK13,EQ13,EW13,FC13,FI13) -> 0 | FP13: =SUM(FK13:FO13) -> 0 | FV13: =SUM(FQ13:FU13) -> 0 | GB13: =SUM(FW13:GA13) -> 0 | GH13: =SUM(GC13:GG13) -> 0 | GN13: =SUM(GI13:GM13) -> 0 | GT13: =SUM(GO13:GS13) -> 0 | GZ13: =SUM(GU13:GY13) -> 0 | HF13: =SUM(HA13:HE13) -> 0 | HL13: =SUM(HG13:HK13) -> 0 | HM13: =SUM(FQ13,FW13,GC13,GI13,GO13,GU13,HA13,HG13) -> 0 | HN13: =SUM(FR13,FX13,GD13,GJ13,GP13,GV13,HB13,HH13) -> 0 | HO13: =SUM(HI13,HC13,GW13,GQ13,GK13,GE13,FY13,FS13) -> 0 | HP13: =SUM(HJ13,HD13,GX13,GR13,GL13,GF13,FZ13,FT13) -> 0 | HQ13: =SUM(HK13,HE13,GY13,GS13,GM13,GG13,GA13,FU13) -> 0 | HR13: =SUM(HM13:HQ13) -> 0 | HX13: =SUM(HS13:HW13) -> 0 | ID13: =SUM(HY13:IC13) -> 0 | IJ13: =SUM(IE13:II13) -> 0 | IK13: =SUM(HS13,HY13,IE13) -> 0 | IL13: =SUM(HT13,HZ13,IF13) -> 0 | IM13: =SUM(HU13,IA13,IG13) -> 0 | IN13: =SUM(HV13,IB13,IH13) -> 0 | IO13: =SUM(HW13,IC13,II13) -> 0 | IP13: =SUM(IK13:IO13) -> 0 | IV13: =SUM(IQ13:IU13) -> 0 | JB13: =SUM(IW13:JA13) -> 0 | JH13: =SUM(JC13:JG13) -> 0 | JI13: =SUM(IQ13,IW13,JC13) -> 0 | JJ13: =SUM(IR13,IX13,JD13) -> 0 | JK13: =SUM(IS13,IY13,JE13) -> 0 | JL13: =SUM(IT13,IZ13,JF13) -> 0 | JM13: =SUM(IU13,JA13,JG13) -> 0 | JN13: =SUM(JI13:JM13) -> 0 | JP13: =SUM(T13,BE13,CE13,DN13,FK13,HM13,IK13,JI13) -> 0 | JQ13: =SUM(U13,BF13,CF13,DO13,FL13,HN13,IL13,JJ13) -> 0 | JR13: =SUM(V13,BG13,CG13,DP13,FM13,HO13,IM13,JK13) -> 0 | JS13: =SUM(W13,BH13,CH13,DQ13,FN13,HP13,IN13,JL13) -> 0 | JT13: =SUM(X13,BI13,CI13,DR13,FO13,HQ13,IO13,JM13) -> 0 | JU13: =SUM(DS13,BJ13,CJ13) -> 0 | JV13: =SUM(JP13:JU13) -> 0
A14: IBL=Lodgepole Pine Beetle | G14: =SUM(B14:F14) -> 0 | M14: =SUM(H14:L14) -> 0 | S14: =SUM(N14:R14) -> 0 | T14: =SUM(B14,H14,N14) -> 0 | U14: =SUM(C14,I14,O14) -> 0 | V14: =SUM(D14,J14,P14) -> 0 | W14: =SUM(E14,K14,Q14) -> 0 | X14: =SUM(F14,L14,R14) -> 0 | Y14: =SUM(T14:X14) -> 0 | AE14: =SUM(Z14:AD14) -> 0 | AK14: =SUM(AF14:AJ14) -> 0 | AQ14: =SUM(AL14:AP14) -> 0 | AX14: =SUM(AR14:AW14) -> 0 | BD14: =SUM(AY14:BC14) -> 0 | BE14: =SUM(Z14,AF14,AL14,AR14,AY14) -> 0 | BF14: =SUM(AA14,AG14,AM14,AS14,AZ14) -> 0 | BG14: =SUM(AB14,AH14,AN14,AT14,BA14) -> 0 | BH14: =SUM(AC14,AI14,AO14,AU14,BB14) -> 0 | BI14: =SUM(AD14,AJ14,AP14,AV14,BC14) -> 0 | BJ14: =SUM(AW14) -> 0 | BK14: =SUM(BE14:BJ14) -> 0 | BQ14: =SUM(BL14:BP14) -> 0 | BW14: =SUM(BR14:BV14) -> 0 | CD14: =SUM(BX14:CC14) -> 0 | CE14: =SUM(BL14,BR14,BX14) -> 0 | CF14: =SUM(BM14,BS14,BY14) -> 0 | CG14: =SUM(BN14,BT14,BZ14) -> 0 | CH14: =SUM(BO14,BU14,CA14) -> 0 | CI14: =SUM(BP14,BV14,CB14) -> 0 | CJ14: =SUM(CC14) -> 0 | CK14: =SUM(CE14:CJ14) -> 0 | CR14: =SUM(CL14:CQ14) -> 0 | CY14: =SUM(CS14:CX14) -> 0 | DF14: =SUM(CZ14:DE14) -> 0 | DM14: =SUM(DG14:DL14) -> 0 | DN14: =SUM(CL14,CS14,CZ14,DG14) -> 0 | DO14: =SUM(CM14,CT14,DA14,DH14) -> 0 | DP14: =SUM(CN14,CU14,DB14,DI14) -> 0 | DQ14: =SUM(CO14,CV14,DC14,DJ14) -> 0 | DR14: =SUM(CP14,CW14,DD14,DK14) -> 0 | DS14: =SUM(CQ14,CX14,DE14,DL14) -> 0 | DT14: =SUM(DN14:DS14) -> 0 | DZ14: =SUM(DU14:DY14) -> 0 | EF14: =SUM(EA14:EE14) -> 0 | EL14: =SUM(EG14:EK14) -> 0 | ER14: =SUM(EM14:EQ14) -> 0 | EX14: =SUM(ES14:EW14) -> 0 | FD14: =SUM(EY14:FC14) -> 0 | FJ14: =SUM(FE14:FI14) -> 0 | FK14: =SUM(DU14,EA14,EG14,EM14,ES14,EY14,FE14) -> 0 | FL14: =SUM(DV14,EB14,EH14,EN14,ET14,EZ14,FF14) -> 0 | FM14: =SUM(DW14,EC14,EI14,EO14,EU14,FA14,FG14) -> 0 | FN14: =SUM(DX14,ED14,EJ14,EP14,EV14,FB14,FH14) -> 0 | FO14: =SUM(DY14,EE14,EK14,EQ14,EW14,FC14,FI14) -> 0 | FP14: =SUM(FK14:FO14) -> 0 | FV14: =SUM(FQ14:FU14) -> 0 | FZ14: 1.25 | GB14: =SUM(FW14:GA14) -> 1.25 | GH14: =SUM(GC14:GG14) -> 0 | GN14: =SUM(GI14:GM14) -> 0 | GT14: =SUM(GO14:GS14) -> 0 | GZ14: =SUM(GU14:GY14) -> 0 | HF14: =SUM(HA14:HE14) -> 0 | HL14: =SUM(HG14:HK14) -> 0 | HM14: =SUM(FQ14,FW14,GC14,GI14,GO14,GU14,HA14,HG14) -> 0 | HN14: =SUM(FR14,FX14,GD14,GJ14,GP14,GV14,HB14,HH14) -> 0 | HO14: =SUM(HI14,HC14,GW14,GQ14,GK14,GE14,FY14,FS14) -> 0 | HP14: =SUM(HJ14,HD14,GX14,GR14,GL14,GF14,FZ14,FT14) -> 1.25 | HQ14: =SUM(HK14,HE14,GY14,GS14,GM14,GG14,GA14,FU14) -> 0 | HR14: =SUM(HM14:HQ14) -> 1.25 | HX14: =SUM(HS14:HW14) -> 0 | ID14: =SUM(HY14:IC14) -> 0 | IJ14: =SUM(IE14:II14) -> 0 | IK14: =SUM(HS14,HY14,IE14) -> 0 | IL14: =SUM(HT14,HZ14,IF14) -> 0 | IM14: =SUM(HU14,IA14,IG14) -> 0 | IN14: =SUM(HV14,IB14,IH14) -> 0 | IO14: =SUM(HW14,IC14,II14) -> 0 | IP14: =SUM(IK14:IO14) -> 0 | IV14: =SUM(IQ14:IU14) -> 0 | IZ14: 2.75 | JB14: =SUM(IW14:JA14) -> 2.75 | JH14: =SUM(JC14:JG14) -> 0 | JI14: =SUM(IQ14,IW14,JC14) -> 0 | JJ14: =SUM(IR14,IX14,JD14) -> 0 | JK14: =SUM(IS14,IY14,JE14) -> 0 | JL14: =SUM(IT14,IZ14,JF14) -> 2.75 | JM14: =SUM(IU14,JA14,JG14) -> 0 | JN14: =SUM(JI14:JM14) -> 2.75 | JP14: =SUM(T14,BE14,CE14,DN14,FK14,HM14,IK14,JI14) -> 0 | JQ14: =SUM(U14,BF14,CF14,DO14,FL14,HN14,IL14,JJ14) -> 0 | JR14: =SUM(V14,BG14,CG14,DP14,FM14,HO14,IM14,JK14) -> 0 | JS14: =SUM(W14,BH14,CH14,DQ14,FN14,HP14,IN14,JL14) -> 4 | JT14: =SUM(X14,BI14,CI14,DR14,FO14,HQ14,IO14,JM14) -> 0 | JU14: =SUM(DS14,BJ14,CJ14) -> 0 | JV14: =SUM(JP14:JU14) -> 4
A15: IBT=Red Turpentine Beetle | G15: =SUM(B15:F15) -> 0 | M15: =SUM(H15:L15) -> 0 | S15: =SUM(N15:R15) -> 0 | T15: =SUM(B15,H15,N15) -> 0 | U15: =SUM(C15,I15,O15) -> 0 | V15: =SUM(D15,J15,P15) -> 0 | W15: =SUM(E15,K15,Q15) -> 0 | X15: =SUM(F15,L15,R15) -> 0 | Y15: =SUM(T15:X15) -> 0 | AE15: =SUM(Z15:AD15) -> 0 | AK15: =SUM(AF15:AJ15) -> 0 | AQ15: =SUM(AL15:AP15) -> 0 | AX15: =SUM(AR15:AW15) -> 0 | BD15: =SUM(AY15:BC15) -> 0 | BE15: =SUM(Z15,AF15,AL15,AR15,AY15) -> 0 | BF15: =SUM(AA15,AG15,AM15,AS15,AZ15) -> 0 | BG15: =SUM(AB15,AH15,AN15,AT15,BA15) -> 0 | BH15: =SUM(AC15,AI15,AO15,AU15,BB15) -> 0 | BI15: =SUM(AD15,AJ15,AP15,AV15,BC15) -> 0 | BJ15: =SUM(AW15) -> 0 | BK15: =SUM(BE15:BJ15) -> 0 | BQ15: =SUM(BL15:BP15) -> 0 | BW15: =SUM(BR15:BV15) -> 0 | CD15: =SUM(BX15:CC15) -> 0 | CE15: =SUM(BL15,BR15,BX15) -> 0 | CF15: =SUM(BM15,BS15,BY15) -> 0 | CG15: =SUM(BN15,BT15,BZ15) -> 0 | CH15: =SUM(BO15,BU15,CA15) -> 0 | CI15: =SUM(BP15,BV15,CB15) -> 0 | CJ15: =SUM(CC15) -> 0 | CK15: =SUM(CE15:CJ15) -> 0 | CR15: =SUM(CL15:CQ15) -> 0 | CY15: =SUM(CS15:CX15) -> 0 | DF15: =SUM(CZ15:DE15) -> 0 | DM15: =SUM(DG15:DL15) -> 0 | DN15: =SUM(CL15,CS15,CZ15,DG15) -> 0 | DO15: =SUM(CM15,CT15,DA15,DH15) -> 0 | DP15: =SUM(CN15,CU15,DB15,DI15) -> 0 | DQ15: =SUM(CO15,CV15,DC15,DJ15) -> 0 | DR15: =SUM(CP15,CW15,DD15,DK15) -> 0 | DS15: =SUM(CQ15,CX15,DE15,DL15) -> 0 | DT15: =SUM(DN15:DS15) -> 0 | DZ15: =SUM(DU15:DY15) -> 0 | EF15: =SUM(EA15:EE15) -> 0 | EL15: =SUM(EG15:EK15) -> 0 | ER15: =SUM(EM15:EQ15) -> 0 | EX15: =SUM(ES15:EW15) -> 0 | FD15: =SUM(EY15:FC15) -> 0 | FJ15: =SUM(FE15:FI15) -> 0 | FK15: =SUM(DU15,EA15,EG15,EM15,ES15,EY15,FE15) -> 0 | FL15: =SUM(DV15,EB15,EH15,EN15,ET15,EZ15,FF15) -> 0 | FM15: =SUM(DW15,EC15,EI15,EO15,EU15,FA15,FG15) -> 0 | FN15: =SUM(DX15,ED15,EJ15,EP15,EV15,FB15,FH15) -> 0 | FO15: =SUM(DY15,EE15,EK15,EQ15,EW15,FC15,FI15) -> 0 | FP15: =SUM(FK15:FO15) -> 0 | FV15: =SUM(FQ15:FU15) -> 0 | GB15: =SUM(FW15:GA15) -> 0 | GH15: =SUM(GC15:GG15) -> 0 | GN15: =SUM(GI15:GM15) -> 0 | GT15: =SUM(GO15:GS15) -> 0 | GZ15: =SUM(GU15:GY15) -> 0 | HF15: =SUM(HA15:HE15) -> 0 | HL15: =SUM(HG15:HK15) -> 0 | HM15: =SUM(FQ15,FW15,GC15,GI15,GO15,GU15,HA15,HG15) -> 0 | HN15: =SUM(FR15,FX15,GD15,GJ15,GP15,GV15,HB15,HH15) -> 0 | HO15: =SUM(HI15,HC15,GW15,GQ15,GK15,GE15,FY15,FS15) -> 0 | HP15: =SUM(HJ15,HD15,GX15,GR15,GL15,GF15,FZ15,FT15) -> 0 | HQ15: =SUM(HK15,HE15,GY15,GS15,GM15,GG15,GA15,FU15) -> 0 | HR15: =SUM(HM15:HQ15) -> 0 | HX15: =SUM(HS15:HW15) -> 0 | ID15: =SUM(HY15:IC15) -> 0 | IJ15: =SUM(IE15:II15) -> 0 | IK15: =SUM(HS15,HY15,IE15) -> 0 | IL15: =SUM(HT15,HZ15,IF15) -> 0 | IM15: =SUM(HU15,IA15,IG15) -> 0 | IN15: =SUM(HV15,IB15,IH15) -> 0 | IO15: =SUM(HW15,IC15,II15) -> 0 | IP15: =SUM(IK15:IO15) -> 0 | IV15: =SUM(IQ15:IU15) -> 0 | JB15: =SUM(IW15:JA15) -> 0 | JH15: =SUM(JC15:JG15) -> 0 | JI15: =SUM(IQ15,IW15,JC15) -> 0 | JJ15: =SUM(IR15,IX15,JD15) -> 0 | JK15: =SUM(IS15,IY15,JE15) -> 0 | JL15: =SUM(IT15,IZ15,JF15) -> 0 | JM15: =SUM(IU15,JA15,JG15) -> 0 | JN15: =SUM(JI15:JM15) -> 0 | JP15: =SUM(T15,BE15,CE15,DN15,FK15,HM15,IK15,JI15) -> 0 | JQ15: =SUM(U15,BF15,CF15,DO15,FL15,HN15,IL15,JJ15) -> 0 | JR15: =SUM(V15,BG15,CG15,DP15,FM15,HO15,IM15,JK15) -> 0 | JS15: =SUM(W15,BH15,CH15,DQ15,FN15,HP15,IN15,JL15) -> 0 | JT15: =SUM(X15,BI15,CI15,DR15,FO15,HQ15,IO15,JM15) -> 0 | JU15: =SUM(DS15,BJ15,CJ15) -> 0 | JV15: =SUM(JP15:JU15) -> 0
A16: I?B=Young pine mortality unknown | G16: =SUM(B16:F16) -> 0 | M16: =SUM(H16:L16) -> 0 | S16: =SUM(N16:R16) -> 0 | T16: =SUM(B16,H16,N16) -> 0 | U16: =SUM(C16,I16,O16) -> 0 | V16: =SUM(D16,J16,P16) -> 0 | W16: =SUM(E16,K16,Q16) -> 0 | X16: =SUM(F16,L16,R16) -> 0 | Y16: =SUM(T16:X16) -> 0 | AE16: =SUM(Z16:AD16) -> 0 | AK16: =SUM(AF16:AJ16) -> 0 | AQ16: =SUM(AL16:AP16) -> 0 | AX16: =SUM(AR16:AW16) -> 0 | BD16: =SUM(AY16:BC16) -> 0 | BE16: =SUM(Z16,AF16,AL16,AR16,AY16) -> 0 | BF16: =SUM(AA16,AG16,AM16,AS16,AZ16) -> 0 | BG16: =SUM(AB16,AH16,AN16,AT16,BA16) -> 0 | BH16: =SUM(AC16,AI16,AO16,AU16,BB16) -> 0 | BI16: =SUM(AD16,AJ16,AP16,AV16,BC16) -> 0 | BJ16: =SUM(AW16) -> 0 | BK16: =SUM(BE16:BJ16) -> 0 | BQ16: =SUM(BL16:BP16) -> 0 | BW16: =SUM(BR16:BV16) -> 0 | CD16: =SUM(BX16:CC16) -> 0 | CE16: =SUM(BL16,BR16,BX16) -> 0 | CF16: =SUM(BM16,BS16,BY16) -> 0 | CG16: =SUM(BN16,BT16,BZ16) -> 0 | CH16: =SUM(BO16,BU16,CA16) -> 0 | CI16: =SUM(BP16,BV16,CB16) -> 0 | CJ16: =SUM(CC16) -> 0 | CK16: =SUM(CE16:CJ16) -> 0 | CR16: =SUM(CL16:CQ16) -> 0 | CY16: =SUM(CS16:CX16) -> 0 | DF16: =SUM(CZ16:DE16) -> 0 | DM16: =SUM(DG16:DL16) -> 0 | DN16: =SUM(CL16,CS16,CZ16,DG16) -> 0 | DO16: =SUM(CM16,CT16,DA16,DH16) -> 0 | DP16: =SUM(CN16,CU16,DB16,DI16) -> 0 | DQ16: =SUM(CO16,CV16,DC16,DJ16) -> 0 | DR16: =SUM(CP16,CW16,DD16,DK16) -> 0 | DS16: =SUM(CQ16,CX16,DE16,DL16) -> 0 | DT16: =SUM(DN16:DS16) -> 0 | DZ16: =SUM(DU16:DY16) -> 0 | EF16: =SUM(EA16:EE16) -> 0 | EL16: =SUM(EG16:EK16) -> 0 | ER16: =SUM(EM16:EQ16) -> 0 | EX16: =SUM(ES16:EW16) -> 0 | FD16: =SUM(EY16:FC16) -> 0 | FJ16: =SUM(FE16:FI16) -> 0 | FK16: =SUM(DU16,EA16,EG16,EM16,ES16,EY16,FE16) -> 0 | FL16: =SUM(DV16,EB16,EH16,EN16,ET16,EZ16,FF16) -> 0 | FM16: =SUM(DW16,EC16,EI16,EO16,EU16,FA16,FG16) -> 0 | FN16: =SUM(DX16,ED16,EJ16,EP16,EV16,FB16,FH16) -> 0 | FO16: =SUM(DY16,EE16,EK16,EQ16,EW16,FC16,FI16) -> 0 | FP16: =SUM(FK16:FO16) -> 0 | FV16: =SUM(FQ16:FU16) -> 0 | FX16: 165.11839 | FZ16: 3 | GB16: =SUM(FW16:GA16) -> 168.11839 | GH16: =SUM(GC16:GG16) -> 0 | GN16: =SUM(GI16:GM16) -> 0 | GO16: 62.672313 | GR16: 0.5 | GT16: =SUM(GO16:GS16) -> 63.172313 | GZ16: =SUM(GU16:GY16) -> 0 | HF16: =SUM(HA16:HE16) -> 0 | HL16: =SUM(HG16:HK16) -> 0 | HM16: =SUM(FQ16,FW16,GC16,GI16,GO16,GU16,HA16,HG16) -> 62.672313 | HN16: =SUM(FR16,FX16,GD16,GJ16,GP16,GV16,HB16,HH16) -> 165.11839 | HO16: =SUM(HI16,HC16,GW16,GQ16,GK16,GE16,FY16,FS16) -> 0 | HP16: =SUM(HJ16,HD16,GX16,GR16,GL16,GF16,FZ16,FT16) -> 3.5 | HQ16: =SUM(HK16,HE16,GY16,GS16,GM16,GG16,GA16,FU16) -> 0 | HR16: =SUM(HM16:HQ16) -> 231.29071 | HS16: 182.36252 | HT16: 163.22684 | HV16: 1 | HX16: =SUM(HS16:HW16) -> 346.58936 | ID16: =SUM(HY16:IC16) -> 0 | IE16: 299.79925 | IF16: 101.37397 | IG16: 23.161472 | IH16: 1.5 | IJ16: =SUM(IE16:II16) -> 425.83469 | IK16: =SUM(HS16,HY16,IE16) -> 482.16177 | IL16: =SUM(HT16,HZ16,IF16) -> 264.60081 | IM16: =SUM(HU16,IA16,IG16) -> 23.161472 | IN16: =SUM(HV16,IB16,IH16) -> 2.5 | IO16: =SUM(HW16,IC16,II16) -> 0 | IP16: =SUM(IK16:IO16) -> 772.42405 | IQ16: 118.75354 | IR16: 84.127683 | IT16: 59.838874 | IV16: =SUM(IQ16:IU16) -> 262.7201 | IY16: 74.591264 | JB16: =SUM(IW16:JA16) -> 74.591264 | JD16: 42.864654 | JH16: =SUM(JC16:JG16) -> 42.864654 | JI16: =SUM(IQ16,IW16,JC16) -> 118.75354 | JJ16: =SUM(IR16,IX16,JD16) -> 126.99234 | JK16: =SUM(IS16,IY16,JE16) -> 74.591264 | JL16: =SUM(IT16,IZ16,JF16) -> 59.838874 | JM16: =SUM(IU16,JA16,JG16) -> 0 | JN16: =SUM(JI16:JM16) -> 380.17601 | JP16: =SUM(T16,BE16,CE16,DN16,FK16,HM16,IK16,JI16) -> 663.58762 | JQ16: =SUM(U16,BF16,CF16,DO16,FL16,HN16,IL16,JJ16) -> 556.71154 | JR16: =SUM(V16,BG16,CG16,DP16,FM16,HO16,IM16,JK16) -> 97.752736 | JS16: =SUM(W16,BH16,CH16,DQ16,FN16,HP16,IN16,JL16) -> 65.838874 | JT16: =SUM(X16,BI16,CI16,DR16,FO16,HQ16,IO16,JM16) -> 0 | JU16: =SUM(DS16,BJ16,CJ16) -> 0 | JV16: =SUM(JP16:JU16) -> 1383.8908
